Workbook

Sheet MEL
A1: CONFEDERAÇÃO BRASILEIRA DE CICLISMO | I1: Campeonatos Estaduais 2017 | N1: VIII Volta Ciclistica do Pará - Belém - PA - 10 e 11/06/2017 | O1: Caminho dos Cristais - Curvelo - MG - 18/06/2017 | P1: Desafio de Ciclismo São Jose de Anchieta - Vitória - ES - 11/06/2017 | Q1: V Copa Amapa de Ciclismo - Macapá - AP - 04/06/2017 | R1: Troféu Oswaldo Marques - Altos - PI - 28/05/2017 | S1: Speed Racer Bike - Cariacica - ES - 21/05/2017 | T1: 1ª Copa Belém de Ciclismo - Belém - PA - 14/05/2017 | U1: SLZ Ilha Race - São Luis - MA - 14/05/2017 | V1: XXI GP de Ciclismo Israel de Freitas - Curiau - AP - 07/05/2017 | W1: Volta de Ciclismo de Passo Fundo - Passo Fundo - RS - 07/05/2017 | X1: GP Bahia de Ciclismo - Feira de Santana - BA - 07/05/2017 | Y1: 9º Desafio Internacional Serra do Tepequem - Amajari - RR - 06 e 07/05/2017 | Z1: 65ª Prova Ciclistica 1º de Maio - Indaiatuba - SP - 01/05/2017 | AA1: 29º GP de Nova Andradina - Nova Andradina - MS - 01/05/2017 | AB1: GP Caraguatatuba de Ciclismo - Caraguatatuba - SP - 30/04/2017 | AC1: Copa Hans Fischer - Pomerode - SC - 29 e 30/04/2017 | AD1: 4º Circuito Ducks Bike de Ciclismo - Patos - PB - 23/04/2017 | AE1: Prova Ciclistica da Inconfidencia Mineira - Senador Firmino - MG - 21/04/2017 | AF1: IX Copa SEEL de Ciclismo - Belém - PA - 16/04/2017 | AG1: Gran Cup Brasil de Ciclismo - Ubatuba - SP - 02/04/2017 | AH1: GP Cidade de Curitiba - Curitiba - PR - 02/04/2017 | AI1: Subida do Morro da Cruz - Florianópolis - SC - 26/03/2017 | AJ1: Copa Velho Chico - Januária - MG - 26/03/2017 | AK1: 9º Circuito Ciclístico Cidade de Aracaju - Aracaju - SE - 19/03/2017 | AL1: Volta do Ceará - Eusébio - CE - 17 a 19/03/2017 | AM1: 50º Circuito do Boa Vista - Joinvile - SC - 11 e 12/03/2017 | AN1: 8ª GP Mega 94 de Ciclismo - Campo Grande - MS - 05/03/2017 | AO1: GP Sesc Verão de Ciclismo - Sorocaba-SP - 19/02/2017 | AP1: Bike Fest Gaspar - Gaspar-SC - 19/02/2017 | AQ1: Torneio de Verão - Ilha Comprida-SP - 16 a 19/02/2017
A2: RANKING ESTRADA ELITE MASCULINO | E2: ='Data de Atualização'!$A$1 -> 42941
A3: POS | B3: LICENÇA | C3: CORREDOR | D3: CATEG | E3: EQUIPE | F3: FED | G3: PTOS | I3: CE | N3: 2B | O3: 5 | P3: 4 | Q3: 5 | R3: 4 | S3: 4 | T3: 4 | U3: 4 | V3: 4 | W3: 5 | X3: 4 | Y3: 3 | Z3: ELITE PRÓ/3 | AA3: 4 | AB3: 5 | AC3: 2B | AD3: 4 | AE3: 4 | AF3: 4 | AG3: 4 | AH3: 4 | AI3: 3 | AJ3: 5 | AK3: 4 | AL3: 2B | AM3: 4 | AN3: 4 | AO3: 4 | AP3: 5 | AQ3: 2B
A4: 1 | B4: 04.6604.07 | C4: ELTON PEDROZO DA SILVA | D4: MEL | E4: MEMORIAL / SANTOS / FUPES | F4: SP | G4: =SUM(I4:AQ4) -> 476 | R4: 25 | S4: 40 | T4: 35 | X4: 40 | Z4: 65 | AC4: 55 | AD4: 40 | AE4: 20 | AG4: 13 | AI4: 65 | AL4: 50 | AM4: 1 | AN4: 25 | AQ4: 2
A5: 2 | B5: 04.8783.08 | C5: ENDRIGO DA ROSA PEREIRA | D5: MEL | E5: ADI / INDAIATUBA SECRETARIA DE ESPORTES | F5: SP | G5: =SUM(I5:AQ5) -> 246 | W5: 10 | Z5: 130 | AE5: 35 | AI5: 40 | AQ5: 31
A6: 2 | B6: 26.790.04 | C6: ALEX FABIO COSTA CORREIA | D6: MEL | E6: TOPAZZA CYCLING CLUB | F6: AP | G6: =SUM(I6:AQ6) -> 246 | N6: 37 | Q6: 9 | R6: 35 | T6: 40 | V6: 40 | AF6: 25 | AL6: 60
A7: 3 | B7: 04.7198.07 | C7: CRISTIAN EGIDIO DA ROSA | D7: MEL | E7: SÃO FRANCISCO SAÚDE/KLABIN/SME RIBEIRÃO PRETO | F7: SP | G7: =SUM(I7:AQ7) -> 220 | P7: 35 | Z7: 30 | AE7: 40 | AH7: 40 | AI7: 35 | AO7: 40 | AR7: =SUM(I7:AP7) -> 220
A8: 4 | B8: 04.3879.05 | C8: ROBERTO PINHEIRO DA SILVA | D8: MEL | E8: SOUL BRASIL PROCYCLING TEAM | F8: SP | G8: =SUM(I8:AQ8) -> 207 | R8: 17 | Z8: 115 | AG8: 15 | AQ8: 60
A9: 5 | B9: 04.4104.05 | C9: MAURICIO BIELINSKI KNAPP | D9: MEL | E9: SÃO FRANCISCO SAÚDE/KLABIN/SME RIBEIRÃO PRETO | F9: SP | G9: =SUM(I9:AQ9) -> 193 | Z9: 105 | AE9: 13 | AH9: 30 | AI9: 25 | AM9: 11 | AO9: 9
A10: 6 | B10: 04.3650.05 | C10: ALAN VALENCIO MANIEZZO | D10: MEL | E10: SÃO FRANCISCO SAÚDE/KLABIN/SME RIBEIRÃO PRETO | F10: SP | G10: =SUM(I10:AQ10) -> 175 | Z10: 75 | AE10: 15 | AI10: 80 | AO10: 5
A11: 7 | B11: 26.6725.07 | C11: DANIEL SOUZA DOS SANTOS | D11: MEL | E11: TOPAZZA CYCLING CLUB | F11: AP | G11: =SUM(I11:AQ11) -> 165 | N11: 50 | Q11: 8 | T11: 30 | V11: 30 | AF11: 40 | AL11: 7
A12: 8 | B12: 04.9660.08 | C12: JOEL CANDIDO PRADO JUNIOR | D12: MEL | E12: MEMORIAL / SANTOS / FUPES | F12: SP | G12: =SUM(I12:AQ12) -> 130 | Z12: 15 | AG12: 30 | AM12: 30 | AQ12: 55
A13: 9 | B13: 07.1503.04 | C13: FABIELE DOS SANTOS MOTA | D13: MEL | E13: ES | F13: ES | G13: =SUM(I13:AQ13) -> 115 | P13: 20 | R13: 40 | AL13: 55
A14: 10 | B14: 04.9298.08 | C14: JOSIMAR OLIVEIRA DO SACRAMENTO | D14: MEL | E14: ECT/TAUBATÉ/TARUMÃ | F14: SP | G14: =SUM(I14:AQ14) -> 96 | Z14: 85 | AO14: 11
A15: 11 | B15: 04.3168.05 | C15: GLAUBER ALEXANDRE NASCIMENTO SILVA | D15: MEL | E15: GREEN BIKE/PIRACICABA | F15: SP | G15: =SUM(I15:AQ15) -> 95 | Z15: 95
A16: 12 | B16: 06.8184.08 | C16: MAICKE RENÊ MONTEIRO PEREIRA | D16: MEL | E16: TEAM UFF | F16: RJ | G16: =SUM(I16:AQ16) -> 85 | P16: 40 | AQ16: 45
A17: 13 | B17: 04.10721.09 | C17: FELIPPE DOS SANTOS PACANARO | D17: MEL | E17: MEMORIAL / SANTOS / FUPES | F17: SP | G17: =SUM(I17:AQ17) -> 83 | AM17: 13 | AN17: 40 | AQ17: 30
A18: 14 | B18: 26.2081.04 | C18: ANDRE GOMES PINHEIRO | D18: MEL | E18: TOPAZZA CYCLING CLUB | F18: AP | G18: =SUM(I18:AQ18) -> 80 | N18: 45 | T18: 25 | AL18: 10
A19: 15 | B19: 04.559.04 | C19: ARMANDO REIS DA COSTA CAMARGO FILHO | D19: MEL | E19: ADI / INDAIATUBA SECRETARIA DE ESPORTES | F19: SP | G19: =SUM(I19:AQ19) -> 78 | AE19: 11 | AM19: 17 | AQ19: 50
A20: 16 | B20: 04.6158.06 | C20: RODRIGO DO NASCIMENTO | D20: MEL | E20: SÃO FRANCISCO SAÚDE/KLABIN/SME RIBEIRÃO PRETO | F20: SP | G20: =SUM(I20:AQ20) -> 77 | Z20: 2 | AE20: 30 | AI20: 45
A21: 17 | B21: 08.18070.13 | C21: WALTER HENRIQUE SERROU PIMENTEL | D21: MEL | E21: ASSOCIAÇÃO ESPORTIVA ALTO GIRO | F21: MS | G21: =SUM(I21:AQ21) -> 75 | AA21: 35 | AN21: 20 | AQ21: 20
A22: 18 | B22: 06.11160.09 | C22: EMERSON DA SILVA SANTOS | D22: MEL | E22: TEAM UFF | F22: RJ | G22: =SUM(I22:AQ22) -> 65 | Z22: 11 | AE22: 17 | AQ22: 37
A23: 18 | B23: 09.3513.05 | C23: JOSE ERIBERTO MEDEIROS RODRIGUES | D23: MEL | E23: AVULSO | F23: GO | G23: =SUM(I23:AQ23) -> 65 | R23: 30 | AL23: 35
A24: 18 | B24: 06.11529.09 | C24: KACIO FONSECA DA SILVA FREITAS | D24: MEL | E24: TEAM UFF | F24: RJ | G24: =SUM(I24:AQ24) -> 65 | P24: 25 | AQ24: 40
A25: 19 | B25: 04.2833.05 | C25: MARCIO FERREIRA BIGAI | D25: MEL | E25: ECT/TAUBATÉ/TARUMÃ | F25: SP | G25: =SUM(I25:AQ25) -> 64 | Z25: 14 | AG25: 17 | AQ25: 33
A26: 20 | B26: 04.13959.11 | C26: LEANDRO DONIZETE DOS SANTOS | D26: MEL | E26: MEMORIAL / SANTOS / FUPES | F26: SP | G26: =SUM(I26:AQ26) -> 59 | AG26: 4 | AI26: 55
A27: 21 | B27: 04.3910.05 | C27: JEOVANE JUNIOR DE OLIVEIRA | D27: MEL | E27: SÃO FRANCISCO SAÚDE/KLABIN/SME RIBEIRÃO PRETO | F27: SP | G27: =SUM(I27:AQ27) -> 55 | AH27: 25 | AI27: 30
A28: 21 | B28: 28.8379.08 | C28: JUCÉLIO COSTA PEREIRA | D28: MEL | E28: HERBALIFE 24HOORS-DISTR.INDEPENDENTE | F28: RR | G28: =SUM(I28:AQ28) -> 55 | Y28: 55
A29: 22 | B29: 02.26830.15 | C29: GEOVANNI FRAZAO MAURICIO | D29: MEL | E29: APGF/SÃO JOSÉ | F29: SC | G29: =SUM(I29:AQ29) -> 48 | AC29: 37 | AI29: 3 | AP29: 8
A30: 23 | B30: 18.1916.04 | C30: MAURÍCIO CAMPOS LEÃO CARVALHO | D30: MEL | E30: MAURICIO LEAO | F30: CE | G30: =SUM(I30:AQ30) -> 45 | N30: 30 | AL30: 15
A31: 23 | B31: 22.9369.08 | C31: DAELSON SILVA DOS SANTOS | D31: MEL | E31: .U.C.P. - ASSOCIAÇÃO UNIÃO CICLÍSTICA DE PARAGOMINAS | F31: PA | G31: =SUM(I31:AQ31) -> 45 | N31: 31 | T31: 11 | AF31: 3
A32: 24 | B32: 04.4412.05 | C32: FLAVIO CARDOSO SANTOS | D32: MEL | E32: SOUL BRASIL PROCYCLING TEAM | F32: SP | G32: =SUM(I32:AQ32) -> 44 | AG32: 35 | AQ32: 9
A33: 25 | B33: 22.9383.08 | C33: AGEU FERREIRA DA SILVA FILHO | D33: MEL | E33: CLUBE AMAZÔNIA DE CICLISMO | F33: PA | G33: =SUM(I33:AQ33) -> 43 | N33: 20 | R33: 3 | AF33: 20
A34: 26 | B34: 03.14209.11 | C34: RAFFAEL DA SILVA SAFADI | D34: MEL | E34: AVULSO | F34: PR | G34: =SUM(I34:AQ34) -> 41 | W34: 6 | AM34: 35
A35: 27 | B35: 02.2749.05 | C35: NELSON CORREA JUNIOR | D35: MEL | E35: APROCICLI/PREF.MUN.DE CHAPECÓ/UNOCHAPECÓ | F35: SC | G35: =SUM(I35:AQ35) -> 40 | AC35: 40
A36: 27 | B36: 03.16046.12 | C36: THIAGO RODRIGUES DA SILVA | D36: MEL | E36: SMEL FOZ DO IGUAÇU | F36: PR | G36: =SUM(I36:AQ36) -> 40 | AA36: 40
A37: 27 | B37: 04.16227.12 | C37: MARCIO LOPES VICENTE | D37: MEL | E37: CABRAL BIKE SHOP RACING | F37: SP | G37: =SUM(I37:AQ37) -> 40 | Z37: 40
A38: 28 | B38: 03.26228.15 | C38: GREGORI FILLIPE ZICH BERTOLDI | D38: MEL | E38: CLUBE DATARO DE CICLISMO | F38: PR | G38: =SUM(I38:AQ38) -> 38 | AC38: 33 | AH38: 5
A39: 29 | B39: 02.1682.04 | C39: VALCEMAR JUSTINO DA SILVA | D39: MEL | E39: ORBEA DO BRASIL JOINVILLE | F39: SC | G39: =SUM(I39:AQ39) -> 37 | AC39: 31 | AP39: 6
A40: 30 | B40: 04.20397.13 | C40: MATHEUS CAVASANA ZOCAL | D40: MEL | E40: MEMORIAL / SANTOS / FUPES | F40: SP | G40: =SUM(I40:AQ40) -> 35 | AQ40: 35
...

Sheet FEL
A1: CONFEDERAÇÃO BRASILEIRA DE CICLISMO | I1: Campeonatos Estaduais 2017 | K1: VIII Volta Ciclistica do Pará - Belém - PA - 10 e 11/06/2017 | L1: Caminho dos Cristais - Curvelo - MG - 18.06.17 | M1: Desafio de Ciclismo São Jose de Anchieta - Vitoria - ES - 11.06.17 | N1: V Copa Amapa de Ciclismo - Amapa - AP - 04.06.17 | O1: Troféu Oswaldo Marques - Altos - PI - 28/05/2017 | P1: Speed Racer Bike - Cariacica - ESP - 21/05/2017 | Q1: 1ª Copa Belém de Ciclismo - Belém - PA - 14/05/2017 | R1: SLZ Ilha Race - São Luis - MA - 14/05/2017 | S1: GP Bahia de Ciclismo - Feira de Santana - BA - 07/05/2017 | T1: XXI GP de Ciclismo Israel de Freitas - Curiau - AP - 07/05/2017 | U1: 9º Desafio Internacional Serra do Tepequem - Amajari - RR - 06 e 07/05/2017 | V1: 65ª Prova Ciclistica 1º de Maio - Indaiatuba - SP - 01/05/2017 | W1: 29º GP de Nova Andradina - Nova Andradina - MS - 01/05/2017 | X1: Copa Hans Fischer - Pomerode - SC - 29 e 30/04/2017 | Y1: GP Feminino de São Carlos - São Carlos - SP - 23/04/2017 | Z1: Prova Ciclistica da Inconfidencia Mineira - Senador Firmino - MG - 21/04/2017 | AA1: IX Copa SEEL de Ciclismo - Belém - PA - 16/04/2017 | AB1: Gran Cup Brasil de Ciclismo - Ubatuba - SP - 02/04/2017 | AC1: GP Cidade de Curitiba - Curitiba - PR - 02/04/2017 | AD1: Subida do Morro da Cruz - Florianópolis - SC - 26/03/2017 | AE1: 9º Circuito Ciclístico Cidade de Aracaju - Aracaju - SE - 19/03/2017 | AF1: Volta do Ceará - Eusébio - CE - 17 a 19/03/2017 | AG1: 50º Circuito do Boa Vista - Joinvile - SC - 11 e 12/03/2017 | AH1: 8ª GP Mega 94 de Ciclismo - Campo Grande - MS - 05/03/2017 | AI1: GP Sesc Verão de Ciclismo - Sorocaba-SP - 19/02/2017 | AJ1: Bike Fest Gaspar - Gaspar-SC - 19/02/2017 | AK1: Torneio de Verão - Ilha Comprida-SP - 16 a 19/02/2017
A2: RANKING ESTRADA ELITE FEMININO | E2: ='Data de Atualização'!$A$1 -> 42941
A3: POS | B3: LICENÇA | C3: CORREDOR | D3: CATEG | E3: EQUIPE | F3: FED | G3: PTOS | I3: CE | K3: 2B | L3: 5 | M3: 4 | N3: 5 | O3: 4 | P3: 4 | Q3: 4 | R3: 4 | S3: 4 | T3: 4 | U3: 3 | V3: ELITE PRÓ/3 | W3: 4 | X3: 2B | Y3: 5 | Z3: 4 | AA3: 4 | AB3: 4 | AC3: 4 | AD3: 3 | AE3: 4 | AF3: 2B | AG3: 4 | AH3: 4 | AI3: 4 | AJ3: 5 | AK3: 2B
A4: 1 | B4: 04.3729.05 | C4: CAMILA COELHO FERREIRA | D4: FEL | E4: MEMORIAL / SANTOS / FUPES | F4: SP | G4: =SUM(I4:AK4) -> 280 | V4: 50 | X4: 35 | AC4: 40 | AD4: 65 | AG4: 35 | AK4: 55
A5: 2 | B5: 04.23615.14 | C5: TAISE MAIARA BENATO | D5: FEL | E5: MEMORIAL / SANTOS / FUPES | F5: SP | G5: =SUM(I5:AK5) -> 250 | V5: 35 | X5: 50 | AC5: 15 | AD5: 80 | AG5: 40 | AK5: 30
A6: 2 | B6: 26.22449.14 | C6: BRENDA VITORIA LOBATO SIMÕES | D6: FEL | E6: TOPAZZA CYCLING CLUB | F6: AP | G6: =SUM(I6:AK6) -> 250 | K6: 60 | N6: 5 | O6: 25 | Q6: 40 | T6: 20 | AA6: 40 | AF6: 60
A7: 3 | B7: 04.4098.05 | C7: ANA PAULA POLEGATCH | D7: FEL | E7: MEMORIAL / SANTOS / FUPES | F7: SP | G7: =SUM(I7:AK7) -> 177 | V7: 65 | Z7: 40 | AB7: 35 | AK7: 37
A8: 4 | B8: 02.29752.16 | C8: SYLVIA KREUGER | D8: FEL | E8: AVAI/FME FLORIANÓPOLIS/APGF | F8: SC | G8: =SUM(I8:AK8) -> 121.5 | X8: 55 | AD8: 55 | AG8: 7 | AJ8: 4.5
A9: 5 | B9: 02.21395.14 | C9: TAMIRES FANNY RADATZ | D9: FEL | E9: AVAI/FME FLORIANÓPOLIS/APGF | F9: SC | G9: =SUM(I9:AK9) -> 119 | X9: 60 | AD9: 35 | AG9: 20 | AJ9: 4
A10: 6 | B10: 22.29269.16 | C10: AMANDA BORGES DE SOUZA | D10: FEL | E10: A.U.C.P. - ASSOCIAÇÃO UNIÃO CICLÍSTICA DE PARAGOMINAS | F10: PA | G10: =SUM(I10:AK10) -> 110 | K10: 50 | Q10: 35 | AA10: 25
A11: 7 | B11: 02.27759.16 | C11: KAROLINE MARIECHEN MEYER | D11: FEL | E11: AVAI/FME FLORIANÓPOLIS/APGF | F11: SC | G11: =SUM(I11:AK11) -> 88 | X11: 45 | AD11: 25 | AG11: 13 | AJ11: 5 | AK11: ,
A12: 8 | B12: 04.17357.12 | C12: ADRIANA AZUMA LOBO | D12: FEL | E12: MEMORIAL / SANTOS / FUPES | F12: SP | G12: =SUM(I12:AK12) -> 85 | V12: 18 | X12: 37 | AB12: 15 | AK12: 15
A13: 8 | B13: 18.32481.17 | C13: THAIS MIKELLE COELHO LIMA | D13: FEL | E13: MAURICIO LEAO | F13: CE | G13: =SUM(I13:AK13) -> 85 | K13: 55 | O13: 30
A14: 9 | B14: 22.31487.17 | C14: TAIANA SILVA DE FREITAS | D14: FEL | E14: PEDAL ANANIN | F14: PA | G14: =SUM(I14:AK14) -> 70 | K14: 45 | Q14: 25
A15: 10 | B15: 18.22553.14 | C15: MARIA JANNIELE PEREIRA DOS REIS | D15: FEL | E15: CEARÁ BIKER | F15: CE | G15: =SUM(I15:AK15) -> 60 | O15: 20 | AF15: 40
A16: 11 | B16: 04.4087.05 | C16: VIVIANE LOURENÇO DOS SANTOS | D16: FEL | E16: FUNVIC BRASIL PROCYCLING / SÃO JOSÉ DOS CAMPOS | F16: SP | G16: =SUM(I16:AK16) -> 56 | O16: 35 | V16: 21
A17: 12 | B17: 04.7323.07 | C17: CRISTIANE PEREIRA DA SILVA | D17: FEL | E17: FUNVIC BRASIL PROCYCLING / SÃO JOSÉ DOS CAMPOS | F17: SP | G17: =SUM(I17:AK17) -> 49 | O17: 40 | V17: 9
A18: 13 | B18: 04.1660.04 | C18: LUCIENE FERREIRA DA SILVA | D18: FEL | E18: FUNVIC BRASIL PROCYCLING / SÃO JOSÉ DOS CAMPOS | F18: SP | G18: =SUM(I18:AK18) -> 45 | V18: 45
A19: 14 | B19: 25.30250.16 | C19: NAYME DAYANE MUNIZ FARIAS | D19: FEL | E19: AVULSO | F19: RR | G19: =SUM(I19:AK19) -> 40 | U19: 40
A20: 15 | B20: 08.25023.15 | C20: VIVIANE DA SILVA BARBOSA CESÁRIO | D20: FEL | E20: C.R.C. CLUBE RIOBRILHANTENSE DE CICLISMO | F20: MS | G20: =SUM(I20:AK20) -> 35 | W20: 15 | AH20: 20
A21: 15 | B21: 03.13258.10 | C21: ANA PAULA CASETTA | D21: FEL | E21: CLUBE MARINGAENSE DE CICLISMO | F21: PR | G21: =SUM(I21:AK21) -> 35 | AC21: 35
A22: 16 | B22: 04.31446.17 | C22: MARCELLA MAHFUZ TOLDI | D22: FEL | E22: 5WAYS TEAM / SÃO PAULO | F22: SP | G22: =SUM(I22:AK22) -> 33 | V22: 8 | AI22: 25
A23: 17 | B23: 28.7772.08 | C23: MARIA BETÂNIA PIMENTEL DOS SANTOS | D23: FEL | E23: PEDAL CABURAI | F23: RR | G23: =SUM(I23:AK23) -> 32.5 | U23: 32.5
A24: 18 | B24: 05.501.04 | C24: ROBERTA KELLY STOPA | D24: FEL | E24: STOPA TEAM | F24: MG | G24: =SUM(I24:AK24) -> 30 | Z24: 30
A25: 18 | B25: 04.6423.07 | C25: SILVIA AUGUSTA DA SILVA | D25: FEL | E25: LCS / SOROCABA | F25: SP | G25: =SUM(I25:AK25) -> 30 | V25: 30
A26: 18 | B26: 22.27222.15 | C26: CYNTIA RENATA GALVÃO LAMEIRA RAMOS | D26: FEL | E26: CLUBE AMAZÔNIA DE CICLISMO | F26: AP | G26: =SUM(I26:AK26) -> 30 | Q26: 30
A27: 18 | B27: 05.30452.16 | C27: PRISCILA BENICIO BRAGA | D27: FEL | E27: ACE/NEOBOX/VIANEZA/VALORES/CEMIL/APIS | F27: MG | G27: =SUM(I27:AK27) -> 30 | L27: 5 | Z27: 25
A28: 18 | B28: 07.32240.17 | C28: ANA CAROLINA PELICIONI DA SILVA | D28: FEL | E28: AVULSO | F28: ES | G28: =SUM(I28:AK28) -> 30 | M28: 15 | P28: 15
A29: 19 | B29: 04.16937.12 | C29: JÉSSICA APARECIDA DOS SANTOS BRAZ | D29: FEL | E29: TEAM SBC AUDAX / SÃO BERNARDO DO CAMPO | F29: SP | G29: =SUM(I29:AK29) -> 25 | V29: 25
A30: 20 | B30: 03.18429.13 | C30: PRISCILA REQUIÃO LESSA | D30: FEL | E30: AVULSO | F30: PR | G30: =SUM(I30:AK30) -> 22 | V30: 6 | AC30: 2 | AD30: 11 | AG30: 3
A31: 21 | B31: 22.9374.08 | C31: TASSYA PRISCILA COSTA BRASIL MORAES | D31: FEL | E31: CLUBE AMAZÔNIA DE CICLISMO | F31: PA | G31: =SUM(I31:AK31) -> 20 | AA31: 20
A32: 21 | B32: 12.30996.17 | C32: CAROLINE SANTOS DA SILVA | D32: FEL | E32: AVULSO | F32: BA | G32: =SUM(I32:AK32) -> 20 | S32: 20
A33: 21 | B33: 20.7490.07 | C33: IRISLENE DA SILVA | D33: FEL | E33: MOTO CLUBE DE SÃO LUIS | F33: MA | G33: =SUM(I33:AK33) -> 20 | R33: 20
A34: 21 | B34: 07.24921.15 | C34: CATHARINA FARIAS PETRONETTO | D34: FEL | E34: CAVEIRAS BIKE TEAM | F34: ES | G34: =SUM(I34:AK34) -> 20 | P34: 20
A35: 21 | B35: 04.1864.04 | C35: MAIRA HENDI DE MORAES BARBOSA | D35: FEL | E35: MEMORIAL / SANTOS / FUPES | F35: SP | G35: =SUM(I35:AK35) -> 20 | AF35: 20
A36: 21 | B36: 12.28526.16 | C36: GISLAINE CLARICE FLECK | D36: FEL | E36: AVULSO | F36: BA | G36: =SUM(I36:AK36) -> 20 | M36: 20
A37: 22 | B37: 07.20970.13 | C37: EUDETH POSSATTO FERREIRA VARGAS | D37: FEL | E37: CAVEIRAS BIKE TEAM | F37: ES | G37: =SUM(I37:AK37) -> 17.5 | P37: 17.5
A38: 22 | B38: 06.28700.16 | C38: JANIS CORDEIRO DE PINHO PAES | D38: FEL | E38: EQUIPE LUCIA ARANHA | F38: RJ | G38: =SUM(I38:AK38) -> 17.5 | M38: 17.5
A39: 23 | B39: 04.31828.17 | C39: ERIKA SOARES CORREA | D39: FEL | E39: 5WAYS TEAM / SÃO PAULO | F39: SP | G39: =SUM(I39:AK39) -> 17 | AI39: 17
A40: 24 | B40: 04.32058.17 | C40: PATRICIA RIBEIRO DA POS | D40: FEL | E40: AJEP / TIME JUNDIAÍ / FIRSTBIKES / NEW MILLEN / ISOTECH / DK | F40: SP | G40: =SUM(I40:AK40) -> 15 | V40: 15
...

Sheet M23
A1: CONFEDERAÇÃO BRASILEIRA DE CICLISMO | I1: Campeonatos Estaduais 2017 | K1: VIII Volta Ciclistica do Pará - Belém - PA - 10 e 11/06/2017 | L1: Caminho dos Cristais - Curvelo - MG - 18/06/2017 | M1: Desafio de Ciclismo São Jose de Anchieta - Vitória - ES - 11/06/2017 | N1: V Copa Amapa de Ciclismo - Amapá - AP - 04/06/2017 | O1: Troféu Oswaldo Marques - Altos - PI - 28/05/2017 | P1: Speed Racer Bike - Cariacica - ESP - 21/05/2017 | Q1: 1ª Copa Belém de Ciclismo - Belém - PA - 14/05/2017 | R1: SLZ Ilha Race - São Luis - MA - 14/05/2017 | S1: XXI GP de Ciclismo Israel de Freitas - Curiau - AP - 07/05/2017 | T1: Volta de Ciclismo de Passo Fundo - Passo Fundo - RS - 07/05/2017 | U1: 9º Desafio Internacional Serra do Tepequem - Amajari - RR - 06 e 07/05/2017 | V1: 65ª Prova Ciclistica 1º de Maio - Indaiatuba - SP - 01/05/2017 | W1: 29º GP de Nova Andradina - Nova Andradina - MS - 01/05/2017 | X1: Copa Hans Fischer - Pomerode - SC - 29 e 30/04/2017 | Y1: 4º Circuito Ducks Bike de Ciclismo - Patos - PB - 23/04/2017 | Z1: Prova Ciclistica da Inconfidencia Mineira - Senador Firmino - MG - 21/04/2017 | AA1: IX Copa SEEL de Ciclismo - Belém - PA - 16/04/2017 | AB1: Gran Cup Brasil de Ciclismo - Ubatuba - SP - 02/04/2017 | AC1: GP Cidade de Curitiba - Curitiba - PR - 02/04/2017 | AD1: Subida do Morro da Cruz - Florianópolis - SC - 26/03/2017 | AE1: Copa Velho Chico - Januária - MG - 26/03/2017 | AF1: 9º Circuito Ciclístico Cidade de Aracaju - Aracaju - SE - 19/03/2017 | AG1: Volta do Ceará - Eusébio - CE - 17 a 19/03/2017 | AH1: 50º Circuito do Boa Vista - Joinvile - SC - 11 e 12/03/2017 | AI1: 8ª GP Mega 94 de Ciclismo - Campo Grande - MS - 05/03/2017 | AJ1: GP Sesc Verão de Ciclismo - Sorocaba-SP - 19/02/2017 | AK1: Bike Fest Gaspar - Gaspar-SC - 19/02/2017 | AL1: Torneio de Verão - Ilha Comprida-SP - 16 a 19/02/2017
A2: RANKING ESTRADA SUB 23 MASCULINO | E2: ='Data de Atualização'!$A$1 -> 42941
A3: POS | B3: LICENÇA | C3: CORREDOR | D3: CATEG | E3: EQUIPE | F3: FED | G3: PTOS | I3: CE | K3: 2B | L3: 5 | M3: 4 | N3: 5 | O3: 4 | P3: 4 | Q3: 4 | R3: 4 | S3: 4 | T3: 5 | U3: 3 | V3: ELITE PRÓ/3 | W3: 4 | X3: 2B | Y3: 4 | Z3: 4 | AA3: 4 | AB3: 4 | AC3: 4 | AD3: 3 | AE3: 5 | AF3: 4 | AG3: 2B | AH3: 4 | AI3: 4 | AJ3: 4 | AK3: 5 | AL3: 2B
A4: 1 | B4: 26.11530.09 | C4: LUCAS GABRIEL MAIA TAVARES | D4: MS23 | E4: TOPAZZA CYCLING CLUB | F4: AP | G4: =SUM(I4:AL4) -> 198 | K4: 55 | N4: 10 | O4: 11 | Q4: 17 | S4: 35 | W4: 35 | AA4: 35
A5: 2 | B5: 26.9828.10 | C5: KAIK FELIPH DA SILVA | D5: MS23 | E5: TOPAZZA CYCLING CLUB | F5: AP | G5: =SUM(I5:AL5) -> 150 | K5: 35 | N5: 6 | O5: 13 | Q5: 20 | S5: 25 | W5: 25 | AA5: 17 | AG5: 9
A6: 3 | B6: 22.28038.16 | C6: LUCAS JOSÉ SOUZA FERREIRA | D6: MS23 | E6: CLUBE AMAZÔNIA DE CICLISMO | F6: PA | G6: =SUM(I6:AL6) -> 125 | K6: 60 | U6: 65
A7: 4 | B7: 04.11284.09 | C7: CAIO GODOY ORMENESE | D7: MS23 | E7: SOUL BRASIL PRO CYCLING TEAM | F7: SP | G7: =SUM(I7:AL7) -> 95 | V7: 55 | AB7: 40
A8: 5 | B8: 04.7991.09 | C8: ANDRÉ EDUARDO GOHR | D8: MS23 | E8: BRUCICLE - ASSOCIAÇÃO BRUSQUENSE DE CICLISMO | F8: SP | G8: =SUM(I8:AL8) -> 91 | X8: 60 | AD8: 21 | AK8: 10 | AL8: ,
A9: 6 | B9: 22.21530.14 | C9: OTAVIO HENRIQUE DOS SANTOS CORREA | D9: MS23 | E9: CLUBE AMAZÔNIA DE CICLISMO | F9: PA | G9: =SUM(I9:AL9) -> 77 | K9: 40 | Q9: 7 | AA9: 30
A10: 7 | B10: 04.13473.11 | C10: BRENO MORAIS SANTOS | D10: MS23 | E10: SOUL BRASIL PROCYCLING TEAM | F10: SP | G10: =SUM(I10:AL10) -> 70 | V10: 5 | AF10: 40 | AL10: 25
A11: 8 | B11: 03.18915.13 | C11: SAMUEL HAUANE REIKDAL STACHERA | D11: MS23 | E11: CLUBE DE CICLISMO SO PEDAL | F11: PR | G11: =SUM(I11:AL11) -> 50 | V11: 1 | X11: 45 | AH11: 4
A12: 8 | B12: 04.19296.13 | C12: LEONARDO DA SILVA CIANDRINI | D12: MS23 | E12: LCS / SOROCABA | F12: SP | G12: =SUM(I12:AL12) -> 50 | V12: 50
A13: 8 | B13: 04.14374.11 | C13: LUIS FERNANDO GOMES TREVISAN | D13: MS23 | E13: SÃO FRANCISCO SAÚDE/KLABIN/SME RIBEIRÃO PRETO | F13: SP | G13: =SUM(I13:AL13) -> 50 | M13: 30 | AC13: 20
A14: 9 | B14: 26.16568.12 | C14: ARNOM DOUGLAS DA COSTA LOBATO | D14: MS23 | E14: TOPAZZA CYCLING CLUB | F14: AP | G14: =SUM(I14:AL14) -> 48 | K14: 5 | O14: 3 | Q14: 9 | W14: 20 | AA14: 11
A15: 10 | B15: 04.7980.09 | C15: LUCAS RIBEIRO MOTTA | D15: MS23 | E15: SÃO FRANCISCO SAÚDE/KLABIN/SME RIBEIRÃO PRETO | F15: SP | G15: =SUM(I15:AL15) -> 47 | M15: 15 | V15: 7 | Z15: 25
A16: 11 | B16: 28.27928.16 | C16: GABRIEL BEKMAN PORTELA | D16: MS23 | E16: COIOTES RORAIMA | F16: RR | G16: =SUM(I16:AL16) -> 40 | U16: 40
A17: 11 | B17: 20.28992.16 | C17: JESSE SANTOS CARVALHO | D17: MS23 | E17: MOTO CLUBE DE SÃO LUIS | F17: MA | G17: =SUM(I17:AL17) -> 40 | R17: 40
A18: 12 | B18: 04.13550.11 | C18: CAIO FERNANDO DE SANTANA MESQUITA | D18: MS23 | E18: MEMORIAL / SANTOS / FUPES | F18: SP | G18: =SUM(I18:AL18) -> 36 | AB18: 3 | AG18: 33
A19: 23 | B19: 13.12372.10 | C19: VICTOR FERNANDES SILVA LIMA DE SOUZA | D19: MS23 | E19: AVULSO | F19: SE | G19: =SUM(I19:AL19) -> 35 | AF19: 35
A20: 13 | B20: 03.14613.11 | C20: FABIO PEREIRA DALAMARIA | D20: MS23 | E20: CLUBE DE CICLISMO SO PEDAL | F20: PR | G20: =SUM(I20:AL20) -> 35 | AC20: 35
A21: 14 | B21: 04.14377.11 | C21: VITOR FERNANDES DA FONSECA | D21: MS23 | E21: ECT/TAUBATÉ/TARUMÃ | F21: SP | G21: =SUM(I21:AL21) -> 30 | AJ21: 30
A22: 14 | B22: 04.19629.13 | C22: WASHINGTON RODRIGUES CARVALHO | D22: MS23 | E22: MEMORIAL / SANTOS / FUPES | F22: SP | G22: =SUM(I22:AL22) -> 30 | X22: 30
A23: 14 | B23: 07.24675.15 | C23: MARCOS VINICIUS WESTPHAL DE OLIVEIRA | D23: MS23 | E23: CAVEIRAS BIKE TEAM | F23: ES | G23: =SUM(I23:AL23) -> 30 | P23: 30
A24: 15 | B24: 07.32323.17 | C24: EDUARDO BONOMO GUIMARÃES | D24: MS23 | E24: BIKE LEITE | F24: ES | G24: =SUM(I24:AL24) -> 29 | M24: 9 | P24: 20
A25: 16 | B25: 04.18931.13 | C25: VICTOR CESAR RANGHETTI | D25: MS23 | E25: SOUL BRASIL PROCYCLING TEAM | F25: PR | G25: =SUM(I25:AL25) -> 26 | V25: 9 | AC25: 7 | AD25: 9 | AL25: 1
A26: 17 | B26: 04.18952.13 | C26: MURILO HENRIQUE STAHLBERG MATOS | D26: MS23 | E26: ABEC / RIO CLARO | F26: SP | G26: =SUM(I26:AL26) -> 25 | AJ26: 25
A27: 18 | B27: 28.22738.14 | C27: ALEX HONORATO DE SOUZA | D27: MS23 | E27: TEPUY BIKE TEAM | F27: RR | G27: =SUM(I27:AL27) -> 21 | U27: 21
A28: 19 | B28: 03.25081.15 | C28: LUIS GABRIEL ASSUNÇÃO | D28: MS23 | E28: CLUBE CICLÍSTICO ARAPONGUENSE | F28: PR | G28: =SUM(I28:AL28) -> 20 | W28: 20
A29: 19 | B29: 04.25990.15 | C29: GABRIEL MACHADO DA SILVA | D29: MS23 | E29: SOUL BRASIL PRO CYCLING TEAM | F29: SP | G29: =SUM(I29:AL29) -> 20 | V29: 20
A30: 19 | B30: 06.11640.09 | C30: VITOR DEMIAN DA FONSECA FARINA E SILVA | D30: MS23 | E30: TEAM UFF | F30: RJ | G30: =SUM(I30:AL30) -> 20 | M30: 17 | AL30: 3
A31: 20 | B31: 04.14939.11 | C31: JOÃO GABRIEL LISBOA FERREIRA BASTOS | D31: MS23 | E31: MEMORIAL / SANTOS / FUPES | F31: SP | G31: =SUM(I31:AL31) -> 19 | AD31: 2 | AG31: 2 | AI31: 15
A32: 21 | B32: 05.23669.14 | C32: RAFAEL AUGUSTO DE PAULA BRAGA | D32: MS23 | E32: ACE/NEOBOX/VIANEZA/VALORES/CEMIL/APIS | F32: MG | G32: =SUM(I32:AL32) -> 18.5 | L32: 10 | V32: 4 | AE32: 4.5
A33: 22 | B33: 26.22439.14 | C33: ROBERT ALAIN VERCELLINO | D33: MS23 | E33: SOCIEDADE ESPORTIVA E RECREATIVA CREATIVO/EQUIPE CICLISMO R | F33: AP | G33: =SUM(I33:AL33) -> 17 | Q33: 2 | AA33: 15
A34: 23 | B34: 02.21983.14 | C34: RAFAEL GORGES | D34: MS23 | E34: CYCLING TEAM PEDALA ITAPEMA/PREF.DE ITAPEMA/PPS DISTRIBUIDOR | F34: SC | G34: =SUM(I34:AL34) -> 15 | X34: 15
A35: 23 | B35: 01.18554.13 | C35: GILSON CASTRO FILHO | D35: MS23 | E35: APUANA TEAM (ACIL ASSOCIAÇÃO CICLISMO LOMBA GRANDE ) | F35: RS | G35: =SUM(I35:AL35) -> 15 | T35: 9 | AD35: 6
A36: 23 | B36: 08.9326.10 | C36: NICOLAS AZAMBUJA RODRIGUES | D36: MS23 | E36: ASSOCIAÇÃO MODELO DOURADENSE DE CICLISMO | F36: MS | G36: =SUM(I36:AL36) -> 15 | W36: 15
A37: 24 | B37: 01.23398.14 | C37: ATILLIO PINNO FETTER | D37: MS23 | E37: APUANA TEAM (ACIL ASSOCIAÇÃO CICLISMO LOMBA GRANDE ) | F37: RS | G37: =SUM(I37:AL37) -> 13 | AD37: 13
A38: 24 | B38: 08.16213.12 | C38: VINICIUS DA SILVA SANTOS | D38: MS23 | E38: ASSOCIAÇÃO MODELO DOURADENSE DE CICLISMO | F38: MS | G38: =SUM(I38:AL38) -> 13 | W38: 13
A39: 24 | B39: 30.10699.10 | C39: ALESSANDRO FERREIRA SANTOS GUIMARAES | D39: MS23 | E39: ITALOMAT - DOGO | F39: SP | G39: =SUM(I39:AL39) -> 13 | V39: 13
A40: 25 | B40: 07.18327.13 | C40: IGOR HAASE PIMENTEL | D40: MS23 | E40: UNIAO CICLISTICA DO RIO DE JANEIRO | F40: ES | G40: =SUM(I40:AL40) -> 11 | M40: 11
...

Sheet F23
A1: CONFEDERAÇÃO BRASILEIRA DE CICLISMO | I1: Campeonatos Estaduais 2017 | J1: VIII Volta Ciclistica do Pará - Belém - PA - 10 e 11/06/2017 | K1: 1ª Copa Belém de Ciclismo - Belém - PA - 14/05/2017 | L1: XXI GP de Ciclismo Israel de Freitas - Curiau - AP - 07/05/2017 | M1: 65ª Prova Ciclistica 1º de Maio - Indaiatuba - SP - 01/05/2017 | N1: 29º GP de Nova Andradina - Nova Andradina - MS - 01/05/2017 | O1: Copa Hans Fischer - Pomerode - SC - 29 e 30/04/2017 | P1: GP Feminino de São Carlos - São Carlos - SP - 23/04/2017 | Q1: 4º Circuito Ducks Bike de Ciclismo - Patos - PB - 23/04/2017 | R1: Prova Ciclistica da Inconfidencia Mineira - Senador Firmino - MG - 21/04/2017 | S1: IX Copa SEEL de Ciclismo - Belém - PA - 16/04/2017 | T1: GP Cidade de Curitiba - Curitiba - PR - 02/04/2017 | U1: Subida do Morro da Cruz - Florianópolis - SC - 26/03/2017 | V1: 9º Circuito Ciclístico Cidade de Aracaju - Aracaju - SE - 19/03/2017 | W1: Volta do Ceará - Eusébio - CE - 17 a 19/03/2017 | X1: 50º Circuito do Boa Vista - Joinvile - SC - 11 e 12/03/2017 | Y1: 8ª GP Mega 94 de Ciclismo - Campo Grande - MS - 05/03/2017 | Z1: GP Sesc Verão de Ciclismo - Sorocaba-SP - 19/02/2017 | AA1: Bike Fest Gaspar - Gaspar-SC - 19/02/2017 | AB1: Torneio de Verão - Ilha Comprida-SP - 16 a 19/02/2017
A2: RANKING ESTRADA SUB 23 FEMININO | E2: ='Data de Atualização'!$A$1 -> 42941
A3: POS | B3: LICENÇA | C3: CORREDOR | D3: CATEG | E3: EQUIPE | F3: FED | G3: PTOS | I3: CE | J3: 2B | K3: 4 | L3: 4 | M3: ELITE PRÓ/3 | N3: 4 | O3: 2B | P3: 5 | Q3: 4 | R3: 4 | S3: 4 | T3: 4 | U3: 3 | V3: 4 | W3: 2B | X3: 4 | Y3: 4 | Z3: 4 | AA3: 5 | AB3: 2B
A4: 1 | B4: 02.18826.13 | C4: LETICIA ALANA GOEDE | D4: FS23 | E4: BRUCICLE - ASSOCIAÇÃO BRUSQUENSE DE CICLISMO | F4: SC | G4: =SUM(I4:AB4) -> 163 | O4: 40 | T4: 25 | U4: 50 | X4: 17 | AB4: 31
A5: 2 | B5: 03.12717.10 | C5: TALITA DA LUZ DE OLIVEIRA | D5: FS23 | E5: LIGA DE CICLISMO CAMPOS GERAIS | F5: PR | G5: =SUM(I5:AB5) -> 106 | O5: 33 | T5: 30 | U5: 18 | X5: 25
A6: 3 | B6: 04.10495.10 | C6: THAYNÁ ARAUJO DE LIMA | D6: FS23 | E6: MEMORIAL / SANTOS / FUPES | F6: SP | G6: =SUM(I6:AB6) -> 87 | M6: 40 | P6: 7 | AB6: 40
A7: 4 | B7: 04.10513.10 | C7: WELLYDA REGISLEYNE DOS SANTOS RODRIGUES | D7: FS23 | E7: FUNVIC BRASIL PROCYCLING / SÃO JOSÉ DOS CAMPOS | F7: SP | G7: =SUM(I7:AB7) -> 80 | M7: 80
A8: 5 | B8: 22.32028.17 | C8: ADRIANA ALVES VALE | D8: FS23 | E8: CLUBE AMAZÔNIA DE CICLISMO | F8: PA | G8: =SUM(I8:AB8) -> 65 | J8: 37 | K8: 11 | L8: 15 | S8: 2
A9: 6 | B9: 02.16847.12 | C9: LIGIA MILANEZ VENTURINI | D9: FS23 | E9: BIKE POINT/FME CRICIÚMA | F9: SC | G9: =SUM(I9:AB9) -> 57 | O9: 31 | U9: 13 | X9: 4 | AB9: 9
A10: 7 | B10: 04.16265.12 | C10: LARISSA CASTELARI DE LIMA | D10: FS23 | E10: AVULSO | F10: SP | G10: =SUM(I10:AB10) -> 55 | U10: 40 | X10: 15
A11: 7 | B11: 04.8423.08 | C11: TATIELLE VALADARES DE SOUZA | D11: FS23 | E11: FUNVIC BRASIL PROCYCLING / SÃO JOSÉ DOS CAMPOS | F11: SP | G11: =SUM(I11:AB11) -> 55 | M11: 55
A12: 8 | B12: 05.20300.13 | C12: KAREN FERNANDES OLIMPIO | D12: FS23 | E12: ISAPA/OGGI | F12: MG | G12: =SUM(I12:AB12) -> 35 | R12: 35
A13: 9 | B13: 03.30006.16 | C13: REBECCA FANECO PAVANELO | D13: FS23 | E13: CLUBE CICLISTICO ARAPONGUENSE | F13: PR | G13: =SUM(I13:AB13) -> 30 | N13: 30
A14: 10 | B14: 13.23849.15 | C14: MICAELA NASCIMENTO LIMA | D14: FS23 | E14: AVULSO | F14: SE | G14: =SUM(I14:AB14) -> 20 | V14: 20
A15: 10 | B15: 16.32122.17 | C15: LIDYA NERES GOMES | D15: FS23 | E15: DUCK´S BIKE | F15: PB | G15: =SUM(I15:AB15) -> 20 | Q15: 20
A16: 10 | B16: 03.25077.15 | C16: BEATRIZ NASCIMENTO BATISTA | D16: FS23 | E16: CLUBE MARINGAENSE DE CICLISMO | F16: PR | G16: =SUM(I16:AB16) -> 20 | N16: 20
A17: 11 | B17: 13.18139.13 | C17: ANA GESSICA DOS SANTOS GOMES | D17: FS23 | E17: AVULSO | F17: SE | G17: =SUM(I17:AB17) -> 17 | V17: 17
A18: 12 | B18: 03.22643.14 | C18: GABRIELA MUNHOZ DA ROCHA DE PADUA | D18: FS23 | E18: CLUBE DE CICLISMO SO PEDAL | F18: PR | G18: =SUM(I18:AB18) -> 10 | T18: 1 | U18: 9
A19: 13 | B19: 04.30191.16 | C19: ADRIELE ALVES MENDES | D19: FS23 | E19: ECT/TAUBATÉ/TARUMÃ | F19: SP | G19: =SUM(I19:AB19) -> 9 | P19: 9
A20: 14 | B20: 03.16065.12 | C20: KARINA TATCHEVA SILVA | D20: FS23 | E20: PREFEITURA MUNICIPAL DE ROLÂNDIA | F20: PR | G20: =SUM(I20:AB20) -> 6 | P20: 6
A21: 15 | B21: 04.15733.12 | C21: ISABELA SILVA LUZ | D21: FS23 | E21: MEMORIAL / SANTOS / FUPES | F21: SP | G21: =SUM(I21:AB21) -> 5 | Z21: 5
D22: FS23 | G22: =SUM(I22:AB22) -> 0
D23: FS23 | G23: =SUM(I23:AB23) -> 0
D24: FS23 | G24: =SUM(I24:AB24) -> 0
D25: FS23 | G25: =SUM(I25:AB25) -> 0
D26: FS23 | G26: =SUM(I26:AB26) -> 0
D27: FS23 | G27: =SUM(I27:AB27) -> 0

Sheet MFEM
A1: CONFEDERAÇÃO BRASILEIRA DE CICLISMO | I1: Campeonatos Estaduais 2017 | J1: Troféu Oswaldo Marques - Altos - PI - 28/05/2017 | K1: Speed Racer Bike - Cariacica - ESP - 21/05/2017 | O1: VIII Volta Ciclistica do Pará - Belém - PA - 10 e 11/06/2017 | P1: Caminho dos Cristais - Curvelo - MG - 18/06/2017 | Q1: Desafio de Ciclismo São Jose de Anchieta - Vitória - ES - 11/06/2017 | R1: V Copa Amapa de Ciclismo - Amapa - AP - 04/06/2017 | S1: Volta de Ciclismo de Passo Fundo - Passo Fundo - RS - 07/05/2017 | T1: 9º Desafio Internacional Serra do Tepequem - Amajari - RR - 06 e 07/05/2017 | U1: 65ª Prova Ciclistica 1º de Maio - Indaiatuba - SP - 01/05/2017 | V1: 29º GP de Nova Andradina - Nova Andradina - MS - 01/05/2017 | W1: Copa Hans Fischer - Pomerode - SC - 29 e 30/04/2017 | X1: Prova Ciclistica da Inconfidencia Mineira - Senador Firmino - MG - 21/04/2017 | Y1: IX Copa SEEL de Ciclismo - Belém - PA - 16/04/2017 | Z1: GP Cidade de Curitiba - Curitiba - PR - 02/04/2017 | AA1: Subida do Morro da Cruz - Florianópolis - SC - 26/03/2017 | AB1: 9º Circuito Ciclístico Cidade de Aracaju - Aracaju - SE - 19/03/2017 | AC1: Volta do Ceará - Eusébio - CE - 17 a 19/03/2017 | AD1: 50º Circuito do Boa Vista - Joinvile - SC - 11 e 12/03/2017 | AE1: 8ª GP Mega 94 de Ciclismo - Campo Grande - MS - 05/03/2017 | AF1: Bike Fest Gaspar - Gaspar-SC - 19/02/2017 | AG1: Torneio de Verão - Ilha Comprida-SP - 16 a 19/02/2017
A2: RANKING ESTRADA MASTER FEMININO | E2: ='Data de Atualização'!$A$1 -> 42941
A3: POS | B3: LICENÇA | C3: CORREDOR | D3: CATEG | E3: EQUIPE | F3: FED | G3: PTOS | I3: CE | J3: 4 | K3: 4 | O3: 2B | P3: 5 | Q3: 4 | R3: 5 | S3: 5 | T3: 3 | U3: ELITE PRÓ/3 | V3: 4 | W3: 2B | X3: 4 | Y3: 4 | Z3: 4 | AA3: 3 | AB3: 4 | AC3: 2B | AD3: 4 | AE3: 4 | AF3: 5 | AG3: 2B
A4: 1 | B4: 04.28813.16 | C4: CINTHIA VIDAL MARQUES DE ALMEIDA | D4: MFEM | E4: ADI / INDAIATUBA SECRETARIA DE ESPORTES | F4: SP | G4: =SUM(I4:AG4) -> 88 | U4: 80 | V4: 8
A5: 2 | B5: 28.8409.08 | C5: ALISSIANE TOBIAS DA SILVA | D5: MFEM | E5: AVULSO | F5: RR | G5: =SUM(I5:AG5) -> 80 | T5: 80
A6: 3 | B6: 02.31519.17 | C6: SILVANA CARDOSO FARIAS DE ALCANTARA | D6: MFEM | E6: AVULSO | F6: SC | G6: =SUM(I6:AG6) -> 75.5 | AA6: 27.5 | AD6: 40 | AF6: 4 | AG6: 4
A7: 4 | B7: 03.29296.16 | C7: KELLYN CAROLINE CUMIN | D7: MFEM | E7: AVULSO | F7: PR | G7: =SUM(I7:AG7) -> 75 | Z7: 40 | AD7: 35
A8: 5 | B8: 04.28964.16 | C8: KARINA DAS NEVES CAMARGO DEL PICCHIA | D8: MFEM | E8: AVULSO | F8: SP | G8: =SUM(I8:AG8) -> 70 | U8: 65 | V8: 5
A9: 6 | B9: 28.24521.15 | C9: FABIANE KARLA ALMEIDA VIANA | D9: MFEM | E9: PEDAL CABURAI | F9: RR | G9: =SUM(I9:AG9) -> 65 | T9: 65
A10: 6 | B10: 06.30881.17 | C10: GELMA GEAN TARGINO SIQUEIRA | D10: MFEM | E10: UNIÃO CICLÍSTICA DO RIO DE JANEIRO | F10: RJ | G10: =SUM(I10:AG10) -> 65 | Q10: 15 | U10: 50
A11: 7 | B11: 02.10527.09 | C11: KARINA RODRIGUES DE SOUSA | D11: MFEM | E11: AVULSO | F11: SC | G11: =SUM(I11:AG11) -> 62.5 | AA11: 32.5 | AD11: 30
A12: 7 | B12: 02.10363.09 | C12: KATIA PEREIRA DE MELLO BREDOW | D12: MFEM | E12: EBA ALARMES MONITORADOS | F12: SC | G12: =SUM(I12:AG12) -> 62.5 | W12: 25 | Z12: 17 | AD12: 17 | AF12: 3.5
A13: 8 | B13: 12.23718.14 | C13: ANA CLARA SOUZA PIE | D13: MFEM | E13: AVULSO | F13: BA | G13: =SUM(I13:AG13) -> 60 | T13: 30 | AB13: 30
A14: 8 | B14: 05.27169.15 | C14: DANIELLE ALVES FERREIRA | D14: MFEM | E14: AVULSO | F14: MG | G14: =SUM(I14:AG14) -> 60 | P14: 5 | Q14: 25 | X14: 30
A15: 9 | B15: 04.15935.12 | C15: LEANDRA MARQUES RIBEIRO SILVA | D15: MFEM | E15: ASSOCIAÇÃO BATATAENSE DE CICLISMO | F15: SP | G15: =SUM(I15:AG15) -> 57 | U15: 55 | V15: 2
A16: 10 | B16: 16.25615.15 | C16: LUANA GONÇALVES RAMALHO | D16: MFEM | E16: CLUBE ESPORTIVO AMIGOS DA PLANETE AVENTURE | F16: PB | G16: =SUM(I16:AG16) -> 55 | AC16: 55
A17: 10 | B17: 28.31983.17 | C17: INAÊ DA ROCHA PEREIRA LOUREIRO | D17: MFEM | E17: AVULSO | F17: RR | G17: =SUM(I17:AG17) -> 55 | T17: 55
A18: 11 | B18: 08.5640.06 | C18: RIVANDA BURTON DA SILVA | D18: MFEM | E18: ASSOC.ESPORTIVA BIKE NORTE/QUALIDADE FISICA/MULTICOISAS | F18: MS | G18: =SUM(I18:AG18) -> 50 | V18: 15 | AE18: 35
A19: 11 | B19: 04.24889.15 | C19: VALDINÉIA DA SILVA BRANDINO DOS SANTOS | D19: MFEM | E19: S.E.T. MOGI GUAÇU | F19: SP | G19: =SUM(I19:AG19) -> 50 | U19: 45 | X19: 5
A20: 11 | B20: 28.25396.15 | C20: SINOME RUFINO CONCEIÇÃO BORTOLOTTO | D20: MFEM | E20: OVER BIKE TEAM | F20: RR | G20: =SUM(I20:AG20) -> 50 | T20: 50
A21: 12 | B21: 22.30224.16 | C21: LUCIANA BRANDÃO DE FREITAS | D21: MFEM | E21: PAPALEGUAS RACE | F21: PA | G21: =SUM(I21:AG21) -> 49 | O21: 40 | Y21: 9
A22: 13 | B22: 07.23829.15 | C22: MARILIA DA PENHA BARBOZA | D22: MFEM | E22: GR TEAM | F22: ES | G22: =SUM(I22:AG22) -> 47.5 | K22: 17.5 | Q22: 30
A23: 14 | B23: 28.31255.17 | C23: KATIA CILENE OLIVEIRA FRAXE | D23: MFEM | E23: OVER BIKE TEAM | F23: RR | G23: =SUM(I23:AG23) -> 45 | T23: 45
A24: 15 | B24: 08.9147.08 | C24: ADRIANA SEVERINA FARIAS LIMA | D24: MFEM | E24: CLUBE MAR DEL PLATA DE CICLISMO | F24: MS | G24: =SUM(I24:AG24) -> 40 | AE24: 40
A25: 15 | B25: 03.23715.14 | C25: RENATA SILVEIRA MOREIRA DIPP | D25: MFEM | E25: CLUBE DE CICLISMO SO PEDAL | F25: PR | G25: =SUM(I25:AG25) -> 40 | AA25: 40
A26: 15 | B26: 28.21373.14 | C26: GIRLENICY APARECIDA TORREIAS MONTEIRO | D26: MFEM | E26: MATO E MORRO DE BIKE | F26: RR | G26: =SUM(I26:AG26) -> 40 | T26: 40
A27: 15 | B27: 12.13635.11 | C27: CRISTIANE DUQUE ALMEIDA | D27: MFEM | E27: AVULSO | F27: BA | G27: =SUM(I27:AG27) -> 40 | T27: 40
A28: 15 | B28: 19.29576.16 | C28: MARIA DO SOCORRO DA SILVA VASCONCELOS | D28: MFEM | E28: BIKER PIAUI | F28: PI | G28: =SUM(I28:AG28) -> 40 | J28: 40
A29: 15 | B29: 07.29632.16 | C29: SAYONARA MARTINS DA SILVA MONÇÃO | D29: MFEM | E29: AVULSO | F29: ES | G29: =SUM(I29:AG29) -> 40 | Q29: 40
A30: 16 | B30: 18.5530.06 | C30: JOANA NÓBREGA | D30: MFEM | E30: ENDURANCE | F30: CE | G30: =SUM(I30:AG30) -> 37 | AC30: 37
A31: 17 | B31: 05.27991.16 | C31: SANDRA DIAS DA SILVA MAROTTA | D31: MFEM | E31: CJNET | F31: MG | G31: =SUM(I31:AG31) -> 35 | X31: 35
A32: 17 | B32: 12.28526.16 | C32: GISLAINE CLARICE FLECK | D32: MFEM | E32: AVULSO | F32: BA | G32: =SUM(I32:AG32) -> 35 | T32: 35
A33: 17 | B33: 06.32790.17 | C33: VANESSA DA SILVA MOÇO | D33: MFEM | E33: EQUIPE LUCIA ARANHA | F33: RJ | G33: =SUM(I33:AG33) -> 35 | Q33: 35
A34: 18 | B34: 16.7501.07 | C34: MIRIAM ARAUJO DE LIMA | D34: MFEM | E34: AVULSO | F34: PB | G34: =SUM(I34:AG34) -> 33 | AC34: 33
A35: 19 | B35: 01.4919.06 | C35: CAMILA MARCON MARASCHIN | D35: MFEM | E35: SQUADRA CAXIAS | F35: RS | G35: =SUM(I35:AG35) -> 32.5 | S35: 5 | W35: 27.5
A36: 20 | B36: 18.31513.17 | C36: RENATA CUNHA CORREIA DE BASTOS | D36: MFEM | E36: ZONAALVO | F36: CE | G36: =SUM(I36:AG36) -> 31 | AC36: 31
A37: 21 | B37: 08.25124.15 | C37: MARIA LÚCIA DE SOUZA | D37: MFEM | E37: CLUBE MAR DEL PLATA DE CICLISMO | F37: MS | G37: =SUM(I37:AG37) -> 30 | AE37: 30
A38: 21 | B38: 18.18031.13 | C38: JULIANA MARIA MARTINS TELLES | D38: MFEM | E38: MAURICIO LEAO | F38: CE | G38: =SUM(I38:AG38) -> 30 | J38: 30
A39: 22 | B39: 02.24662.15 | C39: CATIANE CARDOSO PEREIRA | D39: MFEM | E39: CYCLING TEAM PEDALA ITAPEMA/PREF.DE ITAPEMA/PPS DISTRIBUIDOR | F39: SC | G39: =SUM(I39:AG39) -> 29.5 | AD39: 25 | AF39: 4.5
A40: 23 | B40: 08.3222.05 | C40: DIVINA LÚCIA ANTÔNIA BATISTA | D40: MFEM | E40: ASSOCIACAO ESPORTIVA GILMAR BICICLETAS | F40: MS | G40: =SUM(I40:AG40) -> 25 | AE40: 25
...

Sheet MJR
A1: CONFEDERAÇÃO BRASILEIRA DE CICLISMO | I1: Campeonatos Estaduais 2017 | M1: VIII Volta Ciclistica do Pará - Belém - PA - 10 e 11/06/2017 | N1: Desafio de Ciclismo São Jose de Anchieta - Vitória - ES - 11/06/2017 | O1: V Copa Amapa de Ciclismo - Macapá - AP - 04/06/2017 | P1: XXI GP de Ciclismo Israel de Freitas - Curiau - AP - 07/05/2017 | Q1: 1ª Copa Belém de Ciclismo - Belém - PA - 14/05/2017 | R1: Speed Racer Bike - Cariacica - ESP - 21/05/2017 | S1: GP Bahia de Ciclismo - Feira de Santana - BA - 07/05/2017 | T1: 9º Desafio Internacional Serra do Tepequem - Amajari - RR - 06 e 07/05/2017 | U1: 65ª Prova Ciclistica 1º de Maio - Indaiatuba - SP - 01/05/2017 | V1: 29º GP de Nova Andradina - Nova Andradina - MS - 01/05/2017 | W1: GP Caraguatatuba de Ciclismo - Caraguatatuba - SP - 30/04/2017 | X1: Copa Hans Fischer - Pomerode - SC - 29 e 30/04/2017 | Y1: 4º Circuito Ducks Bike de Ciclismo - Patos - PB - 23/04/2017 | Z1: 10ª Volta Ciclística do Futuro - São Carlos - SP - 20 a 23/04/2017 | AA1: IX Copa SEEL de Ciclismo - Belém - PA - 16/04/2017 | AB1: Gran Cup Brasil de Ciclismo - Ubatuba - SP - 02/04/2017 | AC1: GP Cidade de Curitiba - Curitiba - PR - 02/04/2017 | AD1: Subida do Morro da Cruz - Florianópolis - SC - 26/03/2017 | AE1: 9º Circuito Ciclístico Cidade de Aracaju - Aracaju - SE - 19/03/2017 | AF1: Copa Velho Chico - Januária - MG - 26/03/2017 | AG1: Volta do Ceará - Eusébio - CE - 17 a 19/03/2017 | AH1: 50º Circuito do Boa Vista - Joinvile - SC - 11 e 12/03/2017 | AI1: 8ª GP Mega 94 de Ciclismo - Campo Grande - MS - 05/03/2017 | AJ1: GP Sesc Verão de Ciclismo - Sorocaba-SP - 19/02/2017 | AK1: Bike Fest Gaspar - Gaspar-SC - 19/02/2017
A2: RANKING ESTRADA JUNIOR MASCULINO | E2: ='Data de Atualização'!$A$1 -> 42941
A3: POS | B3: LICENÇA | C3: CORREDOR | D3: CATEG | E3: EQUIPE | F3: FED | G3: PTOS | I3: CE | M3: 2B | N3: 4 | O3: 5 | P3: 4 | Q3: 4 | R3: 4 | S3: 4 | T3: 3 | U3: ELITE PRÓ/3 | V3: 4 | W3: 5 | X3: 2B | Y3: 4 | Z3: 2A | AA3: 4 | AB3: 4 | AC3: 4 | AD3: 3 | AE3: 4 | AF3: 5 | AG3: 2B | AH3: 4 | AI3: 4 | AJ3: 4 | AK3: 5
A4: 1 | B4: 03.26125.15 | C4: IVAN GUILHERME MORSCH DE ANDRADE | D4: JRMAS | E4: CLUBE DATARO DE CICLISMO | F4: PR | G4: =SUM(I4:AK4) -> 260 | X4: 50 | Z4: 105 | AC4: 40 | AD4: 65
A5: 2 | B5: 04.16256.12 | C5: IGOR TEODORO MOLINA | D5: JRMAS | E5: CLUBE DE CICLISMO DE SÃO JOSÉ DOS CAMPOS | F5: SP | G5: =SUM(I5:AK5) -> 195 | U5: 40 | Z5: 115 | AB5: 40
A6: 3 | B6: 04.26928.15 | C6: MATHEUS SCANDIAN THOMAZ | D6: JRMAS | E6: CLUBE DE CICLISMO DE SÃO JOSÉ DOS CAMPOS | F6: SP | G6: =SUM(I6:AK6) -> 170.5 | N6: 17.5 | R6: 20 | U6: 45 | W6: 5 | Z6: 40 | AB6: 35 | AK6: 8
A7: 4 | B7: 22.23627.14 | C7: DOMINGOS RENILSON DE OLIVEIRA DOS SANTOS | D7: JRMAS | E7: CLUBE AMAZÔNIA DE CICLISMO | F7: PA | G7: =SUM(I7:AK7) -> 165 | M7: 60 | Q7: 40 | T7: 25 | AA7: 40
A8: 5 | B8: 03.30011.16 | C8: GABRIEL SANTIAGO MAGALHÃES | D8: JRMAS | E8: CLUBE CICLISTICO ARAPONGUENSE | F8: PR | G8: =SUM(I8:AK8) -> 155 | V8: 30 | Z8: 95 | AC8: 30
A9: 6 | B9: 04.28834.16 | C9: JOÃO PEDRO ROSSI | D9: JRMAS | E9: SÃO FRANCISCO SAÚDE/KLABIN/SME RIBEIRÃO PRETO | F9: SP | G9: =SUM(I9:AK9) -> 148 | U9: 18 | Z9: 130
A10: 7 | B10: 26.26756.15 | C10: JOAO VITOR RODRIGUES FIGUEIREDO | D10: JRMAS | E10: TOPAZZA CYCLING CLUB | F10: AP | G10: =SUM(I10:AK10) -> 140 | M10: 55 | P10: 12.5 | Q10: 35 | R10: 17.5 | AG10: 20
A11: 8 | B11: 04.31484.17 | C11: FELIPE APARECIDO BRITO RONZANI | D11: JRMAS | E11: FUNDESPORT/ARARAQUARA | F11: SP | G11: =SUM(I11:AK11) -> 115 | U11: 30 | Z11: 85
A12: 9 | B12: 26.18101.13 | C12: BRUNO VIEIRA LOBATO | D12: JRMAS | E12: TOPAZZA CYCLING CLUB | F12: AM | G12: =SUM(I12:AK12) -> 99 | M12: 50 | O12: 4 | P12: 20 | AG12: 25
A13: 10 | B13: 04.18956.13 | C13: ALEX DAVID DOS SANTOS | D13: JRMAS | E13: ABEC / RIO CLARO | F13: SP | G13: =SUM(I13:AK13) -> 95 | Z13: 55 | AJ13: 40
A14: 10 | B14: 30.22656.14 | C14: BRUNO LUIZ BIBERG MARTINS | D14: JRMAS | E14: SMEL FOZ DO IGUAÇU | F14: PR | G14: =SUM(I14:AK14) -> 95 | V14: 20 | Z14: 75
A15: 11 | B15: 04.29141.16 | C15: RENAN IZZO | D15: JRMAS | E15: SÃO FRANCISCO SAÚDE/KLABIN/SME RIBEIRÃO PRETO | F15: SP | G15: =SUM(I15:AK15) -> 93 | U15: 80 | Z15: 13
A16: 12 | B16: 02.23632.14 | C16: ELIEL FARO PEREIRA JUNIOR | D16: JRMAS | E16: AVULSO | F16: SC | G16: =SUM(I16:AK16) -> 90 | AD16: 55 | AH16: 35
A17: 12 | B17: 04.17393.12 | C17: BRUNO CAMPOS DE SÁ PINTO | D17: JRMAS | E17: ADI / INDAIATUBA SECRETARIA DE ESPORTES | F17: SP | G17: =SUM(I17:AK17) -> 86 | U17: 21 | Z17: 65
A18: 13 | B18: 04.21914.14 | C18: ARTHUR BRANDINO DOS SANTOS | D18: JRMAS | E18: PENKS / U.C.I. IRACEMÁPOLIS | F18: SP | G18: =SUM(I18:AK18) -> 85 | U18: 65 | Z18: 20
A19: 14 | B19: 08.25894.15 | C19: MATEUS GABRIEL ESTIVAL CARMONA | D19: JRMAS | E19: AMC - ASSOCIAÇÃO MARACAJUENSE DE CICLISMO | F19: MS | G19: =SUM(I19:AK19) -> 80 | X19: 40 | AI19: 40
A20: 15 | B20: 02.20983.13 | C20: BRUNO SEVEGNANI HANSEN | D20: JRMAS | E20: BRUCICLE - ASSOCIAÇÃO BRUSQUENSE DE CICLISMO | F20: SC | G20: =SUM(I20:AK20) -> 60 | X20: 60
A21: 16 | B21: 02.30071.16 | C21: LUIZ GUILHERME MOROSINI BASSO | D21: JRMAS | E21: APROCICLI/PREF.MUN.DE CHAPECÓ/UNOCHAPECÓ | F21: SC | G21: =SUM(I21:AK21) -> 55 | X21: 55
A22: 16 | B22: 08.27867.16 | C22: VINICIUS MACHADO FONSECA DA SILVA | D22: JRMAS | E22: ASSOCIACAO ESPORTIVA PRO-PEDAL (AEPP) | F22: MS | G22: =SUM(I22:AK22) -> 55 | V22: 25 | AI22: 30
A23: 16 | B23: 04.25785.15 | C23: LUAN REIS DE SOUZA | D23: JRMAS | E23: AVULSO | F23: SP | G23: =SUM(I23:AK23) -> 55 | U23: 55
A24: 17 | B24: 03.22564.14 | C24: VINÍCIUS DO NASCIMENTO GUSSOLLI | D24: JRMAS | E24: SMEL FOZ DO IGUAÇU | F24: PR | G24: =SUM(I24:AK24) -> 52 | V24: 40 | Z24: 12
A25: 18 | B25: 02.28632.16 | C25: EDUARDO VASKEVICZ FERREIRA | D25: JRMAS | E25: FME BALNEÁRIO CAMBORIÚ | F25: SC | G25: =SUM(I25:AK25) -> 51 | X25: 31 | AH25: 20
A26: 19 | B26: 04.22578.14 | C26: LUCAS FILLIPE JULIANO | D26: JRMAS | E26: ABEC / RIO CLARO | F26: SP | G26: =SUM(I26:AK26) -> 50 | Z26: 15 | AJ26: 35
A27: 19 | B27: 04.23586.14 | C27: MATHEUS MAXIMO DOS REIS | D27: JRMAS | E27: 5WAYS TEAM / SÃO PAULO | F27: SP | G27: =SUM(I27:AK27) -> 50 | Z27: 50
A28: 19 | B28: 04.32115.17 | C28: LEANDRO FERNANDO DOS SANTOS JUNIOR | D28: JRMAS | E28: PENKS / U.C.I. IRACEMAPOLIS | F28: SP | G28: =SUM(I28:AK28) -> 50 | U28: 50
A29: 20 | B29: 08.30955.17 | C29: BRENNON DE SOUZA QUINTINO | D29: JRMAS | E29: ASSOC.ESPORTIVA BIKE NORTE/QUALIDADE FISICA/MULTICOISAS | F29: MS | G29: =SUM(I29:AK29) -> 48 | V29: 13 | AI29: 35
A30: 21 | B30: 03.25065.15 | C30: PEDRO GUILHERME VOLPATO ROSSI | D30: JRMAS | E30: CLUBE MARINGAENSE DE CICLISMO | F30: PR | G30: =SUM(I30:AK30) -> 46 | V30: 35 | Z30: 11
A31: 22 | B31: 02.31822.17 | C31: JOÃO HENRIQUE SOTTILI VALCARENGHI | D31: JRMAS | E31: APROCICLI/PREF.MUN.DE CHAPECÓ/UNOCHAPECÓ | F31: SC | G31: =SUM(I31:AK31) -> 45 | X31: 45
A32: 22 | B32: 26.23910.15 | C32: LUIZ VICTOR GOMES VASQUES | D32: JRMAS | E32: AVULSO | F32: AP | G32: =SUM(I32:AK32) -> 45 | P32: 15 | AA32: 30
A33: 22 | B33: 04.15543.12 | C33: BRENDO MORAIS SANTOS | D33: JRMAS | E33: PENKS / U.C.I. IRACEMÁPOLIS | F33: SP | G33: =SUM(I33:AK33) -> 45 | U33: 35 | Z33: 10
A34: 23 | B34: 02.20328.13 | C34: LUIZ H. HECKERT COSNTANTINI | D34: JRMAS | E34: BRUCICLE - ASSOCIAÇÃO BRUSQUENSE DE CICLISMO | F34: SC | G34: =SUM(I34:AK34) -> 42 | X34: 35 | AK34: 7
A35: 24 | B35: 04.28506.16 | C35: MARCELO CARLOS PINHEIRO FILHO | D35: JRMAS | E35: MEMORIAL / SANTOS / FUPES | F35: SP | G35: =SUM(I35:AK35) -> 40 | U35: 25 | AJ35: 15
A36: 24 | B36: 25.23113.14 | C36: KAYO DE LUNA FONSECA | D36: JRMAS | E36: MANAUS ESPORTE CLUBE | F36: AM | G36: =SUM(I36:AK36) -> 40 | T36: 40
A37: 25 | B37: 02.30906.17 | C37: FILIPI FERNANDES LOSI | D37: JRMAS | E37: CYCLING TEAM PEDALA ITAPEMA/PREF.DE ITAPEMA/PPS DISTRIBUIDOR | F37: SC | G37: =SUM(I37:AK37) -> 37 | X37: 37
A38: 25 | B38: 22.26524.15 | C38: AYRTON DA SILVA ROCHA | D38: JRMAS | E38: ANANINDEUA E.C./TRIGOLINO | F38: PA | G38: =SUM(I38:AK38) -> 37 | M38: 37
A39: 26 | B39: 02.30249.16 | C39: RAMON GUILHERME DE OLIVEIRA | D39: JRMAS | E39: CYCLING TEAM PEDALA ITAPEMA/PREF.DE ITAPEMA/PPS DISTRIBUIDOR | F39: SC | G39: =SUM(I39:AK39) -> 35 | X39: 30 | AK39: 5
A40: 27 | B40: 08.25020.15 | C40: PAULO FELIPE AMORIM DA SILVA | D40: JRMAS | E40: ASSOCIAÇÃO DESPORTIVA DE CICLISMO E ATLETISMO DE NOVA ANDRAD | F40: MS | G40: =SUM(I40:AK40) -> 34 | V40: 17 | AI40: 17
...

Sheet FJR
A1: CONFEDERAÇÃO BRASILEIRA DE CICLISMO | I1: Campeonatos Estaduais 2017 | L1: VIII Volta Ciclistica do Pará - Belém - PA - 10 e 11/06/2017 | M1: V Copa Amapa de Ciclismo - Macapá - AP - 04/06/2017 | N1: 1ª Copa Belém de Ciclismo - Belém - PA - 14/05/2017 | O1: XXI GP de Ciclismo Israel de Freitas - Curiau - AP - 07/05/2017 | P1: 65ª Prova Ciclistica 1º de Maio - Indaiatuba - SP - 01/05/2017 | Q1: 29º GP de Nova Andradina - Nova Andradina - MS - 01/05/2017 | R1: Copa Hans Fischer - Pomerode - SC - 29 e 30/04/2017 | S1: 10ª Volta Ciclística do Futuro - São Carlos - SP - 20 a 23/04/2017 | T1: GP Cidade de Curitiba - Curitiba - PR - 02/04/2017 | U1: Subida do Morro da Cruz - Florianópolis - SC - 26/03/2017 | V1: 50º Circuito do Boa Vista - Joinvile - SC - 11 e 12/03/2017 | W1: 8ª GP Mega 94 de Ciclismo - Campo Grande - MS - 05/03/2017 | X1: GP Sesc Verão de Ciclismo - Sorocaba-SP - 19/02/2017 | Y1: Bike Fest Gaspar - Gaspar-SC - 19/02/2017
A2: RANKING ESTRADA JUNIOR FEMININO | E2: ='Data de Atualização'!$A$1 -> 42941
A3: POS | B3: LICENÇA | C3: CORREDOR | D3: CATEG | E3: EQUIPE | F3: FED | G3: PTOS | I3: CE | L3: 2B | M3: 5 | N3: 4 | O3: 4 | P3: ELITE PRÓ/3 | Q3: 4 | R3: 2B | S3: 2A | T3: 4 | U3: 3 | V3: 4 | W3: 4 | X3: 4 | Y3: 5
A4: 1 | B4: 03.23617.14 | C4: GIOVANNA MONTANINO | D4: JRFEM | E4: CLUBE DE CICLISMO SO PEDAL | F4: PR | G4: =SUM(I4:Y4) -> 252.5 | R4: 30 | S4: 130 | T4: 40 | U4: 32.5 | V4: 20
A5: 3 | B5: 04.18597.13 | C5: MARCELLA SILVA SODRE PEREIRA | D5: JRFEM | E5: MEMORIAL / SANTOS / FUPES | F5: SP | G5: =SUM(I5:Y5) -> 220 | P5: 80 | S5: 105 | X5: 35
A6: 2 | B6: 04.25471.15 | C6: JULIANA ANDRESSA MACHADO SIQUEIRA DA SILVA | D6: JRFEM | E6: ABEC / RIO CLARO | F6: SP | G6: =SUM(I6:Y6) -> 200 | P6: 45 | S6: 115 | X6: 40
A7: 4 | B7: 04.22247.14 | C7: JESSICA ALINE TOSTA | D7: JRFEM | E7: ABEC / RIO CLARO | F7: SP | G7: =SUM(I7:Y7) -> 180 | P7: 55 | S7: 95 | X7: 30
A8: 5 | B8: 04.19355.13 | C8: PAULA PACHECO DE OLIVEIRA SILVA | D8: JRFEM | E8: AVULSO | F8: SP | G8: =SUM(I8:Y8) -> 150 | P8: 65 | S8: 85
A9: 6 | B9: 04.19494.13 | C9: CATARINA DEL GIUDICE CARDOSO | D9: JRFEM | E9: MEMORIAL / SANTOS / FUPES | F9: SP | G9: =SUM(I9:Y9) -> 115 | P9: 40 | S9: 75
A10: 6 | B10: 04.24895.15 | C10: GABRIELA DE SOUZA GONÇALVES | D10: JRFEM | E10: S.E.T. MOGI GUAÇU | F10: SP | G10: =SUM(I10:Y10) -> 115 | P10: 50 | S10: 65
A11: 7 | B11: 26.24577.15 | C11: DANIELLE NASCIMENTO DE JESUS | D11: JRFEM | E11: ASSISTEL CICLO TEAM | F11: AP | G11: =SUM(I11:Y11) -> 75 | L11: 30 | M11: 5 | N11: 20 | O11: 20
A12: 8 | B12: 04.31545.17 | C12: JULIANA DA SILVA | D12: JRFEM | E12: ABEC / RIO CLARO | F12: SP | G12: =SUM(I12:Y12) -> 57 | S12: 40 | X12: 17
A13: 9 | B13: 03.25533.15 | C13: FERNANDA APARECIDA NARDINO | D13: JRFEM | E13: AVULSO | F13: PR | G13: =SUM(I13:Y13) -> 55 | S13: 55
A14: 10 | B14: 04.18270.13 | C14: GABRIELA MARTINS DA SILVA | D14: JRFEM | E14: SÃO FRANCISCO SAÚDE/KLABIN/SME RIBEIRÃO PRETO | F14: SP | G14: =SUM(I14:Y14) -> 50 | S14: 50
A15: 11 | B15: 02.21297.14 | C15: VITÓRIA XAVIER CLAUDINO | D15: JRFEM | E15: BIKE POINT/FME CRICIÚMA | F15: SC | G15: =SUM(I15:Y15) -> 45 | U15: 40 | Y15: 5
A16: 12 | B16: 08.28089.16 | C16: KASSIA ANDERSEN DOS REIS | D16: JRFEM | E16: ASSOCIACAO ESPORTIVA PRO-PEDAL (AEPP) | F16: MS | G16: =SUM(I16:Y16) -> 30 | W16: 30
A17: 12 | B17: 03.25234.15 | C17: BRUNA LIE ADATI LENARTOWICZ | D17: JRFEM | E17: CLUBE MARINGAENSE DE CICLISMO | F17: PR | G17: =SUM(I17:Y17) -> 30 | S17: 30
A18: 13 | B18: 03.18974.13 | C18: ESTHER FERNANDA SANTOS DA SILVA CRUZ | D18: JRFEM | E18: CLUBE MARINGAENSE DE CICLISMO | F18: PR | G18: =SUM(I18:Y18) -> 20 | Q18: 20
A19: 14 | B19: 08.32186.17 | C19: BRUNNA BECKER GONÇALVES | D19: JRFEM | E19: ASSOCIAÇÃO CICLÍSTICA DE JARDIM-ACJAR | F19: MS | G19: =SUM(I19:Y19) -> 17.5 | Q19: 17.5
D25: JRFEM | G25: =SUM(I25:Y25) -> 0
D26: JRFEM | G26: =SUM(I26:Y26) -> 0
D27: JRFEM | G27: =SUM(I27:Y27) -> 0
D28: JRFEM | G28: =SUM(I28:Y28) -> 0
D29: JRFEM | G29: =SUM(I29:Y29) -> 0

Sheet MJUV
A1: CONFEDERAÇÃO BRASILEIRA DE CICLISMO | I1: Campeonatos Estaduais 2017 | M1: VIII Volta Ciclistica do Pará - Belém - PA - 10 e 11/06/2017 | N1: 1ª Copa Belém de Ciclismo - Belém - PA - 14/05/2017 | O1: SLZ Ilha Race - São Luis - MA - 14/05/2017 | P1: XXI GP de Ciclismo Israel de Freitas - Curiau - AP - 07/05/2017 | Q1: 9º Desafio Internacional Serra do Tepequem - Amajari - RR - 06 e 07/05/2017 | R1: 65ª Prova Ciclistica 1º de Maio - Indaiatuba - SP - 01/05/2017 | S1: 29º GP de Nova Andradina - Nova Andradina - MS - 01/05/2017 | T1: GP Caraguatatuba de Ciclismo - Caraguatatuba - SP - 30/04/2017 | U1: Copa Hans Fischer - Pomerode - SC - 29 e 30/04/2017 | V1: 10ª Volta Ciclística do Futuro - São Carlos - SP - 20 a 23/04/2017 | W1: IX Copa SEEL de Ciclismo - Belém - PA - 16/04/2017 | X1: Gran Cup Brasil de Ciclismo - Ubatuba - SP - 02/04/2017 | Y1: GP Cidade de Curitiba - Curitiba - PR - 02/04/2017 | Z1: Subida do Morro da Cruz - Florianópolis - SC - 26/03/2017 | AA1: Volta do Ceará - Eusébio - CE - 17 a 19/03/2017 | AB1: 50º Circuito do Boa Vista - Joinvile - SC - 11 e 12/03/2017 | AC1: GP Sesc Verão de Ciclismo - Sorocaba-SP - 19/02/2017 | AD1: Bike Fest Gaspar - Gaspar-SC - 19/02/2017
A2: RANKING ESTRADA JUVENIL MASCULINO | E2: ='Data de Atualização'!$A$1 -> 42941
A3: POS | B3: LICENÇA | C3: CORREDOR | D3: CATEG | E3: EQUIPE | F3: FED | G3: PTOS | I3: CE | M3: 2B | N3: 4 | O3: 4 | P3: 4 | Q3: 3 | R3: ELITE PRÓ/3 | S3: 4 | T3: 5 | U3: 2B | V3: 2A | W3: 4 | X3: 4 | Y3: 4 | Z3: 3 | AA3: 2B | AB3: 4 | AC3: 4 | AD3: 5
A4: 1 | B4: 02.18042.13 | C4: ALAN FAGHERAZZI LABATUT | D4: JUVMAS | E4: BRUCICLE - ASSOCIAÇÃO BRUSQUENSE DE CICLISMO | F4: SC | G4: =SUM(I4:AD4) -> 245 | U4: 60 | V4: 85 | Z4: 65 | AB4: 35
A5: 2 | B5: 04.15697.13 | C5: PEDRO HENRIQUE LISBOA FERREIRA BASTOS | D5: JUVMAS | E5: MEMORIAL / SANTOS / FUPES | F5: SP | G5: =SUM(I5:AD5) -> 185 | U5: 50 | V5: 95 | AC5: 40
A6: 3 | B6: 04.26193.15 | C6: JUAN GABRIEL TOME AMARILLA | D6: JUVMAS | E6: CLUBE DE CICLISMO CAÇAPAVA | F6: SP | G6: =SUM(I6:AD6) -> 131 | R6: 80 | T6: 10 | V6: 6 | X6: 35
A7: 4 | B7: 02.23353.14 | C7: VINICIUS RANGEL COSTA | D7: JUVMAS | E7: BIKE POINT | F7: SC | G7: =SUM(I7:AD7) -> 130 | V7: 130
A8: 5 | B8: 10.30168.16 | C8: MARCOS LOBO DA COSTA | D8: JUVMAS | E8: CLUBE MARCONI RIBEIRO TREINAMENTO | F8: DF | G8: =SUM(I8:AD8) -> 115 | V8: 115
A9: 6 | B9: 04.30265.16 | C9: GUSTAVO XAVIER DE OLIVEIRA PEREIRA | D9: JUVMAS | E9: AVULSO | F9: SP | G9: =SUM(I9:AD9) -> 105 | V9: 105
A10: 6 | B10: 22.27221.15 | C10: VICTOR MOREIRA GUEDES SOARES | D10: JUVMAS | E10: CLUBE AMAZÔNIA DE CICLISMO | F10: PA | G10: =SUM(I10:AD10) -> 105 | M10: 40 | N10: 30 | W10: 35
A11: 7 | B11: 04.32110.17 | C11: MARCOS LEVY NASCIMENTO DA MATTA | D11: JUVMAS | E11: AVULSO | F11: SP | G11: =SUM(I11:AD11) -> 100 | R11: 35 | V11: 65
A12: 8 | B12: 02.26262.15 | C12: FELIPE LOPES DI DOMENICO | D12: JUVMAS | E12: BIKE POINT/FME CRICIÚMA | F12: SC | G12: =SUM(I12:AD12) -> 86 | U12: 33 | Y12: 13 | Z12: 40
A13: 9 | B13: 04.24661.15 | C13: THIAGO CHEFER KOCH DA CUNHA | D13: JUVMAS | E13: AVULSO | F13: SP | G13: =SUM(I13:AD13) -> 85 | R13: 30 | V13: 55
A14: 10 | B14: 02.28631.16 | C14: BRUNO SCHIMITT FORMIGHIERI | D14: JUVMAS | E14: FME BALNEÁRIO CAMBORIÚ | F14: SC | G14: =SUM(I14:AD14) -> 80 | U14: 55 | AB14: 25
A15: 10 | B15: 04.22226.14 | C15: GABRIEL DE OLIVEIRA SANTOS | D15: JUVMAS | E15: ACILHA / ILHA SOLTEIRA | F15: SP | G15: =SUM(I15:AD15) -> 80 | S15: 40 | V15: 40
A16: 11 | B16: 02.26069.15 | C16: LEONARDO BACK FARIAS | D16: JUVMAS | E16: BIKE POINT | F16: SC | G16: =SUM(I16:AD16) -> 75 | V16: 75
A17: 12 | B17: 22.31485.17 | C17: RENATO VINICIUS DA SILVA XAVIER | D17: JUVMAS | E17: PEDAL ANANIN | F17: PA | G17: =SUM(I17:AD17) -> 69 | M17: 37 | N17: 17 | W17: 15
A18: 13 | B18: 04.32061.17 | C18: PEDRO FIGUEIREDO LEME | D18: JUVMAS | E18: AJEP / TIME JUNDIAÍ / FIRSTBIKES / NEW MILLEN / ISOTECH / DK | F18: SP | G18: =SUM(I18:AD18) -> 65 | R18: 65
A19: 14 | B19: 08.30801.17 | C19: HENRIQUE GOMES MALDONADO | D19: JUVMAS | E19: ASSOCIAÇÃO ANASTACIANA E AQUIDAUANENSE DE CICLISMO - AAAC | F19: MS | G19: =SUM(I19:AD19) -> 57 | S19: 17 | AD19: 40
A20: 14 | B20: 04.23545.14 | C20: RONNIE PETERSON LESSA DOS SANTOS | D20: JUVMAS | E20: CLUBE DE CICLISMO DE SÃO JOSÉ DOS CAMPOS | F20: SP | G20: =SUM(I20:AD20) -> 57 | R20: 50 | T20: 7
A21: 15 | B21: 04.23316.14 | C21: JHONATA DE LIMA PEREDA | D21: JUVMAS | E21: PENKS / U.C.I. IRACEMAPOLIS | F21: SP | G21: =SUM(I21:AD21) -> 55 | R21: 45 | V21: 10
A22: 15 | B22: 04.28833.16 | C22: JOSE LUIZ VIEIRA FELICIO | D22: JUVMAS | E22: SÃO FRANCISCO SAÚDE/KLABIN/SME RIBEIRÃO PRETO | F22: SP | G22: =SUM(I22:AD22) -> 55 | R22: 55
A23: 15 | B23: 22.30442.16 | C23: LUAN DIEGO ROSARIO DA SILVA | D23: JUVMAS | E23: CLUBE AMAZÔNIA DE CICLISMO | F23: PA | G23: =SUM(I23:AD23) -> 55 | M23: 55
A24: 16 | B24: 03.25084.15 | C24: PEDRO LUCAS DIAS DE OLIVEIRA | D24: JUVMAS | E24: ASSOCIAÇÃO CICLÍSTICA DESPORTIVA | F24: PR | G24: =SUM(I24:AD24) -> 50 | Y24: 30 | AB24: 20
A25: 16 | C25: DANIEL WALLACE ARAÚJO DO CARMO | D25: JUVMAS | E25: ALTERNATIVA - SOURE | F25: PA | G25: =SUM(I25:AD25) -> 50 | M25: 50
A26: 17 | B26: 03.28763.16 | C26: MIKAEL LOVRIN | D26: JUVMAS | E26: AVULSO | F26: PR | G26: =SUM(I26:AD26) -> 46 | U26: 35 | V26: 11
A27: 18 | C27: DANILO MENDES DE OLIVEIRA | D27: JUVMAS | E27: ANANINDEUA E.C./TRIGOLINO | F27: PA | G27: =SUM(I27:AD27) -> 45 | M27: 45
A28: 19 | B28: 02.28092.16 | C28: GABRIEL JOSE DALLABRIDA | D28: JUVMAS | E28: PORTAL TIMBÓ NET/SICOOB CREDIPÉROLA/FME TIMBÓ | F28: SC | G28: =SUM(I28:AD28) -> 40 | U28: 15 | Z28: 25
A29: 19 | B29: 03.28815.16 | C29: VINICIUS GUIMARAES DA CRUZ | D29: JUVMAS | E29: CLUBE DE CICLISMO SO PEDAL | F29: PR | G29: =SUM(I29:AD29) -> 40 | U29: 40
A30: 19 | B30: 04.23642.14 | C30: DAVIDSON RODRIGUES OVIDOR | D30: JUVMAS | E30: PENKS / U.C.I. IRACEMAPOLIS | F30: SP | G30: =SUM(I30:AD30) -> 40 | R30: 40
A31: 19 | B31: 28.30281.16 | C31: PABLO FAVELA DEMETRIO | D31: JUVMAS | E31: CICLO RR | F31: RR | G31: =SUM(I31:AD31) -> 40 | Q31: 40
A32: 20 | B32: 18.29137.16 | C32: GABRIEL CANDIDO DE SOUZA | D32: JUVMAS | E32: AVULSO | F32: CE | G32: =SUM(I32:AD32) -> 37 | AA32: 37
A33: 20 | B33: 03.32084.17 | C33: RENAN LADEWIG QUADRI | D33: JUVMAS | E33: CLUBE DE CICLISMO SO PEDAL | F33: PR | G33: =SUM(I33:AD33) -> 37 | U33: 37
A34: 20 | B34: 04.23095.14 | C34: VINICIUS SILVA GOMES LEITE | D34: JUVMAS | E34: 5WAYS TEAM / SÃO PAULO | F34: SP | G34: =SUM(I34:AD34) -> 37 | R34: 25 | V34: 12
A35: 21 | B35: 08.28957.16 | C35: LUIZ HAMYN DOS SANTOS FALCAO | D35: JUVMAS | E35: ASSOCIAÇÃO ANASTACIANA DE CICLISMO - AAC | F35: MS | G35: =SUM(I35:AD35) -> 35 | AD35: 35
A36: 21 | B36: 03.26170.15 | C36: BREHON CASTAGNO SCHINEIDER JUNIOR | D36: JUVMAS | E36: CLUBE CICLISTICO ARAPONGUENSE | F36: PR | G36: =SUM(I36:AD36) -> 35 | S36: 35
A37: 21 | B37: 22.29277.16 | C37: ALAN CAYRES MARTINS FERREIRA | D37: JUVMAS | E37: CLUBE AMAZÔNIA DE CICLISMO | F37: PA | G37: =SUM(I37:AD37) -> 35 | N37: 35
A38: 21 | B38: 04.28586.16 | C38: LUCAS BATISTA DA SILVA | D38: JUVMAS | E38: 5WAYS TEAM / SÃO PAULO | F38: SP | G38: =SUM(I38:AD38) -> 35 | R38: 21 | V38: 14
A39: 22 | B39: 03.29822.16 | C39: GUSTAVO HENRIQUE DOS SANTOS DOMINGOS | D39: JUVMAS | E39: CLUBE CICLISTICO ARAPONGUENSE | F39: PR | G39: =SUM(I39:AD39) -> 34 | S39: 25 | V39: 9
A40: 23 | B40: 02.30115.16 | C40: DAVID GUIMARAES DOS SANTOS | D40: JUVMAS | E40: FME BALNEÁRIO CAMBORIÚ | F40: SC | G40: =SUM(I40:AD40) -> 31 | U40: 31
...

Sheet FJUV
A1: CONFEDERAÇÃO BRASILEIRA DE CICLISMO | I1: Campeonatos Estaduais 2017 | J1: VIII Volta Ciclistica do Pará - Belém - PA - 10 e 11/06/2017 | K1: 1ª Copa Belém de Ciclismo - Belém - PA - 14/05/2017 | L1: 65ª Prova Ciclistica 1º de Maio - Indaiatuba - SP - 01/05/2017 | M1: 29º GP de Nova Andradina - Nova Andradina - MS - 01/05/2017 | N1: Copa Hans Fischer - Pomerode - SC - 29 e 30/04/2017 | O1: 10ª Volta Ciclística do Futuro - São Carlos - SP - 20 a 23/04/2017 | P1: IX Copa SEEL de Ciclismo - Belém - PA - 16/04/2017 | Q1: GP Cidade de Curitiba - Curitiba - PR - 02/04/2017 | R1: Subida do Morro da Cruz - Florianópolis - SC - 26/03/2017
A2: RANKING ESTRADA JUVENIL FEMININO | E2: ='Data de Atualização'!$A$1 -> 42941
A3: POS | B3: LICENÇA | C3: CORREDOR | D3: CATEG | E3: EQUIPE | F3: FED | G3: PTOS | I3: CE | J3: 2B | K3: 4 | L3: ELITE PRÓ/3 | M3: 4 | N3: 2B | O3: 2A | P3: 4 | Q3: 4 | R3: 3
A4: 1 | B4: 03.24780.15 | C4: VANESSA ROGALEWSKI | D4: JUVFEM | E4: CLUBE DE CICLISMO SO PEDAL | F4: PR | G4: =SUM(I4:R4) -> 147.5 | N4: 30 | O4: 57.5 | Q4: 20 | R4: 40
A5: 2 | B5: 04.31631.17 | C5: JULIA LEITE BRAGA | D5: JUVFEM | E5: S.E.T. MOGI GUAÇU | F5: SP | G5: =SUM(I5:R5) -> 105 | L5: 40 | O5: 65
A6: 3 | B6: 03.25185.15 | C6: JULIA MARIA CONSTANTINO | D6: JUVFEM | E6: CLUBE CICLISTICO ARAPONGUENSE | F6: PR | G6: =SUM(I6:R6) -> 72.5 | M6: 20 | O6: 52.5
A7: 4 | B7: 22.26523.15 | C7: LETICIA JERONIMO CORREA | D7: JUVFEM | E7: CLUBE AMAZÔNIA DE CICLISMO | F7: PA | G7: =SUM(I7:R7) -> 67.5 | J7: 30 | K7: 20 | P7: 17.5
A8: 5 | B8: 03.25202.15 | C8: MARIA DE LOURDES APARECIDA MACIEL | D8: JUVFEM | E8: CLUBE CICLISTICO ARAPONGUENSE | F8: PR | G8: =SUM(I8:R8) -> 65 | M8: 17.5 | O8: 47.5
A9: 6 | B9: 22.29633.16 | C9: VIRGINIA SUELEN DA ROCHA PINTO | D9: JUVFEM | E9: ANANINDEUA E.C./TRIGOLINO | F9: PA | G9: =SUM(I9:R9) -> 45 | J9: 27.5 | K9: 17.5
D10: JUVFEM
D11: JUVFEM
D12: JUVFEM
D13: JUVFEM | G13: =SUM(I13:R13) -> 0

Sheet MINF
