Workbook

Sheet MEL
A1: CONFEDERAÇÃO BRASILEIRA DE CICLISMO | I1: Campeonatos Estaduais 2017 | N1: VIII Volta Ciclistica do Pará - Belém - PA - 10 e 11/06/2017 | O1: Caminho dos Cristais - Curvelo - MG - 18/06/2017 | P1: Desafio de Ciclismo São Jose de Anchieta - Vitória - ES - 11/06/2017 | Q1: V Copa Amapa de Ciclismo - Macapá - AP - 04/06/2017 | R1: Troféu Oswaldo Marques - Altos - PI - 28/05/2017 | S1: Speed Racer Bike - Cariacica - ES - 21/05/2017 | T1: 1ª Copa Belém de Ciclismo - Belém - PA - 14/05/2017 | U1: SLZ Ilha Race - São Luis - MA - 14/05/2017 | V1: XXI GP de Ciclismo Israel de Freitas - Curiau - AP - 07/05/2017 | W1: Volta de Ciclismo de Passo Fundo - Passo Fundo - RS - 07/05/2017 | X1: GP Bahia de Ciclismo - Feira de Santana - BA - 07/05/2017 | Y1: 9º Desafio Internacional Serra do Tepequem - Amajari - RR - 06 e 07/05/2017 | Z1: 65ª Prova Ciclistica 1º de Maio - Indaiatuba - SP - 01/05/2017 | AA1: 29º GP de Nova Andradina - Nova Andradina - MS - 01/05/2017 | AB1: GP Caraguatatuba de Ciclismo - Caraguatatuba - SP - 30/04/2017 | AC1: Copa Hans Fischer - Pomerode - SC - 29 e 30/04/2017 | AD1: 4º Circuito Ducks Bike de Ciclismo - Patos - PB - 23/04/2017 | AE1: Prova Ciclistica da Inconfidencia Mineira - Senador Firmino - MG - 21/04/2017 | AF1: IX Copa SEEL de Ciclismo - Belém - PA - 16/04/2017 | AG1: Gran Cup Brasil de Ciclismo - Ubatuba - SP - 02/04/2017 | AH1: GP Cidade de Curitiba - Curitiba - PR - 02/04/2017 | AI1: Subida do Morro da Cruz - Florianópolis - SC - 26/03/2017 | AJ1: Copa Velho Chico - Januária - MG - 26/03/2017 | AK1: 9º Circuito Ciclístico Cidade de Aracaju - Aracaju - SE - 19/03/2017 | AL1: Volta do Ceará - Eusébio - CE - 17 a 19/03/2017 | AM1: 50º Circuito do Boa Vista - Joinvile - SC - 11 e 12/03/2017 | AN1: 8ª GP Mega 94 de Ciclismo - Campo Grande - MS - 05/03/2017 | AO1: GP Sesc Verão de Ciclismo - Sorocaba-SP - 19/02/2017 | AP1: Bike Fest Gaspar - Gaspar-SC - 19/02/2017 | AQ1: Torneio de Verão - Ilha Comprida-SP - 16 a 19/02/2017
A2: RANKING ESTRADA ELITE MASCULINO | E2: ='Data de Atualização'!$A$1 -> 42941
A3: POS | B3: LICENÇA | C3: CORREDOR | D3: CATEG | E3: EQUIPE | F3: FED | G3: PTOS | I3: CE | N3: 2B | O3: 5 | P3: 4 | Q3: 5 | R3: 4 | S3: 4 | T3: 4 | U3: 4 | V3: 4 | W3: 5 | X3: 4 | Y3: 3 | Z3: ELITE PRÓ/3 | AA3: 4 | AB3: 5 | AC3: 2B | AD3: 4 | AE3: 4 | AF3: 4 | AG3: 4 | AH3: 4 | AI3: 3 | AJ3: 5 | AK3: 4 | AL3: 2B | AM3: 4 | AN3: 4 | AO3: 4 | AP3: 5 | AQ3: 2B
A4: 1 | B4: 04.6604.07 | C4: ELTON PEDROZO DA SILVA | D4: MEL | E4: MEMORIAL / SANTOS / FUPES | F4: SP | G4: =SUM(I4:AQ4) -> 476 | R4: 25 | S4: 40 | T4: 35 | X4: 40 | Z4: 65 | AC4: 55 | AD4: 40 | AE4: 20 | AG4: 13 | AI4: 65 | AL4: 50 | AM4: 1 | AN4: 25 | AQ4: 2
A5: 2 | B5: 04.8783.08 | C5: ENDRIGO DA ROSA PEREIRA | D5: MEL | E5: ADI / INDAIATUBA SECRETARIA DE ESPORTES | F5: SP | G5: =SUM(I5:AQ5) -> 246 | W5: 10 | Z5: 130 | AE5: 35 | AI5: 40 | AQ5: 31
A6: 2 | B6: 26.790.04 | C6: ALEX FABIO COSTA CORREIA | D6: MEL | E6: TOPAZZA CYCLING CLUB | F6: AP | G6: =SUM(I6:AQ6) -> 246 | N6: 37 | Q6: 9 | R6: 35 | T6: 40 | V6: 40 | AF6: 25 | AL6: 60
A7: 3 | B7: 04.7198.07 | C7: CRISTIAN EGIDIO DA ROSA | D7: MEL | E7: SÃO FRANCISCO SAÚDE/KLABIN/SME RIBEIRÃO PRETO | F7: SP | G7: =SUM(I7:AQ7) -> 220 | P7: 35 | Z7: 30 | AE7: 40 | AH7: 40 | AI7: 35 | AO7: 40 | AR7: =SUM(I7:AP7) -> 220
A8: 4 | B8: 04.3879.05 | C8: ROBERTO PINHEIRO DA SILVA | D8: MEL | E8: SOUL BRASIL PROCYCLING TEAM | F8: SP | G8: =SUM(I8:AQ8) -> 207 | R8: 17 | Z8: 115 | AG8: 15 | AQ8: 60
A9: 5 | B9: 04.4104.05 | C9: MAURICIO BIELINSKI KNAPP | D9: MEL | E9: SÃO FRANCISCO SAÚDE/KLABIN/SME RIBEIRÃO PRETO | F9: SP | G9: =SUM(I9:AQ9) -> 193 | Z9: 105 | AE9: 13 | AH9: 30 | AI9: 25 | AM9: 11 | AO9: 9
A10: 6 | B10: 04.3650.05 | C10: ALAN VALENCIO MANIEZZO | D10: MEL | E10: SÃO FRANCISCO SAÚDE/KLABIN/SME RIBEIRÃO PRETO | F10: SP | G10: =SUM(I10:AQ10) -> 175 | Z10: 75 | AE10: 15 | AI10: 80 | AO10: 5
A11: 7 | B11: 26.6725.07 | C11: DANIEL SOUZA DOS SANTOS | D11: MEL | E11: TOPAZZA CYCLING CLUB | F11: AP | G11: =SUM(I11:AQ11) -> 165 | N11: 50 | Q11: 8 | T11: 30 | V11: 30 | AF11: 40 | AL11: 7
A12: 8 | B12: 04.9660.08 | C12: JOEL CANDIDO PRADO JUNIOR | D12: MEL | E12: MEMORIAL / SANTOS / FUPES | F12: SP | G12: =SUM(I12:AQ12) -> 130 | Z12: 15 | AG12: 30 | AM12: 30 | AQ12: 55
A13: 9 | B13: 07.1503.04 | C13: FABIELE DOS SANTOS MOTA | D13: MEL | E13: ES | F13: ES | G13: =SUM(I13:AQ13) -> 115 | P13: 20 | R13: 40 | AL13: 55
A14: 10 | B14: 04.9298.08 | C14: JOSIMAR OLIVEIRA DO SACRAMENTO | D14: MEL | E14: ECT/TAUBATÉ/TARUMÃ | F14: SP | G14: =SUM(I14:AQ14) -> 96 | Z14: 85 | AO14: 11
A15: 11 | B15: 04.3168.05 | C15: GLAUBER ALEXANDRE NASCIMENTO SILVA | D15: MEL | E15: GREEN BIKE/PIRACICABA | F15: SP | G15: =SUM(I15:AQ15) -> 95 | Z15: 95
A16: 12 | B16: 06.8184.08 | C16: MAICKE RENÊ MONTEIRO PEREIRA | D16: MEL | E16: TEAM UFF | F16: RJ | G16: =SUM(I16:AQ16) -> 85 | P16: 40 | AQ16: 45
A17: 13 | B17: 04.10721.09 | C17: FELIPPE DOS SANTOS PACANARO | D17: MEL | E17: MEMORIAL / SANTOS / FUPES | F17: SP | G17: =SUM(I17:AQ17) -> 83 | AM17: 13 | AN17: 40 | AQ17: 30
A18: 14 | B18: 26.2081.04 | C18: ANDRE GOMES PINHEIRO | D18: MEL | E18: TOPAZZA CYCLING CLUB | F18: AP | G18: =SUM(I18:AQ18) -> 80 | N18: 45 | T18: 25 | AL18: 10
A19: 15 | B19: 04.559.04 | C19: ARMANDO REIS DA COSTA CAMARGO FILHO | D19: MEL | E19: ADI / INDAIATUBA SECRETARIA DE ESPORTES | F19: SP | G19: =SUM(I19:AQ19) -> 78 | AE19: 11 | AM19: 17 | AQ19: 50
A20: 16 | B20: 04.6158.06 | C20: RODRIGO DO NASCIMENTO | D20: MEL | E20: SÃO FRANCISCO SAÚDE/KLABIN/SME RIBEIRÃO PRETO | F20: SP | G20: =SUM(I20:AQ20) -> 77 | Z20: 2 | AE20: 30 | AI20: 45
A21: 17 | B21: 08.18070.13 | C21: WALTER HENRIQUE SERROU PIMENTEL | D21: MEL | E21: ASSOCIAÇÃO ESPORTIVA ALTO GIRO | F21: MS | G21: =SUM(I21:AQ21) -> 75 | AA21: 35 | AN21: 20 | AQ21: 20
A22: 18 | B22: 06.11160.09 | C22: EMERSON DA SILVA SANTOS | D22: MEL | E22: TEAM UFF | F22: RJ | G22: =SUM(I22:AQ22) -> 65 | Z22: 11 | AE22: 17 | AQ22: 37
A23: 18 | B23: 09.3513.05 | C23: JOSE ERIBERTO MEDEIROS RODRIGUES | D23: MEL | E23: AVULSO | F23: GO | G23: =SUM(I23:AQ23) -> 65 | R23: 30 | AL23: 35
A24: 18 | B24: 06.11529.09 | C24: KACIO FONSECA DA SILVA FREITAS | D24: MEL | E24: TEAM UFF | F24: RJ | G24: =SUM(I24:AQ24) -> 65 | P24: 25 | AQ24: 40
A25: 19 | B25: 04.2833.05 | C25: MARCIO FERREIRA BIGAI | D25: MEL | E25: ECT/TAUBATÉ/TARUMÃ | F25: SP | G25: =SUM(I25:AQ25) -> 64 | Z25: 14 | AG25: 17 | AQ25: 33
A26: 20 | B26: 04.13959.11 | C26: LEANDRO DONIZETE DOS SANTOS | D26: MEL | E26: MEMORIAL / SANTOS / FUPES | F26: SP | G26: =SUM(I26:AQ26) -> 59 | AG26: 4 | AI26: 55
A27: 21 | B27: 04.3910.05 | C27: JEOVANE JUNIOR DE OLIVEIRA | D27: MEL | E27: SÃO FRANCISCO SAÚDE/KLABIN/SME RIBEIRÃO PRETO | F27: SP | G27: =SUM(I27:AQ27) -> 55 | AH27: 25 | AI27: 30
A28: 21 | B28: 28.8379.08 | C28: JUCÉLIO COSTA PEREIRA | D28: MEL | E28: HERBALIFE 24HOORS-DISTR.INDEPENDENTE | F28: RR | G28: =SUM(I28:AQ28) -> 55 | Y28: 55
A29: 22 | B29: 02.26830.15 | C29: GEOVANNI FRAZAO MAURICIO | D29: MEL | E29: APGF/SÃO JOSÉ | F29: SC | G29: =SUM(I29:AQ29) -> 48 | AC29: 37 | AI29: 3 | AP29: 8
A30: 23 | B30: 18.1916.04 | C30: MAURÍCIO CAMPOS LEÃO CARVALHO | D30: MEL | E30: MAURICIO LEAO | F30: CE | G30: =SUM(I30:AQ30) -> 45 | N30: 30 | AL30: 15
A31: 23 | B31: 22.9369.08 | C31: DAELSON SILVA DOS SANTOS | D31: MEL | E31: .U.C.P. - ASSOCIAÇÃO UNIÃO CICLÍSTICA DE PARAGOMINAS | F31: PA | G31: =SUM(I31:AQ31) -> 45 | N31: 31 | T31: 11 | AF31: 3
A32: 24 | B32: 04.4412.05 | C32: FLAVIO CARDOSO SANTOS | D32: MEL | E32: SOUL BRASIL PROCYCLING TEAM | F32: SP | G32: =SUM(I32:AQ32) -> 44 | AG32: 35 | AQ32: 9
A33: 25 | B33: 22.9383.08 | C33: AGEU FERREIRA DA SILVA FILHO | D33: MEL | E33: CLUBE AMAZÔNIA DE CICLISMO | F33: PA | G33: =SUM(I33:AQ33) -> 43 | N33: 20 | R33: 3 | AF33: 20
A34: 26 | B34: 03.14209.11 | C34: RAFFAEL DA SILVA SAFADI | D34: MEL | E34: AVULSO | F34: PR | G34: =SUM(I34:AQ34) -> 41 | W34: 6 | AM34: 35
A35: 27 | B35: 02.2749.05 | C35: NELSON CORREA JUNIOR | D35: MEL | E35: APROCICLI/PREF.MUN.DE CHAPECÓ/UNOCHAPECÓ | F35: SC | G35: =SUM(I35:AQ35) -> 40 | AC35: 40
A36: 27 | B36: 03.16046.12 | C36: THIAGO RODRIGUES DA SILVA | D36: MEL | E36: SMEL FOZ DO IGUAÇU | F36: PR | G36: =SUM(I36:AQ36) -> 40 | AA36: 40
A37: 27 | B37: 04.16227.12 | C37: MARCIO LOPES VICENTE | D37: MEL | E37: CABRAL BIKE SHOP RACING | F37: SP | G37: =SUM(I37:AQ37) -> 40 | Z37: 40
A38: 28 | B38: 03.26228.15 | C38: GREGORI FILLIPE ZICH BERTOLDI | D38: MEL | E38: CLUBE DATARO DE CICLISMO | F38: PR | G38: =SUM(I38:AQ38) -> 38 | AC38: 33 | AH38: 5
A39: 29 | B39: 02.1682.04 | C39: VALCEMAR JUSTINO DA SILVA | D39: MEL | E39: ORBEA DO BRASIL JOINVILLE | F39: SC | G39: =SUM(I39:AQ39) -> 37 | AC39: 31 | AP39: 6
A40: 30 | B40: 04.20397.13 | C40: MATHEUS CAVASANA ZOCAL | D40: MEL | E40: MEMORIAL / SANTOS / FUPES | F40: SP | G40: =SUM(I40:AQ40) -> 35 | AQ40: 35
A41: 30 | B41: 04.1658.04 | C41: ALEX CORREIA DINIZ | D41: MEL | E41: ECT/TAUBATÉ/TARUMÃ | F41: SP | G41: =SUM(I41:AQ41) -> 35 | AO41: 35
A42: 30 | B42: 16.21583.14 | C42: ANDERSON ELIAS DA SILVA BERNARDO | D42: MEL | E42: REAL CICLO CLUBE DE CICLISMO | F42: PB | G42: =SUM(I42:AQ42) -> 35 | AD42: 35
A43: 30 | B43: 03.7204.07 | C43: WALMIR BITAR JUNIOR | D43: MEL | E43: ASSOCIAÇÃO CICLÍSTICA DESPORTIVA | F43: PR | G43: =SUM(I43:AQ43) -> 35 | AC43: 35
A44: 30 | B44: 12.25896.15 | C44: RENATO EVANGELISTA MARTINS | D44: MEL | E44: CLUBE TEAM SUL BAIANO DE CICLISMO | F44: BA | G44: =SUM(I44:AQ44) -> 35 | X44: 35
A45: 30 | B45: 20.26403.15 | C45: RAILTON LIMA DE AGUIAR | D45: MEL | E45: MOTO CLUBE DE SÃO LUIS | F45: MA | G45: =SUM(I45:AQ45) -> 35 | U45: 35
A46: 31 | B46: 04.930.04 | C46: RODRIGO ARAUJO DE MELO | D46: MEL | E46: SÃO FRANCISCO SAÚDE/KLABIN/SME RIBEIRÃO PRETO | F46: SP | G46: =SUM(I46:AQ46) -> 32 | AH46: 11 | AI46: 4 | AO46: 17
A47: 32 | B47: 13.3124.05 | C47: UESLEI DOS SANTOS | D47: MEL | E47: AVULSO | F47: SE | G47: =SUM(I47:AQ47) -> 30 | AK47: 30
A48: 32 | B48: 03.3602.05 | C48: SIDINEI RODRIGUES DA SILVA | D48: MEL | E48: SMEL FOZ DO IGUAÇU | F48: PR | G48: =SUM(I48:AQ48) -> 30 | AA48: 30
A49: 32 | B49: 28.21481.14 | C49: PAULO SERGIO WILSON DE NASCIMENTO | D49: MEL | E49: OVER BIKE TEAM | F49: RR | G49: =SUM(I49:AQ49) -> 30 | Y49: 30
A50: 32 | B50: 12.17285.12 | C50: KENNEDI SAMPAIO DE OLIVEIRA LAGO | D50: MEL | E50: AVULSO | F50: BA | G50: =SUM(I50:AQ50) -> 30 | X50: 30
A51: 33 | B51: 04.3903.05 | C51: LAURO CESAR MOURO CHAMAN | D51: MEL | E51: SOUL BRASIL PROCYCLING TEAM | F51: SP | G51: =SUM(I51:AQ51) -> 26 | AG51: 11 | AQ51: 15
A52: 34 | B52: 04.6063.06 | C52: GIDEONI RODRIGUES MONTEIRO | D52: MEL | E52: ADI / INDAIATUBA SECRETARIA DE ESPORTES | F52: SP | G52: =SUM(I52:AQ52) -> 25 | AM52: 25
A53: 34 | B53: 18.4206.05 | C53: GLEICIANO SOUZA SILVA | D53: MEL | E53: AVULSO | F53: CE | G53: =SUM(I53:AQ53) -> 25 | AL53: 25
A54: 34 | B54: 04.601.04 | C54: FRANCISCO RAMON CHAMORRO | D54: MEL | E54: SOUL BRASIL PRO CYCLING TEAM | F54: SP | G54: =SUM(I54:AQ54) -> 25 | AG54: 25
A55: 34 | B55: 03.5025.06 | C55: ALESSANDRO DA PAZ RODRIGUES | D55: MEL | E55: SMEL FOZ DO IGUAÇU | F55: PR | G55: =SUM(I55:AQ55) -> 25 | AA55: 25
A56: 34 | B56: 28.7771.08 | C56: FRANCISCO HENRIQUE PRADO DA SILVA | D56: MEL | E56: TEPUY BIKE TEAM | F56: RR | G56: =SUM(I56:AQ56) -> 25 | Y56: 25
A57: 34 | B57: 12.23724.14 | C57: RENAN DE SANTANA DE BORTOLI | D57: MEL | E57: AVULSO | F57: BA | G57: =SUM(I57:AQ57) -> 25 | X57: 25
A58: 34 | B58: 20.28993.16 | C58: DENISSON CAVALCANTE DA COSTA | D58: MEL | E58: MOTO CLUBE DE SÃO LUIS | F58: MA | G58: =SUM(I58:AQ58) -> 25 | U58: 25
A59: 34 | B59: 07.32011.17 | C59: HUGO SANT ANA ALVES | D59: MEL | E59: AVULSO | F59: ES | G59: =SUM(I59:AQ59) -> 25 | S59: 25
A60: 35 | B60: 01.15960.12 | C60: AUGUSTO BORDIN KOPPE | D60: MEL | E60: APUANA TEAM (ACIL ASSOCIAÇÃO CICLISMO LOMBA GRANDE ) | F60: RS | G60: =SUM(I60:AQ60) -> 24 | AI60: 15 | AM60: 9
A61: 36 | B61: 18.21058.14 | C61: AROLDO MATOS BARBOSA | D61: MEL | E61: BARCELLOS | F61: CE | G61: =SUM(I61:AQ61) -> 23 | N61: 2 | R61: 1 | AL61: 20
A62: 37 | B62: 04.6079.06 | C62: MURILO FERRAZ AFFONSO | D62: MEL | E62: SOUL BRASIL PRO CYCLING TEAM | F62: SP | G62: =SUM(I62:AQ62) -> 20 | AG62: 20
A63: 37 | B63: 04.3547.05 | C63: LUCIANO PEREIRA | D63: MEL | E63: MEMORIAL / SANTOS / FUPES | F63: SP | G63: =SUM(I63:AQ63) -> 20 | AC63: 20
A64: 37 | B64: 20.19199.13 | C64: CELSO PEREIRA NUNES | D64: MEL | E64: AMEACO ( ASSOCIAÇÂO MULTISPORTIVA DO OLHO DAGÚA ) | F64: MA | G64: =SUM(I64:AQ64) -> 20 | U64: 20
A65: 38 | B65: 04.10797.09 | C65: ADRIANO SANCHES GROFF | D65: MEL | E65: ADI / INDAIATUBA SECRETARIA DE ESPORTES | F65: SP | G65: =SUM(I65:AQ65) -> 18 | Z65: 10 | AQ65: 8
A66: 39 | B66: 13.62.04 | C66: HUGO LESSA BATISTA | D66: MEL | E66: AVULSO | F66: SE | G66: =SUM(I66:AQ66) -> 17 | AK66: 17
A67: 39 | B67: 03.7201.07 | C67: RAUNY LEONARDO SILVEIRA GONÇALVES | D67: MEL | E67: CLUBE MARINGAENSE DE CICLISMO | F67: PR | G67: =SUM(I67:AQ67) -> 17 | AA67: 17
A68: 39 | B68: 12.22959.14 | C68: EDWARD SILVA DA COSTA PINTO | D68: MEL | E68: AVULSO | F68: BA | G68: =SUM(I68:AQ68) -> 17 | X68: 17
A69: 39 | B69: 20.29416.16 | C69: THIAGO SILVA DE CARVALHO | D69: MEL | E69: MOTO CLUBE DE SÃO LUIS | F69: MA | G69: =SUM(I69:AQ69) -> 17 | U69: 17
A70: 40 | B70: 04.3755.05 | C70: JOSE JAILSON DINIZ | D70: MEL | E70: PRO CYCLING TEAM ADF / GUARULHOS | F70: SP | G70: =SUM(I70:AQ70) -> 14 | AE70: 7 | AG70: 7
A71: 40 | B71: 01.2904.05 | C71: VANDERLEI MELCHIOR | D71: MEL | E71: APUANA TEAM (ACIL ASSOCIAÇÃO CICLISMO LOMBA GRANDE ) | F71: RS | G71: =SUM(I71:AQ71) -> 14 | W71: 8 | AI71: 1 | AM71: 5
A72: 41 | B72: 16.30207.17 | C72: CLEYSSON ALVES RODRIGUES | D72: MEL | E72: ASSOCIAÇÃO DOS CICLISTAS DA PARAIBA | F72: PB | G72: =SUM(I72:AQ72) -> 13 | AD72: 13
A73: 41 | B73: 04.598.04 | C73: RENATO RUIZ | D73: MEL | E73: ECT/TAUBATÉ/TARUMÃ | F73: SP | G73: =SUM(I73:AQ73) -> 13 | Z73: 12 | AO73: 1
A74: 41 | B74: 12.7083.07 | C74: JOSE ROMULO DE FREITAS JUNIOR | D74: MEL | E74: CLUBE TEAM SUL BAIANO DE CICLISMO | F74: BA | G74: =SUM(I74:AQ74) -> 13 | X74: 13
A75: 41 | B75: 05.499.04 | C75: RICARDO ALCICI MATOS | D75: MEL | E75: ACE/NEOBOX/VIANEZA/VALORES/CEMIL/APIS | F75: MG | G75: =SUM(I75:AQ75) -> 13 | O75: 9 | AJ75: 4
A76: 41 | B76: 06.5610.06 | C76: RONY PETERSON DE OLIVEIRA GRANJA | D76: MEL | E76: UNIAO CICLITICA DO RIO DE JANEIRO | F76: RJ | G76: =SUM(I76:AQ76) -> 13 | P76: 13
A77: 42 | B77: 05.6302.07 | C77: LUIZ FERNANDO LOUZADA DO CARMO | D77: MEL | E77: ACE/NEOBOX/VIANEZA/VALORES/CEMIL/APIS | F77: MG | G77: =SUM(I77:AQ77) -> 12 | O77: 7 | AJ77: 5
A78: 43 | B78: 04.2611.04 | C78: RAPHAEL HENRIQUES MANCINI SERPA | D78: MEL | E78: SOUL BRASIL PROCYCLING TEAM | F78: SP | G78: =SUM(I78:AQ78) -> 10 | AQ78: 10
A79: 43 | B79: 02.2792.05 | C79: RENAN DA SILVA | D79: MEL | E79: ORBEA DO BRASIL JOINVILLE | F79: SC | G79: =SUM(I79:AQ79) -> 10 | AC79: 10
A80: 43 | B80: 04.608.04 | C80: BRENO FRANÇA SIDOTI | D80: MEL | E80: EQUIPE DE CICLISMO TAUBATÉ | F80: SP | G80: =SUM(I80:AQ80) -> 10 | AB80: 10
A81: 44 | B81: 02.25280.15 | C81: ALAN ANDRADE FIRMIANO | D81: MEL | E81: APGF/SÃO JOSÉ | F81: SC | G81: =SUM(I81:AQ81) -> 9 | AP81: 9
A82: 44 | B82: 04.664.04 | C82: PEDRO AUTRAN DOURADO DUTRA NICACIO | D82: MEL | E82: SOUL BRASIL PRO CYCLING TEAM | F82: SP | G82: =SUM(I82:AQ82) -> 9 | AE82: 9
A83: 44 | B83: 06.3486.05 | C83: JOSE RONALDO DA SILVA | D83: MEL | E83: UNIÃO CICLÍSTICA DO RIO DE JANEIRO | F83: RJ | G83: =SUM(I83:AQ83) -> 9 | AG83: 9
A84: 44 | B84: 20.23941.15 | C84: BRUNO LEONARDO PINTO MARTINS | D84: MEL | E84: SAMPAIO CORREA F CLUBE | F84: MA | G84: =SUM(I84:AQ84) -> 9 | U84: 9
A85: 45 | B85: 04.5919.06 | C85: RICARDO LUIZ PICCOLI | D85: MEL | E85: ABEC / RIO CLARO | F85: SP | G85: =SUM(I85:AQ85) -> 8 | Z85: 8
A86: 45 | B86: 05.20084.13 | C86: MARCOS ANTONIO MAGALHAES | D86: MEL | E86: ACE/NEOBOX/VIANEZA/VALORES/CEMIL/APIS | F86: MG | G86: =SUM(I86:AQ86) -> 8 | O86: 8
A87: 46 | B87: 02.28315.16 | C87: EDERSON HERICKS | D87: MEL | E87: AVULSO | F87: SC | G87: =SUM(I87:AQ87) -> 7 | AP87: 7
A88: 46 | B88: 04.607.04 | C88: SOELITO GOHR | D88: MEL | E88: MEMORIAL / SANTOS / FUPES | F88: SP | G88: =SUM(I88:AQ88) -> 7 | AM88: 7
A89: 46 | B89: 04.3784.05 | C89: FRANKLIN GOMES DE ALMEIDA | D89: MEL | E89: TEAM SBC AUDAX / SÃO BERNARDO DO CAMPO | F89: SP | G89: =SUM(I89:AQ89) -> 7 | X89: 7
A90: 46 | B90: 26.765.04 | C90: ElOI RAFAEL GONZAGA DE MORAIS | D90: MEL | E90: ELITE TEAM CYCLING - | F90: AP | G90: =SUM(I90:AQ90) -> 7 | Q90: 7
A91: 46 | B91: 06.9065.08 | C91: ADRIANO DONIZETI RIBEIRO | D91: MEL | E91: UNIAO CICLITICA DO RIO DE JANEIRO | F91: RJ | G91: =SUM(I91:AQ91) -> 7 | P91: 7
A92: 47 | B92: 04.3913.05 | C92: ALEXANDRE MANTOVANI | D92: MEL | E92: AVULSO | F92: SP | G92: =SUM(I92:AQ92) -> 6 | AQ92: 6
A93: 47 | B93: 04.22884.14 | C93: FABIO XAVIER DOS SANTOS | D93: MEL | E93: AJEP / TIME JUNDIAÍ / FIRSTBIKES / NEW MILLEN / ISOTECH / DK | F93: SP | G93: =SUM(I93:AQ93) -> 6 | Z93: 6
A94: 47 | B94: 26.3455.05 | C94: YGOR NUNES DOS SANTOS | D94: MEL | E94: SOCIEDADE ESPORTIVA E RECREATIVA CREATIVO/EQUIPE CICLISMO R | F94: AP | G94: =SUM(I94:AQ94) -> 6 | Q94: 5 | T94: 1
A95: 47 | B95: 05.4951.06 | C95: GILBERTO GOMES MARTINS | D95: MEL | E95: ACE/NEOBOX/VIANEZA/VALORES/CEMIL/APIS | F95: MG | G95: =SUM(I95:AQ95) -> 6 | O95: 6
A96: 48 | B96: 02.2911.05 | C96: EDSON LUIS DE REZENDE | D96: MEL | E96: AVAI/FME FLORIANÓPOLIS/APGF | F96: SC | G96: =SUM(I96:AQ96) -> 5 | AP96: 5
A97: 48 | B97: 04.24651.15 | C97: WILLIAN VINICIUS DE LIMA SOUZA | D97: MEL | E97: AVULSO | F97: SP | G97: =SUM(I97:AQ97) -> 5 | AI97: 5
A98: 48 | B98: 04.32100.17 | C98: JOSÉ WLADIMIR GARCIA TOLEDO | D98: MEL | E98: PRO CYCLING TEAM ADF / GUARULHOS | F98: SP | G98: =SUM(I98:AQ98) -> 5 | AE98: 5
A99: 48 | B99: 12.23858.15 | C99: VITOR ANDRADE FERREIRA | D99: MEL | E99: CLUBE TEAM SUL BAIANO DE CICLISMO | F99: BA | G99: =SUM(I99:AQ99) -> 5 | X99: 5
A100: 48 | B100: 01.6548.07 | C100: PAULO RICARDO BRUM DUARTE | D100: MEL | E100: APUANA TEAM (ACIL ASSOCIAÇÃO CICLISMO LOMBA GRANDE ) | F100: RS | G100: =SUM(I100:AQ100) -> 5 | W100: 5
...

Sheet FEL
A1: CONFEDERAÇÃO BRASILEIRA DE CICLISMO | I1: Campeonatos Estaduais 2017 | K1: VIII Volta Ciclistica do Pará - Belém - PA - 10 e 11/06/2017 | L1: Caminho dos Cristais - Curvelo - MG - 18.06.17 | M1: Desafio de Ciclismo São Jose de Anchieta - Vitoria - ES - 11.06.17 | N1: V Copa Amapa de Ciclismo - Amapa - AP - 04.06.17 | O1: Troféu Oswaldo Marques - Altos - PI - 28/05/2017 | P1: Speed Racer Bike - Cariacica - ESP - 21/05/2017 | Q1: 1ª Copa Belém de Ciclismo - Belém - PA - 14/05/2017 | R1: SLZ Ilha Race - São Luis - MA - 14/05/2017 | S1: GP Bahia de Ciclismo - Feira de Santana - BA - 07/05/2017 | T1: XXI GP de Ciclismo Israel de Freitas - Curiau - AP - 07/05/2017 | U1: 9º Desafio Internacional Serra do Tepequem - Amajari - RR - 06 e 07/05/2017 | V1: 65ª Prova Ciclistica 1º de Maio - Indaiatuba - SP - 01/05/2017 | W1: 29º GP de Nova Andradina - Nova Andradina - MS - 01/05/2017 | X1: Copa Hans Fischer - Pomerode - SC - 29 e 30/04/2017 | Y1: GP Feminino de São Carlos - São Carlos - SP - 23/04/2017 | Z1: Prova Ciclistica da Inconfidencia Mineira - Senador Firmino - MG - 21/04/2017 | AA1: IX Copa SEEL de Ciclismo - Belém - PA - 16/04/2017 | AB1: Gran Cup Brasil de Ciclismo - Ubatuba - SP - 02/04/2017 | AC1: GP Cidade de Curitiba - Curitiba - PR - 02/04/2017 | AD1: Subida do Morro da Cruz - Florianópolis - SC - 26/03/2017 | AE1: 9º Circuito Ciclístico Cidade de Aracaju - Aracaju - SE - 19/03/2017 | AF1: Volta do Ceará - Eusébio - CE - 17 a 19/03/2017 | AG1: 50º Circuito do Boa Vista - Joinvile - SC - 11 e 12/03/2017 | AH1: 8ª GP Mega 94 de Ciclismo - Campo Grande - MS - 05/03/2017 | AI1: GP Sesc Verão de Ciclismo - Sorocaba-SP - 19/02/2017 | AJ1: Bike Fest Gaspar - Gaspar-SC - 19/02/2017 | AK1: Torneio de Verão - Ilha Comprida-SP - 16 a 19/02/2017
A2: RANKING ESTRADA ELITE FEMININO | E2: ='Data de Atualização'!$A$1 -> 42941
A3: POS | B3: LICENÇA | C3: CORREDOR | D3: CATEG | E3: EQUIPE | F3: FED | G3: PTOS | I3: CE | K3: 2B | L3: 5 | M3: 4 | N3: 5 | O3: 4 | P3: 4 | Q3: 4 | R3: 4 | S3: 4 | T3: 4 | U3: 3 | V3: ELITE PRÓ/3 | W3: 4 | X3: 2B | Y3: 5 | Z3: 4 | AA3: 4 | AB3: 4 | AC3: 4 | AD3: 3 | AE3: 4 | AF3: 2B | AG3: 4 | AH3: 4 | AI3: 4 | AJ3: 5 | AK3: 2B
A4: 1 | B4: 04.3729.05 | C4: CAMILA COELHO FERREIRA | D4: FEL | E4: MEMORIAL / SANTOS / FUPES | F4: SP | G4: =SUM(I4:AK4) -> 280 | V4: 50 | X4: 35 | AC4: 40 | AD4: 65 | AG4: 35 | AK4: 55
A5: 2 | B5: 04.23615.14 | C5: TAISE MAIARA BENATO | D5: FEL | E5: MEMORIAL / SANTOS / FUPES | F5: SP | G5: =SUM(I5:AK5) -> 250 | V5: 35 | X5: 50 | AC5: 15 | AD5: 80 | AG5: 40 | AK5: 30
A6: 2 | B6: 26.22449.14 | C6: BRENDA VITORIA LOBATO SIMÕES | D6: FEL | E6: TOPAZZA CYCLING CLUB | F6: AP | G6: =SUM(I6:AK6) -> 250 | K6: 60 | N6: 5 | O6: 25 | Q6: 40 | T6: 20 | AA6: 40 | AF6: 60
A7: 3 | B7: 04.4098.05 | C7: ANA PAULA POLEGATCH | D7: FEL | E7: MEMORIAL / SANTOS / FUPES | F7: SP | G7: =SUM(I7:AK7) -> 177 | V7: 65 | Z7: 40 | AB7: 35 | AK7: 37
A8: 4 | B8: 02.29752.16 | C8: SYLVIA KREUGER | D8: FEL | E8: AVAI/FME FLORIANÓPOLIS/APGF | F8: SC | G8: =SUM(I8:AK8) -> 121.5 | X8: 55 | AD8: 55 | AG8: 7 | AJ8: 4.5
A9: 5 | B9: 02.21395.14 | C9: TAMIRES FANNY RADATZ | D9: FEL | E9: AVAI/FME FLORIANÓPOLIS/APGF | F9: SC | G9: =SUM(I9:AK9) -> 119 | X9: 60 | AD9: 35 | AG9: 20 | AJ9: 4
A10: 6 | B10: 22.29269.16 | C10: AMANDA BORGES DE SOUZA | D10: FEL | E10: A.U.C.P. - ASSOCIAÇÃO UNIÃO CICLÍSTICA DE PARAGOMINAS | F10: PA | G10: =SUM(I10:AK10) -> 110 | K10: 50 | Q10: 35 | AA10: 25
A11: 7 | B11: 02.27759.16 | C11: KAROLINE MARIECHEN MEYER | D11: FEL | E11: AVAI/FME FLORIANÓPOLIS/APGF | F11: SC | G11: =SUM(I11:AK11) -> 88 | X11: 45 | AD11: 25 | AG11: 13 | AJ11: 5 | AK11: ,
A12: 8 | B12: 04.17357.12 | C12: ADRIANA AZUMA LOBO | D12: FEL | E12: MEMORIAL / SANTOS / FUPES | F12: SP | G12: =SUM(I12:AK12) -> 85 | V12: 18 | X12: 37 | AB12: 15 | AK12: 15
A13: 8 | B13: 18.32481.17 | C13: THAIS MIKELLE COELHO LIMA | D13: FEL | E13: MAURICIO LEAO | F13: CE | G13: =SUM(I13:AK13) -> 85 | K13: 55 | O13: 30
A14: 9 | B14: 22.31487.17 | C14: TAIANA SILVA DE FREITAS | D14: FEL | E14: PEDAL ANANIN | F14: PA | G14: =SUM(I14:AK14) -> 70 | K14: 45 | Q14: 25
A15: 10 | B15: 18.22553.14 | C15: MARIA JANNIELE PEREIRA DOS REIS | D15: FEL | E15: CEARÁ BIKER | F15: CE | G15: =SUM(I15:AK15) -> 60 | O15: 20 | AF15: 40
A16: 11 | B16: 04.4087.05 | C16: VIVIANE LOURENÇO DOS SANTOS | D16: FEL | E16: FUNVIC BRASIL PROCYCLING / SÃO JOSÉ DOS CAMPOS | F16: SP | G16: =SUM(I16:AK16) -> 56 | O16: 35 | V16: 21
A17: 12 | B17: 04.7323.07 | C17: CRISTIANE PEREIRA DA SILVA | D17: FEL | E17: FUNVIC BRASIL PROCYCLING / SÃO JOSÉ DOS CAMPOS | F17: SP | G17: =SUM(I17:AK17) -> 49 | O17: 40 | V17: 9
A18: 13 | B18: 04.1660.04 | C18: LUCIENE FERREIRA DA SILVA | D18: FEL | E18: FUNVIC BRASIL PROCYCLING / SÃO JOSÉ DOS CAMPOS | F18: SP | G18: =SUM(I18:AK18) -> 45 | V18: 45
A19: 14 | B19: 25.30250.16 | C19: NAYME DAYANE MUNIZ FARIAS | D19: FEL | E19: AVULSO | F19: RR | G19: =SUM(I19:AK19) -> 40 | U19: 40
A20: 15 | B20: 08.25023.15 | C20: VIVIANE DA SILVA BARBOSA CESÁRIO | D20: FEL | E20: C.R.C. CLUBE RIOBRILHANTENSE DE CICLISMO | F20: MS | G20: =SUM(I20:AK20) -> 35 | W20: 15 | AH20: 20
A21: 15 | B21: 03.13258.10 | C21: ANA PAULA CASETTA | D21: FEL | E21: CLUBE MARINGAENSE DE CICLISMO | F21: PR | G21: =SUM(I21:AK21) -> 35 | AC21: 35
A22: 16 | B22: 04.31446.17 | C22: MARCELLA MAHFUZ TOLDI | D22: FEL | E22: 5WAYS TEAM / SÃO PAULO | F22: SP | G22: =SUM(I22:AK22) -> 33 | V22: 8 | AI22: 25
A23: 17 | B23: 28.7772.08 | C23: MARIA BETÂNIA PIMENTEL DOS SANTOS | D23: FEL | E23: PEDAL CABURAI | F23: RR | G23: =SUM(I23:AK23) -> 32.5 | U23: 32.5
A24: 18 | B24: 05.501.04 | C24: ROBERTA KELLY STOPA | D24: FEL | E24: STOPA TEAM | F24: MG | G24: =SUM(I24:AK24) -> 30 | Z24: 30
A25: 18 | B25: 04.6423.07 | C25: SILVIA AUGUSTA DA SILVA | D25: FEL | E25: LCS / SOROCABA | F25: SP | G25: =SUM(I25:AK25) -> 30 | V25: 30
A26: 18 | B26: 22.27222.15 | C26: CYNTIA RENATA GALVÃO LAMEIRA RAMOS | D26: FEL | E26: CLUBE AMAZÔNIA DE CICLISMO | F26: AP | G26: =SUM(I26:AK26) -> 30 | Q26: 30
A27: 18 | B27: 05.30452.16 | C27: PRISCILA BENICIO BRAGA | D27: FEL | E27: ACE/NEOBOX/VIANEZA/VALORES/CEMIL/APIS | F27: MG | G27: =SUM(I27:AK27) -> 30 | L27: 5 | Z27: 25
A28: 18 | B28: 07.32240.17 | C28: ANA CAROLINA PELICIONI DA SILVA | D28: FEL | E28: AVULSO | F28: ES | G28: =SUM(I28:AK28) -> 30 | M28: 15 | P28: 15
A29: 19 | B29: 04.16937.12 | C29: JÉSSICA APARECIDA DOS SANTOS BRAZ | D29: FEL | E29: TEAM SBC AUDAX / SÃO BERNARDO DO CAMPO | F29: SP | G29: =SUM(I29:AK29) -> 25 | V29: 25
A30: 20 | B30: 03.18429.13 | C30: PRISCILA REQUIÃO LESSA | D30: FEL | E30: AVULSO | F30: PR | G30: =SUM(I30:AK30) -> 22 | V30: 6 | AC30: 2 | AD30: 11 | AG30: 3
A31: 21 | B31: 22.9374.08 | C31: TASSYA PRISCILA COSTA BRASIL MORAES | D31: FEL | E31: CLUBE AMAZÔNIA DE CICLISMO | F31: PA | G31: =SUM(I31:AK31) -> 20 | AA31: 20
A32: 21 | B32: 12.30996.17 | C32: CAROLINE SANTOS DA SILVA | D32: FEL | E32: AVULSO | F32: BA | G32: =SUM(I32:AK32) -> 20 | S32: 20
A33: 21 | B33: 20.7490.07 | C33: IRISLENE DA SILVA | D33: FEL | E33: MOTO CLUBE DE SÃO LUIS | F33: MA | G33: =SUM(I33:AK33) -> 20 | R33: 20
A34: 21 | B34: 07.24921.15 | C34: CATHARINA FARIAS PETRONETTO | D34: FEL | E34: CAVEIRAS BIKE TEAM | F34: ES | G34: =SUM(I34:AK34) -> 20 | P34: 20
A35: 21 | B35: 04.1864.04 | C35: MAIRA HENDI DE MORAES BARBOSA | D35: FEL | E35: MEMORIAL / SANTOS / FUPES | F35: SP | G35: =SUM(I35:AK35) -> 20 | AF35: 20
A36: 21 | B36: 12.28526.16 | C36: GISLAINE CLARICE FLECK | D36: FEL | E36: AVULSO | F36: BA | G36: =SUM(I36:AK36) -> 20 | M36: 20
A37: 22 | B37: 07.20970.13 | C37: EUDETH POSSATTO FERREIRA VARGAS | D37: FEL | E37: CAVEIRAS BIKE TEAM | F37: ES | G37: =SUM(I37:AK37) -> 17.5 | P37: 17.5
A38: 22 | B38: 06.28700.16 | C38: JANIS CORDEIRO DE PINHO PAES | D38: FEL | E38: EQUIPE LUCIA ARANHA | F38: RJ | G38: =SUM(I38:AK38) -> 17.5 | M38: 17.5
A39: 23 | B39: 04.31828.17 | C39: ERIKA SOARES CORREA | D39: FEL | E39: 5WAYS TEAM / SÃO PAULO | F39: SP | G39: =SUM(I39:AK39) -> 17 | AI39: 17
A40: 24 | B40: 04.32058.17 | C40: PATRICIA RIBEIRO DA POS | D40: FEL | E40: AJEP / TIME JUNDIAÍ / FIRSTBIKES / NEW MILLEN / ISOTECH / DK | F40: SP | G40: =SUM(I40:AK40) -> 15 | V40: 15
A41: 25 | B41: 04.8880.08 | C41: NAIARA CRISTINA RODRIGUES | D41: FEL | E41: AVULSO | F41: SP | G41: =SUM(I41:AK41) -> 14 | V41: 2 | Y41: 9 | AB41: 3
A42: 26 | B42: 04.8306.08 | C42: LAIS MENDES SOARES SAES | D42: FEL | E42: ADI / INDAIATUBA SECRETARIA DE ESPORTES | F42: SP | G42: =SUM(I42:AK42) -> 13 | V42: 13
A43: 27 | B43: 04.26630.15 | C43: MARIANA DE FREITAS CAMARGO | D43: FEL | E43: AVULSO | F43: SP | G43: =SUM(I43:AK43) -> 12 | V43: 4 | Y43: 8
A44: 28 | B44: 04.26961.15 | C44: MARIA CAMILA GIANNELLA | D44: FEL | E44: 5WAYS TEAM | F44: SP | G44: =SUM(I44:AK44) -> 11 | V44: 11
A45: 29 | B45: 02.28040.16 | C45: SCHEYLA PETERS | D45: FEL | E45: CYCLING TEAM PEDALA ITAPEMA/PREF.DE ITAPEMA/PPS DISTRIBUIDOR | F45: SC | G45: =SUM(I45:AK45) -> 10 | AD45: 8 | AG45: 2
A46: 30 | B46: 18.31271.17 | C46: ANTONIA GEOVANIA DE CASTRO | D46: FEL | E46: AVULSO | F46: CE | G46: =SUM(I46:AK46) -> 9 | AF46: 9
A47: 30 | B47: 03.28411.16 | C47: SHEILA MENDONÇA GOMES CORADIN | D47: FEL | E47: AVULSO | F47: PR | G47: =SUM(I47:AK47) -> 9 | AC47: 9
A48: 31 | B48: 04.20926.13 | C48: LUSUELEN DOMINGUES DOS SANTOS | D48: FEL | E48: FUNDESPORT/ARARAQUARA | F48: SP | G48: =SUM(I48:AK48) -> 7 | Y48: 7
A49: 31 | B49: 04.8271.09 | C49: BARBARA BIANCA IMBRIOLI | D49: FEL | E49: ADI / INDAIATUBA SECRETARIA DE ESPORTES | F49: SP | G49: =SUM(I49:AK49) -> 7 | V49: 7
A50: 32 | C50: MICHELLE DE CASSIA SILVA DIAS | D50: FEL | E50: ALTERNATIVA - SOURE | F50: PA | G50: =SUM(I50:AK50) -> 5 | AA50: 5
A51: 32 | B51: 04.5853.06 | C51: ANDREA PASSOS MARQUES | D51: FEL | E51: FUNDESPORT/ARARAQUARA | F51: SP | G51: =SUM(I51:AK51) -> 5 | Y51: 5
A52: 32 | B52: 06.28104.16 | C52: ANELISE ROCHA ASSUMPÇÃO | D52: FEL | E52: ELITE BIKE RIO | F52: RJ | G52: =SUM(I52:AK52) -> 5 | V52: 5
A53: 33 | B53: 02.31464.17 | C53: CINTIA ANDRÉIA MAFRA | D53: FEL | E53: CYCLING TEAM PEDALA ITAPEMA/PREF.DE ITAPEMA/PPS DISTRIBUIDOR | F53: SC | G53: =SUM(I53:AK53) -> 4.5 | AG53: 1 | AJ53: 3.5
A54: 33 | B54: 26.27972.16 | C54: ADRIANA HELENA DE LIMA FERREIRA | D54: FEL | E54: ASSISTEC CICLO TEAM - | F54: AP | G54: =SUM(I54:AK54) -> 4.5 | N54: 4.5
A55: 34 | B55: 04.30323.16 | C55: ROSEMEIRE ALVES DA SILVA | D55: FEL | E55: ADI / INDAIATUBA SECRETARIA DE ESPORTES | F55: SP | G55: =SUM(I55:AK55) -> 3 | V55: 3
A56: 35 | B56: 04.24484.15 | C56: BRUNA CAROLINA FRANCO FAGUNDES | D56: FEL | E56: GREEN BIKE/PIRACICABA | F56: SP | G56: =SUM(I56:AK56) -> 1 | V56: 1
G57: =SUM(I57:AK57) -> 0
G58: =SUM(I58:AK58) -> 0
G59: =SUM(I59:AK59) -> 0
G60: =SUM(I60:AK60) -> 0
G61: =SUM(I61:AK61) -> 0
G62: =SUM(I62:AK62) -> 0
G63: =SUM(I63:AK63) -> 0
D64: FEL | G64: =SUM(I64:AK64) -> 0
D65: FEL | G65: =SUM(I65:AK65) -> 0
D66: FEL | G66: =SUM(I66:AK66) -> 0
D67: FEL | G67: =SUM(I67:AK67) -> 0
D68: FEL | G68: =SUM(I68:AK68) -> 0

Sheet M23
A1: CONFEDERAÇÃO BRASILEIRA DE CICLISMO | I1: Campeonatos Estaduais 2017 | K1: VIII Volta Ciclistica do Pará - Belém - PA - 10 e 11/06/2017 | L1: Caminho dos Cristais - Curvelo - MG - 18/06/2017 | M1: Desafio de Ciclismo São Jose de Anchieta - Vitória - ES - 11/06/2017 | N1: V Copa Amapa de Ciclismo - Amapá - AP - 04/06/2017 | O1: Troféu Oswaldo Marques - Altos - PI - 28/05/2017 | P1: Speed Racer Bike - Cariacica - ESP - 21/05/2017 | Q1: 1ª Copa Belém de Ciclismo - Belém - PA - 14/05/2017 | R1: SLZ Ilha Race - São Luis - MA - 14/05/2017 | S1: XXI GP de Ciclismo Israel de Freitas - Curiau - AP - 07/05/2017 | T1: Volta de Ciclismo de Passo Fundo - Passo Fundo - RS - 07/05/2017 | U1: 9º Desafio Internacional Serra do Tepequem - Amajari - RR - 06 e 07/05/2017 | V1: 65ª Prova Ciclistica 1º de Maio - Indaiatuba - SP - 01/05/2017 | W1: 29º GP de Nova Andradina - Nova Andradina - MS - 01/05/2017 | X1: Copa Hans Fischer - Pomerode - SC - 29 e 30/04/2017 | Y1: 4º Circuito Ducks Bike de Ciclismo - Patos - PB - 23/04/2017 | Z1: Prova Ciclistica da Inconfidencia Mineira - Senador Firmino - MG - 21/04/2017 | AA1: IX Copa SEEL de Ciclismo - Belém - PA - 16/04/2017 | AB1: Gran Cup Brasil de Ciclismo - Ubatuba - SP - 02/04/2017 | AC1: GP Cidade de Curitiba - Curitiba - PR - 02/04/2017 | AD1: Subida do Morro da Cruz - Florianópolis - SC - 26/03/2017 | AE1: Copa Velho Chico - Januária - MG - 26/03/2017 | AF1: 9º Circuito Ciclístico Cidade de Aracaju - Aracaju - SE - 19/03/2017 | AG1: Volta do Ceará - Eusébio - CE - 17 a 19/03/2017 | AH1: 50º Circuito do Boa Vista - Joinvile - SC - 11 e 12/03/2017 | AI1: 8ª GP Mega 94 de Ciclismo - Campo Grande - MS - 05/03/2017 | AJ1: GP Sesc Verão de Ciclismo - Sorocaba-SP - 19/02/2017 | AK1: Bike Fest Gaspar - Gaspar-SC - 19/02/2017 | AL1: Torneio de Verão - Ilha Comprida-SP - 16 a 19/02/2017
A2: RANKING ESTRADA SUB 23 MASCULINO | E2: ='Data de Atualização'!$A$1 -> 42941
A3: POS | B3: LICENÇA | C3: CORREDOR | D3: CATEG | E3: EQUIPE | F3: FED | G3: PTOS | I3: CE | K3: 2B | L3: 5 | M3: 4 | N3: 5 | O3: 4 | P3: 4 | Q3: 4 | R3: 4 | S3: 4 | T3: 5 | U3: 3 | V3: ELITE PRÓ/3 | W3: 4 | X3: 2B | Y3: 4 | Z3: 4 | AA3: 4 | AB3: 4 | AC3: 4 | AD3: 3 | AE3: 5 | AF3: 4 | AG3: 2B | AH3: 4 | AI3: 4 | AJ3: 4 | AK3: 5 | AL3: 2B
A4: 1 | B4: 26.11530.09 | C4: LUCAS GABRIEL MAIA TAVARES | D4: MS23 | E4: TOPAZZA CYCLING CLUB | F4: AP | G4: =SUM(I4:AL4) -> 198 | K4: 55 | N4: 10 | O4: 11 | Q4: 17 | S4: 35 | W4: 35 | AA4: 35
A5: 2 | B5: 26.9828.10 | C5: KAIK FELIPH DA SILVA | D5: MS23 | E5: TOPAZZA CYCLING CLUB | F5: AP | G5: =SUM(I5:AL5) -> 150 | K5: 35 | N5: 6 | O5: 13 | Q5: 20 | S5: 25 | W5: 25 | AA5: 17 | AG5: 9
A6: 3 | B6: 22.28038.16 | C6: LUCAS JOSÉ SOUZA FERREIRA | D6: MS23 | E6: CLUBE AMAZÔNIA DE CICLISMO | F6: PA | G6: =SUM(I6:AL6) -> 125 | K6: 60 | U6: 65
A7: 4 | B7: 04.11284.09 | C7: CAIO GODOY ORMENESE | D7: MS23 | E7: SOUL BRASIL PRO CYCLING TEAM | F7: SP | G7: =SUM(I7:AL7) -> 95 | V7: 55 | AB7: 40
A8: 5 | B8: 04.7991.09 | C8: ANDRÉ EDUARDO GOHR | D8: MS23 | E8: BRUCICLE - ASSOCIAÇÃO BRUSQUENSE DE CICLISMO | F8: SP | G8: =SUM(I8:AL8) -> 91 | X8: 60 | AD8: 21 | AK8: 10 | AL8: ,
A9: 6 | B9: 22.21530.14 | C9: OTAVIO HENRIQUE DOS SANTOS CORREA | D9: MS23 | E9: CLUBE AMAZÔNIA DE CICLISMO | F9: PA | G9: =SUM(I9:AL9) -> 77 | K9: 40 | Q9: 7 | AA9: 30
A10: 7 | B10: 04.13473.11 | C10: BRENO MORAIS SANTOS | D10: MS23 | E10: SOUL BRASIL PROCYCLING TEAM | F10: SP | G10: =SUM(I10:AL10) -> 70 | V10: 5 | AF10: 40 | AL10: 25
A11: 8 | B11: 03.18915.13 | C11: SAMUEL HAUANE REIKDAL STACHERA | D11: MS23 | E11: CLUBE DE CICLISMO SO PEDAL | F11: PR | G11: =SUM(I11:AL11) -> 50 | V11: 1 | X11: 45 | AH11: 4
A12: 8 | B12: 04.19296.13 | C12: LEONARDO DA SILVA CIANDRINI | D12: MS23 | E12: LCS / SOROCABA | F12: SP | G12: =SUM(I12:AL12) -> 50 | V12: 50
A13: 8 | B13: 04.14374.11 | C13: LUIS FERNANDO GOMES TREVISAN | D13: MS23 | E13: SÃO FRANCISCO SAÚDE/KLABIN/SME RIBEIRÃO PRETO | F13: SP | G13: =SUM(I13:AL13) -> 50 | M13: 30 | AC13: 20
A14: 9 | B14: 26.16568.12 | C14: ARNOM DOUGLAS DA COSTA LOBATO | D14: MS23 | E14: TOPAZZA CYCLING CLUB | F14: AP | G14: =SUM(I14:AL14) -> 48 | K14: 5 | O14: 3 | Q14: 9 | W14: 20 | AA14: 11
A15: 10 | B15: 04.7980.09 | C15: LUCAS RIBEIRO MOTTA | D15: MS23 | E15: SÃO FRANCISCO SAÚDE/KLABIN/SME RIBEIRÃO PRETO | F15: SP | G15: =SUM(I15:AL15) -> 47 | M15: 15 | V15: 7 | Z15: 25
A16: 11 | B16: 28.27928.16 | C16: GABRIEL BEKMAN PORTELA | D16: MS23 | E16: COIOTES RORAIMA | F16: RR | G16: =SUM(I16:AL16) -> 40 | U16: 40
A17: 11 | B17: 20.28992.16 | C17: JESSE SANTOS CARVALHO | D17: MS23 | E17: MOTO CLUBE DE SÃO LUIS | F17: MA | G17: =SUM(I17:AL17) -> 40 | R17: 40
A18: 12 | B18: 04.13550.11 | C18: CAIO FERNANDO DE SANTANA MESQUITA | D18: MS23 | E18: MEMORIAL / SANTOS / FUPES | F18: SP | G18: =SUM(I18:AL18) -> 36 | AB18: 3 | AG18: 33
A19: 23 | B19: 13.12372.10 | C19: VICTOR FERNANDES SILVA LIMA DE SOUZA | D19: MS23 | E19: AVULSO | F19: SE | G19: =SUM(I19:AL19) -> 35 | AF19: 35
A20: 13 | B20: 03.14613.11 | C20: FABIO PEREIRA DALAMARIA | D20: MS23 | E20: CLUBE DE CICLISMO SO PEDAL | F20: PR | G20: =SUM(I20:AL20) -> 35 | AC20: 35
A21: 14 | B21: 04.14377.11 | C21: VITOR FERNANDES DA FONSECA | D21: MS23 | E21: ECT/TAUBATÉ/TARUMÃ | F21: SP | G21: =SUM(I21:AL21) -> 30 | AJ21: 30
A22: 14 | B22: 04.19629.13 | C22: WASHINGTON RODRIGUES CARVALHO | D22: MS23 | E22: MEMORIAL / SANTOS / FUPES | F22: SP | G22: =SUM(I22:AL22) -> 30 | X22: 30
A23: 14 | B23: 07.24675.15 | C23: MARCOS VINICIUS WESTPHAL DE OLIVEIRA | D23: MS23 | E23: CAVEIRAS BIKE TEAM | F23: ES | G23: =SUM(I23:AL23) -> 30 | P23: 30
A24: 15 | B24: 07.32323.17 | C24: EDUARDO BONOMO GUIMARÃES | D24: MS23 | E24: BIKE LEITE | F24: ES | G24: =SUM(I24:AL24) -> 29 | M24: 9 | P24: 20
A25: 16 | B25: 04.18931.13 | C25: VICTOR CESAR RANGHETTI | D25: MS23 | E25: SOUL BRASIL PROCYCLING TEAM | F25: PR | G25: =SUM(I25:AL25) -> 26 | V25: 9 | AC25: 7 | AD25: 9 | AL25: 1
A26: 17 | B26: 04.18952.13 | C26: MURILO HENRIQUE STAHLBERG MATOS | D26: MS23 | E26: ABEC / RIO CLARO | F26: SP | G26: =SUM(I26:AL26) -> 25 | AJ26: 25
A27: 18 | B27: 28.22738.14 | C27: ALEX HONORATO DE SOUZA | D27: MS23 | E27: TEPUY BIKE TEAM | F27: RR | G27: =SUM(I27:AL27) -> 21 | U27: 21
A28: 19 | B28: 03.25081.15 | C28: LUIS GABRIEL ASSUNÇÃO | D28: MS23 | E28: CLUBE CICLÍSTICO ARAPONGUENSE | F28: PR | G28: =SUM(I28:AL28) -> 20 | W28: 20
A29: 19 | B29: 04.25990.15 | C29: GABRIEL MACHADO DA SILVA | D29: MS23 | E29: SOUL BRASIL PRO CYCLING TEAM | F29: SP | G29: =SUM(I29:AL29) -> 20 | V29: 20
A30: 19 | B30: 06.11640.09 | C30: VITOR DEMIAN DA FONSECA FARINA E SILVA | D30: MS23 | E30: TEAM UFF | F30: RJ | G30: =SUM(I30:AL30) -> 20 | M30: 17 | AL30: 3
A31: 20 | B31: 04.14939.11 | C31: JOÃO GABRIEL LISBOA FERREIRA BASTOS | D31: MS23 | E31: MEMORIAL / SANTOS / FUPES | F31: SP | G31: =SUM(I31:AL31) -> 19 | AD31: 2 | AG31: 2 | AI31: 15
A32: 21 | B32: 05.23669.14 | C32: RAFAEL AUGUSTO DE PAULA BRAGA | D32: MS23 | E32: ACE/NEOBOX/VIANEZA/VALORES/CEMIL/APIS | F32: MG | G32: =SUM(I32:AL32) -> 18.5 | L32: 10 | V32: 4 | AE32: 4.5
A33: 22 | B33: 26.22439.14 | C33: ROBERT ALAIN VERCELLINO | D33: MS23 | E33: SOCIEDADE ESPORTIVA E RECREATIVA CREATIVO/EQUIPE CICLISMO R | F33: AP | G33: =SUM(I33:AL33) -> 17 | Q33: 2 | AA33: 15
A34: 23 | B34: 02.21983.14 | C34: RAFAEL GORGES | D34: MS23 | E34: CYCLING TEAM PEDALA ITAPEMA/PREF.DE ITAPEMA/PPS DISTRIBUIDOR | F34: SC | G34: =SUM(I34:AL34) -> 15 | X34: 15
A35: 23 | B35: 01.18554.13 | C35: GILSON CASTRO FILHO | D35: MS23 | E35: APUANA TEAM (ACIL ASSOCIAÇÃO CICLISMO LOMBA GRANDE ) | F35: RS | G35: =SUM(I35:AL35) -> 15 | T35: 9 | AD35: 6
A36: 23 | B36: 08.9326.10 | C36: NICOLAS AZAMBUJA RODRIGUES | D36: MS23 | E36: ASSOCIAÇÃO MODELO DOURADENSE DE CICLISMO | F36: MS | G36: =SUM(I36:AL36) -> 15 | W36: 15
A37: 24 | B37: 01.23398.14 | C37: ATILLIO PINNO FETTER | D37: MS23 | E37: APUANA TEAM (ACIL ASSOCIAÇÃO CICLISMO LOMBA GRANDE ) | F37: RS | G37: =SUM(I37:AL37) -> 13 | AD37: 13
A38: 24 | B38: 08.16213.12 | C38: VINICIUS DA SILVA SANTOS | D38: MS23 | E38: ASSOCIAÇÃO MODELO DOURADENSE DE CICLISMO | F38: MS | G38: =SUM(I38:AL38) -> 13 | W38: 13
A39: 24 | B39: 30.10699.10 | C39: ALESSANDRO FERREIRA SANTOS GUIMARAES | D39: MS23 | E39: ITALOMAT - DOGO | F39: SP | G39: =SUM(I39:AL39) -> 13 | V39: 13
A40: 25 | B40: 07.18327.13 | C40: IGOR HAASE PIMENTEL | D40: MS23 | E40: UNIAO CICLISTICA DO RIO DE JANEIRO | F40: ES | G40: =SUM(I40:AL40) -> 11 | M40: 11
A41: 26 | B41: 02.21834.14 | C41: AUGUSTO LUIZ PIEKARZIEVCZ | D41: MS23 | E41: FME BALNEÁRIO CAMBORIÚ | F41: SC | G41: =SUM(I41:AL41) -> 8 | X41: 8
A42: 27 | B42: 16.30754.17 | C42: MARCELO PEREIRA DA SILVA | D42: MS23 | E42: ASEAC-ASSOCIAÇÃO SOLEDADENSE DE ESPORTES E APOIO AO CICLISTA | F42: PB | G42: =SUM(I42:AL42) -> 7 | Y42: 7
A43: 28 | B43: 04.14204.11 | C43: LINCOLN DO VALE SILVA | D43: MS23 | E43: SOUL BRASIL PRO CYCLING TEAM | F43: SP | G43: =SUM(I43:AL43) -> 5 | AB43: 5
A44: 29 | B44: 04.13906.11 | C44: GIOVANE BIDO ARDUINO | D44: MS23 | E44: AVULSO | F44: SP | G44: =SUM(I44:AL44) -> 4 | AL44: 4
A45: 29 | B45: 16.31086.17 | C45: LEVI ALVES DO NASCIMENTO SOUSA | D45: MS23 | E45: AVULSO | F45: PB | G45: =SUM(I45:AL45) -> 4 | Y45: 4
A46: 29 | B46: 22.31377.17 | C46: MATEUS VINICIUS DA CUNHA MARQUES | D46: MS23 | E46: EXTREMO BIKE | F46: PA | G46: =SUM(I46:AL46) -> 4 | K46: 4
A47: 30 | B47: 19.23874.15 | C47: HUDSON CRISTIAN DE SOUSA SILVA | D47: MS23 | E47: VIA BIKE ROAD CYCLING - VBRC | F47: PI | G47: =SUM(I47:AL47) -> 2 | O47: 2
G48: =SUM(I48:AL48) -> 0
G49: =SUM(I49:AL49) -> 0
G50: =SUM(I50:AL50) -> 0
G51: =SUM(I51:AL51) -> 0
G52: =SUM(I52:AL52) -> 0
G53: =SUM(I53:AL53) -> 0
G54: =SUM(I54:AL54) -> 0
G55: =SUM(I55:AL55) -> 0
G56: =SUM(I56:AL56) -> 0
D57: MS23 | G57: =SUM(I57:AL57) -> 0
D58: MS23 | G58: =SUM(I58:AL58) -> 0
D59: MS23 | G59: =SUM(I59:AL59) -> 0
D60: MS23 | G60: =SUM(I60:AL60) -> 0
D61: MS23 | G61: =SUM(I61:AL61) -> 0

Sheet F23
A1: CONFEDERAÇÃO BRASILEIRA DE CICLISMO | I1: Campeonatos Estaduais 2017 | J1: VIII Volta Ciclistica do Pará - Belém - PA - 10 e 11/06/2017 | K1: 1ª Copa Belém de Ciclismo - Belém - PA - 14/05/2017 | L1: XXI GP de Ciclismo Israel de Freitas - Curiau - AP - 07/05/2017 | M1: 65ª Prova Ciclistica 1º de Maio - Indaiatuba - SP - 01/05/2017 | N1: 29º GP de Nova Andradina - Nova Andradina - MS - 01/05/2017 | O1: Copa Hans Fischer - Pomerode - SC - 29 e 30/04/2017 | P1: GP Feminino de São Carlos - São Carlos - SP - 23/04/2017 | Q1: 4º Circuito Ducks Bike de Ciclismo - Patos - PB - 23/04/2017 | R1: Prova Ciclistica da Inconfidencia Mineira - Senador Firmino - MG - 21/04/2017 | S1: IX Copa SEEL de Ciclismo - Belém - PA - 16/04/2017 | T1: GP Cidade de Curitiba - Curitiba - PR - 02/04/2017 | U1: Subida do Morro da Cruz - Florianópolis - SC - 26/03/2017 | V1: 9º Circuito Ciclístico Cidade de Aracaju - Aracaju - SE - 19/03/2017 | W1: Volta do Ceará - Eusébio - CE - 17 a 19/03/2017 | X1: 50º Circuito do Boa Vista - Joinvile - SC - 11 e 12/03/2017 | Y1: 8ª GP Mega 94 de Ciclismo - Campo Grande - MS - 05/03/2017 | Z1: GP Sesc Verão de Ciclismo - Sorocaba-SP - 19/02/2017 | AA1: Bike Fest Gaspar - Gaspar-SC - 19/02/2017 | AB1: Torneio de Verão - Ilha Comprida-SP - 16 a 19/02/2017
A2: RANKING ESTRADA SUB 23 FEMININO | E2: ='Data de Atualização'!$A$1 -> 42941
A3: POS | B3: LICENÇA | C3: CORREDOR | D3: CATEG | E3: EQUIPE | F3: FED | G3: PTOS | I3: CE | J3: 2B | K3: 4 | L3: 4 | M3: ELITE PRÓ/3 | N3: 4 | O3: 2B | P3: 5 | Q3: 4 | R3: 4 | S3: 4 | T3: 4 | U3: 3 | V3: 4 | W3: 2B | X3: 4 | Y3: 4 | Z3: 4 | AA3: 5 | AB3: 2B
A4: 1 | B4: 02.18826.13 | C4: LETICIA ALANA GOEDE | D4: FS23 | E4: BRUCICLE - ASSOCIAÇÃO BRUSQUENSE DE CICLISMO | F4: SC | G4: =SUM(I4:AB4) -> 163 | O4: 40 | T4: 25 | U4: 50 | X4: 17 | AB4: 31
A5: 2 | B5: 03.12717.10 | C5: TALITA DA LUZ DE OLIVEIRA | D5: FS23 | E5: LIGA DE CICLISMO CAMPOS GERAIS | F5: PR | G5: =SUM(I5:AB5) -> 106 | O5: 33 | T5: 30 | U5: 18 | X5: 25
A6: 3 | B6: 04.10495.10 | C6: THAYNÁ ARAUJO DE LIMA | D6: FS23 | E6: MEMORIAL / SANTOS / FUPES | F6: SP | G6: =SUM(I6:AB6) -> 87 | M6: 40 | P6: 7 | AB6: 40
A7: 4 | B7: 04.10513.10 | C7: WELLYDA REGISLEYNE DOS SANTOS RODRIGUES | D7: FS23 | E7: FUNVIC BRASIL PROCYCLING / SÃO JOSÉ DOS CAMPOS | F7: SP | G7: =SUM(I7:AB7) -> 80 | M7: 80
A8: 5 | B8: 22.32028.17 | C8: ADRIANA ALVES VALE | D8: FS23 | E8: CLUBE AMAZÔNIA DE CICLISMO | F8: PA | G8: =SUM(I8:AB8) -> 65 | J8: 37 | K8: 11 | L8: 15 | S8: 2
A9: 6 | B9: 02.16847.12 | C9: LIGIA MILANEZ VENTURINI | D9: FS23 | E9: BIKE POINT/FME CRICIÚMA | F9: SC | G9: =SUM(I9:AB9) -> 57 | O9: 31 | U9: 13 | X9: 4 | AB9: 9
A10: 7 | B10: 04.16265.12 | C10: LARISSA CASTELARI DE LIMA | D10: FS23 | E10: AVULSO | F10: SP | G10: =SUM(I10:AB10) -> 55 | U10: 40 | X10: 15
A11: 7 | B11: 04.8423.08 | C11: TATIELLE VALADARES DE SOUZA | D11: FS23 | E11: FUNVIC BRASIL PROCYCLING / SÃO JOSÉ DOS CAMPOS | F11: SP | G11: =SUM(I11:AB11) -> 55 | M11: 55
A12: 8 | B12: 05.20300.13 | C12: KAREN FERNANDES OLIMPIO | D12: FS23 | E12: ISAPA/OGGI | F12: MG | G12: =SUM(I12:AB12) -> 35 | R12: 35
A13: 9 | B13: 03.30006.16 | C13: REBECCA FANECO PAVANELO | D13: FS23 | E13: CLUBE CICLISTICO ARAPONGUENSE | F13: PR | G13: =SUM(I13:AB13) -> 30 | N13: 30
A14: 10 | B14: 13.23849.15 | C14: MICAELA NASCIMENTO LIMA | D14: FS23 | E14: AVULSO | F14: SE | G14: =SUM(I14:AB14) -> 20 | V14: 20
A15: 10 | B15: 16.32122.17 | C15: LIDYA NERES GOMES | D15: FS23 | E15: DUCK´S BIKE | F15: PB | G15: =SUM(I15:AB15) -> 20 | Q15: 20
A16: 10 | B16: 03.25077.15 | C16: BEATRIZ NASCIMENTO BATISTA | D16: FS23 | E16: CLUBE MARINGAENSE DE CICLISMO | F16: PR | G16: =SUM(I16:AB16) -> 20 | N16: 20
A17: 11 | B17: 13.18139.13 | C17: ANA GESSICA DOS SANTOS GOMES | D17: FS23 | E17: AVULSO | F17: SE | G17: =SUM(I17:AB17) -> 17 | V17: 17
A18: 12 | B18: 03.22643.14 | C18: GABRIELA MUNHOZ DA ROCHA DE PADUA | D18: FS23 | E18: CLUBE DE CICLISMO SO PEDAL | F18: PR | G18: =SUM(I18:AB18) -> 10 | T18: 1 | U18: 9
A19: 13 | B19: 04.30191.16 | C19: ADRIELE ALVES MENDES | D19: FS23 | E19: ECT/TAUBATÉ/TARUMÃ | F19: SP | G19: =SUM(I19:AB19) -> 9 | P19: 9
A20: 14 | B20: 03.16065.12 | C20: KARINA TATCHEVA SILVA | D20: FS23 | E20: PREFEITURA MUNICIPAL DE ROLÂNDIA | F20: PR | G20: =SUM(I20:AB20) -> 6 | P20: 6
A21: 15 | B21: 04.15733.12 | C21: ISABELA SILVA LUZ | D21: FS23 | E21: MEMORIAL / SANTOS / FUPES | F21: SP | G21: =SUM(I21:AB21) -> 5 | Z21: 5
D22: FS23 | G22: =SUM(I22:AB22) -> 0
D23: FS23 | G23: =SUM(I23:AB23) -> 0
D24: FS23 | G24: =SUM(I24:AB24) -> 0
D25: FS23 | G25: =SUM(I25:AB25) -> 0
D26: FS23 | G26: =SUM(I26:AB26) -> 0
D27: FS23 | G27: =SUM(I27:AB27) -> 0

Sheet MFEM
A1: CONFEDERAÇÃO BRASILEIRA DE CICLISMO | I1: Campeonatos Estaduais 2017 | J1: Troféu Oswaldo Marques - Altos - PI - 28/05/2017 | K1: Speed Racer Bike - Cariacica - ESP - 21/05/2017 | O1: VIII Volta Ciclistica do Pará - Belém - PA - 10 e 11/06/2017 | P1: Caminho dos Cristais - Curvelo - MG - 18/06/2017 | Q1: Desafio de Ciclismo São Jose de Anchieta - Vitória - ES - 11/06/2017 | R1: V Copa Amapa de Ciclismo - Amapa - AP - 04/06/2017 | S1: Volta de Ciclismo de Passo Fundo - Passo Fundo - RS - 07/05/2017 | T1: 9º Desafio Internacional Serra do Tepequem - Amajari - RR - 06 e 07/05/2017 | U1: 65ª Prova Ciclistica 1º de Maio - Indaiatuba - SP - 01/05/2017 | V1: 29º GP de Nova Andradina - Nova Andradina - MS - 01/05/2017 | W1: Copa Hans Fischer - Pomerode - SC - 29 e 30/04/2017 | X1: Prova Ciclistica da Inconfidencia Mineira - Senador Firmino - MG - 21/04/2017 | Y1: IX Copa SEEL de Ciclismo - Belém - PA - 16/04/2017 | Z1: GP Cidade de Curitiba - Curitiba - PR - 02/04/2017 | AA1: Subida do Morro da Cruz - Florianópolis - SC - 26/03/2017 | AB1: 9º Circuito Ciclístico Cidade de Aracaju - Aracaju - SE - 19/03/2017 | AC1: Volta do Ceará - Eusébio - CE - 17 a 19/03/2017 | AD1: 50º Circuito do Boa Vista - Joinvile - SC - 11 e 12/03/2017 | AE1: 8ª GP Mega 94 de Ciclismo - Campo Grande - MS - 05/03/2017 | AF1: Bike Fest Gaspar - Gaspar-SC - 19/02/2017 | AG1: Torneio de Verão - Ilha Comprida-SP - 16 a 19/02/2017
A2: RANKING ESTRADA MASTER FEMININO | E2: ='Data de Atualização'!$A$1 -> 42941
A3: POS | B3: LICENÇA | C3: CORREDOR | D3: CATEG | E3: EQUIPE | F3: FED | G3: PTOS | I3: CE | J3: 4 | K3: 4 | O3: 2B | P3: 5 | Q3: 4 | R3: 5 | S3: 5 | T3: 3 | U3: ELITE PRÓ/3 | V3: 4 | W3: 2B | X3: 4 | Y3: 4 | Z3: 4 | AA3: 3 | AB3: 4 | AC3: 2B | AD3: 4 | AE3: 4 | AF3: 5 | AG3: 2B
A4: 1 | B4: 04.28813.16 | C4: CINTHIA VIDAL MARQUES DE ALMEIDA | D4: MFEM | E4: ADI / INDAIATUBA SECRETARIA DE ESPORTES | F4: SP | G4: =SUM(I4:AG4) -> 88 | U4: 80 | V4: 8
A5: 2 | B5: 28.8409.08 | C5: ALISSIANE TOBIAS DA SILVA | D5: MFEM | E5: AVULSO | F5: RR | G5: =SUM(I5:AG5) -> 80 | T5: 80
A6: 3 | B6: 02.31519.17 | C6: SILVANA CARDOSO FARIAS DE ALCANTARA | D6: MFEM | E6: AVULSO | F6: SC | G6: =SUM(I6:AG6) -> 75.5 | AA6: 27.5 | AD6: 40 | AF6: 4 | AG6: 4
A7: 4 | B7: 03.29296.16 | C7: KELLYN CAROLINE CUMIN | D7: MFEM | E7: AVULSO | F7: PR | G7: =SUM(I7:AG7) -> 75 | Z7: 40 | AD7: 35
A8: 5 | B8: 04.28964.16 | C8: KARINA DAS NEVES CAMARGO DEL PICCHIA | D8: MFEM | E8: AVULSO | F8: SP | G8: =SUM(I8:AG8) -> 70 | U8: 65 | V8: 5
A9: 6 | B9: 28.24521.15 | C9: FABIANE KARLA ALMEIDA VIANA | D9: MFEM | E9: PEDAL CABURAI | F9: RR | G9: =SUM(I9:AG9) -> 65 | T9: 65
A10: 6 | B10: 06.30881.17 | C10: GELMA GEAN TARGINO SIQUEIRA | D10: MFEM | E10: UNIÃO CICLÍSTICA DO RIO DE JANEIRO | F10: RJ | G10: =SUM(I10:AG10) -> 65 | Q10: 15 | U10: 50
A11: 7 | B11: 02.10527.09 | C11: KARINA RODRIGUES DE SOUSA | D11: MFEM | E11: AVULSO | F11: SC | G11: =SUM(I11:AG11) -> 62.5 | AA11: 32.5 | AD11: 30
A12: 7 | B12: 02.10363.09 | C12: KATIA PEREIRA DE MELLO BREDOW | D12: MFEM | E12: EBA ALARMES MONITORADOS | F12: SC | G12: =SUM(I12:AG12) -> 62.5 | W12: 25 | Z12: 17 | AD12: 17 | AF12: 3.5
A13: 8 | B13: 12.23718.14 | C13: ANA CLARA SOUZA PIE | D13: MFEM | E13: AVULSO | F13: BA | G13: =SUM(I13:AG13) -> 60 | T13: 30 | AB13: 30
A14: 8 | B14: 05.27169.15 | C14: DANIELLE ALVES FERREIRA | D14: MFEM | E14: AVULSO | F14: MG | G14: =SUM(I14:AG14) -> 60 | P14: 5 | Q14: 25 | X14: 30
A15: 9 | B15: 04.15935.12 | C15: LEANDRA MARQUES RIBEIRO SILVA | D15: MFEM | E15: ASSOCIAÇÃO BATATAENSE DE CICLISMO | F15: SP | G15: =SUM(I15:AG15) -> 57 | U15: 55 | V15: 2
A16: 10 | B16: 16.25615.15 | C16: LUANA GONÇALVES RAMALHO | D16: MFEM | E16: CLUBE ESPORTIVO AMIGOS DA PLANETE AVENTURE | F16: PB | G16: =SUM(I16:AG16) -> 55 | AC16: 55
A17: 10 | B17: 28.31983.17 | C17: INAÊ DA ROCHA PEREIRA LOUREIRO | D17: MFEM | E17: AVULSO | F17: RR | G17: =SUM(I17:AG17) -> 55 | T17: 55
A18: 11 | B18: 08.5640.06 | C18: RIVANDA BURTON DA SILVA | D18: MFEM | E18: ASSOC.ESPORTIVA BIKE NORTE/QUALIDADE FISICA/MULTICOISAS | F18: MS | G18: =SUM(I18:AG18) -> 50 | V18: 15 | AE18: 35
A19: 11 | B19: 04.24889.15 | C19: VALDINÉIA DA SILVA BRANDINO DOS SANTOS | D19: MFEM | E19: S.E.T. MOGI GUAÇU | F19: SP | G19: =SUM(I19:AG19) -> 50 | U19: 45 | X19: 5
A20: 11 | B20: 28.25396.15 | C20: SINOME RUFINO CONCEIÇÃO BORTOLOTTO | D20: MFEM | E20: OVER BIKE TEAM | F20: RR | G20: =SUM(I20:AG20) -> 50 | T20: 50
A21: 12 | B21: 22.30224.16 | C21: LUCIANA BRANDÃO DE FREITAS | D21: MFEM | E21: PAPALEGUAS RACE | F21: PA | G21: =SUM(I21:AG21) -> 49 | O21: 40 | Y21: 9
A22: 13 | B22: 07.23829.15 | C22: MARILIA DA PENHA BARBOZA | D22: MFEM | E22: GR TEAM | F22: ES | G22: =SUM(I22:AG22) -> 47.5 | K22: 17.5 | Q22: 30
A23: 14 | B23: 28.31255.17 | C23: KATIA CILENE OLIVEIRA FRAXE | D23: MFEM | E23: OVER BIKE TEAM | F23: RR | G23: =SUM(I23:AG23) -> 45 | T23: 45
A24: 15 | B24: 08.9147.08 | C24: ADRIANA SEVERINA FARIAS LIMA | D24: MFEM | E24: CLUBE MAR DEL PLATA DE CICLISMO | F24: MS | G24: =SUM(I24:AG24) -> 40 | AE24: 40
A25: 15 | B25: 03.23715.14 | C25: RENATA SILVEIRA MOREIRA DIPP | D25: MFEM | E25: CLUBE DE CICLISMO SO PEDAL | F25: PR | G25: =SUM(I25:AG25) -> 40 | AA25: 40
A26: 15 | B26: 28.21373.14 | C26: GIRLENICY APARECIDA TORREIAS MONTEIRO | D26: MFEM | E26: MATO E MORRO DE BIKE | F26: RR | G26: =SUM(I26:AG26) -> 40 | T26: 40
A27: 15 | B27: 12.13635.11 | C27: CRISTIANE DUQUE ALMEIDA | D27: MFEM | E27: AVULSO | F27: BA | G27: =SUM(I27:AG27) -> 40 | T27: 40
A28: 15 | B28: 19.29576.16 | C28: MARIA DO SOCORRO DA SILVA VASCONCELOS | D28: MFEM | E28: BIKER PIAUI | F28: PI | G28: =SUM(I28:AG28) -> 40 | J28: 40
A29: 15 | B29: 07.29632.16 | C29: SAYONARA MARTINS DA SILVA MONÇÃO | D29: MFEM | E29: AVULSO | F29: ES | G29: =SUM(I29:AG29) -> 40 | Q29: 40
A30: 16 | B30: 18.5530.06 | C30: JOANA NÓBREGA | D30: MFEM | E30: ENDURANCE | F30: CE | G30: =SUM(I30:AG30) -> 37 | AC30: 37
A31: 17 | B31: 05.27991.16 | C31: SANDRA DIAS DA SILVA MAROTTA | D31: MFEM | E31: CJNET | F31: MG | G31: =SUM(I31:AG31) -> 35 | X31: 35
A32: 17 | B32: 12.28526.16 | C32: GISLAINE CLARICE FLECK | D32: MFEM | E32: AVULSO | F32: BA | G32: =SUM(I32:AG32) -> 35 | T32: 35
A33: 17 | B33: 06.32790.17 | C33: VANESSA DA SILVA MOÇO | D33: MFEM | E33: EQUIPE LUCIA ARANHA | F33: RJ | G33: =SUM(I33:AG33) -> 35 | Q33: 35
A34: 18 | B34: 16.7501.07 | C34: MIRIAM ARAUJO DE LIMA | D34: MFEM | E34: AVULSO | F34: PB | G34: =SUM(I34:AG34) -> 33 | AC34: 33
A35: 19 | B35: 01.4919.06 | C35: CAMILA MARCON MARASCHIN | D35: MFEM | E35: SQUADRA CAXIAS | F35: RS | G35: =SUM(I35:AG35) -> 32.5 | S35: 5 | W35: 27.5
A36: 20 | B36: 18.31513.17 | C36: RENATA CUNHA CORREIA DE BASTOS | D36: MFEM | E36: ZONAALVO | F36: CE | G36: =SUM(I36:AG36) -> 31 | AC36: 31
A37: 21 | B37: 08.25124.15 | C37: MARIA LÚCIA DE SOUZA | D37: MFEM | E37: CLUBE MAR DEL PLATA DE CICLISMO | F37: MS | G37: =SUM(I37:AG37) -> 30 | AE37: 30
A38: 21 | B38: 18.18031.13 | C38: JULIANA MARIA MARTINS TELLES | D38: MFEM | E38: MAURICIO LEAO | F38: CE | G38: =SUM(I38:AG38) -> 30 | J38: 30
A39: 22 | B39: 02.24662.15 | C39: CATIANE CARDOSO PEREIRA | D39: MFEM | E39: CYCLING TEAM PEDALA ITAPEMA/PREF.DE ITAPEMA/PPS DISTRIBUIDOR | F39: SC | G39: =SUM(I39:AG39) -> 29.5 | AD39: 25 | AF39: 4.5
A40: 23 | B40: 08.3222.05 | C40: DIVINA LÚCIA ANTÔNIA BATISTA | D40: MFEM | E40: ASSOCIACAO ESPORTIVA GILMAR BICICLETAS | F40: MS | G40: =SUM(I40:AG40) -> 25 | AE40: 25
A41: 23 | B41: 06.27282.15 | C41: MONICA CARRAZEDA PINTO DE SOUZA | D41: MFEM | E41: AVULSO | F41: MG | G41: =SUM(I41:AG41) -> 25 | X41: 25
A42: 23 | B42: 19.18505.13 | C42: CRISTIANY DE SIQUEIRA DANTAS | D42: MFEM | E42: EQUIPE GIRO ALTO-EGA | F42: PI | G42: =SUM(I42:AG42) -> 25 | J42: 25
A43: 24 | B43: 08.26465.15 | C43: PATRICIA MARTINEZ ALMEIDA | D43: MFEM | E43: CONCEPT BIKE TEAM | F43: MS | G43: =SUM(I43:AG43) -> 20 | V43: 20
A44: 24 | B44: 07.31568.17 | C44: WANESSA SURDINE DE OLIVEIRA ANTONIOLLI | D44: MFEM | E44: ACC | F44: RR | G44: =SUM(I44:AG44) -> 20 | K44: 20
A45: 24 | B45: 19.24079.15 | C45: LAYANE LIMA DE SOUSA | D45: MFEM | E45: BIKER PIAUI | F45: PI | G45: =SUM(I45:AG45) -> 20 | J45: 20
A46: 24 | B46: 07.32641.17 | C46: ISABELA FRANCIANE CHEN | D46: MFEM | E46: ACC | F46: ES | G46: =SUM(I46:AG46) -> 20 | Q46: 20
A47: 25 | B47: 03.26966.15 | C47: SILVIA RIBEIRO NARDI | D47: MFEM | E47: AVULSO | F47: PR | G47: =SUM(I47:AG47) -> 17.5 | V47: 17.5
A48: 26 | B48: 22.3028.05 | C48: ANA CAROLINA PASSOS DA SERRA FREIRE | D48: MFEM | E48: AABB - BELÉM-PA | F48: PA | G48: =SUM(I48:AG48) -> 17 | Y48: 17
A49: 26 | B49: 07.29953.16 | C49: BRUNELA VIEIRA DE VINCENZI | D49: MFEM | E49: ACC | F49: ES | G49: =SUM(I49:AG49) -> 17 | Q49: 17
A50: 27 | B50: 07.22366.14 | C50: HÉLLEN LIMA FANTE | D50: MFEM | E50: AVULSO | F50: ES | G50: =SUM(I50:AG50) -> 15 | K50: 15
A51: 28 | B51: 22.10545.09 | C51: PATRICIA DO SOCORRO DA SILVA VINHAS | D51: MFEM | E51: OS MOLES | F51: PA | G51: =SUM(I51:AG51) -> 11 | L51: 11
A52: 29 | B52: 26.18920.13 | C52: MARTA INES NUNES AIRES KOHLS | D52: MFEM | E52: ORATORIO RECREATIVO CLUBE | F52: AP | G52: =SUM(I52:AG52) -> 10 | R52: 10
A53: 30 | B53: 26.32696.17 | C53: RAYSSA AMARAL RAMOS | D53: MFEM | E53: EQUIPE EXPEDIÇAO FRONTEIRAS | F53: AP | G53: =SUM(I53:AG53) -> 9 | R53: 9
A54: 31 | B54: 26.760.04 | C54: LENEIDE BATISTA VIANA | D54: MFEM | E54: EQUIPE EXPEDIÇAO FRONTEIRAS | F54: AP | G54: =SUM(I54:AG54) -> 8 | R54: 8
A55: 32 | B55: 22.30223.16 | C55: CAROLINA SILVA BRAGA MENEZES | D55: MFEM | E55: PAPALEGUAS RACE | F55: PA | G55: =SUM(I55:AG55) -> 7 | Y55: 7
A56: 33 | B56: 26.28390.16 | C56: UANY CRISTINA AMARAL DE ARAUJO | D56: MFEM | E56: EQUIPE URBE | F56: AP | G56: =SUM(I56:AG56) -> 6 | R56: 6
G57: =SUM(I57:AG57) -> 0
G58: =SUM(I58:AG58) -> 0
G59: =SUM(I59:AG59) -> 0
G60: =SUM(I60:AG60) -> 0
G61: =SUM(I61:AG61) -> 0
G62: =SUM(I62:AG62) -> 0
D63: MFEM | G63: =SUM(I63:AG63) -> 0
D64: MFEM | G64: =SUM(I64:AG64) -> 0
D65: MFEM | G65: =SUM(I65:AG65) -> 0
D66: MFEM | G66: =SUM(I66:AG66) -> 0
D67: MFEM | G67: =SUM(I67:AG67) -> 0
D68: MFEM | G68: =SUM(I68:AG68) -> 0
D69: MFEM | G69: =SUM(I69:AG69) -> 0

Sheet MJR
A1: CONFEDERAÇÃO BRASILEIRA DE CICLISMO | I1: Campeonatos Estaduais 2017 | M1: VIII Volta Ciclistica do Pará - Belém - PA - 10 e 11/06/2017 | N1: Desafio de Ciclismo São Jose de Anchieta - Vitória - ES - 11/06/2017 | O1: V Copa Amapa de Ciclismo - Macapá - AP - 04/06/2017 | P1: XXI GP de Ciclismo Israel de Freitas - Curiau - AP - 07/05/2017 | Q1: 1ª Copa Belém de Ciclismo - Belém - PA - 14/05/2017 | R1: Speed Racer Bike - Cariacica - ESP - 21/05/2017 | S1: GP Bahia de Ciclismo - Feira de Santana - BA - 07/05/2017 | T1: 9º Desafio Internacional Serra do Tepequem - Amajari - RR - 06 e 07/05/2017 | U1: 65ª Prova Ciclistica 1º de Maio - Indaiatuba - SP - 01/05/2017 | V1: 29º GP de Nova Andradina - Nova Andradina - MS - 01/05/2017 | W1: GP Caraguatatuba de Ciclismo - Caraguatatuba - SP - 30/04/2017 | X1: Copa Hans Fischer - Pomerode - SC - 29 e 30/04/2017 | Y1: 4º Circuito Ducks Bike de Ciclismo - Patos - PB - 23/04/2017 | Z1: 10ª Volta Ciclística do Futuro - São Carlos - SP - 20 a 23/04/2017 | AA1: IX Copa SEEL de Ciclismo - Belém - PA - 16/04/2017 | AB1: Gran Cup Brasil de Ciclismo - Ubatuba - SP - 02/04/2017 | AC1: GP Cidade de Curitiba - Curitiba - PR - 02/04/2017 | AD1: Subida do Morro da Cruz - Florianópolis - SC - 26/03/2017 | AE1: 9º Circuito Ciclístico Cidade de Aracaju - Aracaju - SE - 19/03/2017 | AF1: Copa Velho Chico - Januária - MG - 26/03/2017 | AG1: Volta do Ceará - Eusébio - CE - 17 a 19/03/2017 | AH1: 50º Circuito do Boa Vista - Joinvile - SC - 11 e 12/03/2017 | AI1: 8ª GP Mega 94 de Ciclismo - Campo Grande - MS - 05/03/2017 | AJ1: GP Sesc Verão de Ciclismo - Sorocaba-SP - 19/02/2017 | AK1: Bike Fest Gaspar - Gaspar-SC - 19/02/2017
A2: RANKING ESTRADA JUNIOR MASCULINO | E2: ='Data de Atualização'!$A$1 -> 42941
A3: POS | B3: LICENÇA | C3: CORREDOR | D3: CATEG | E3: EQUIPE | F3: FED | G3: PTOS | I3: CE | M3: 2B | N3: 4 | O3: 5 | P3: 4 | Q3: 4 | R3: 4 | S3: 4 | T3: 3 | U3: ELITE PRÓ/3 | V3: 4 | W3: 5 | X3: 2B | Y3: 4 | Z3: 2A | AA3: 4 | AB3: 4 | AC3: 4 | AD3: 3 | AE3: 4 | AF3: 5 | AG3: 2B | AH3: 4 | AI3: 4 | AJ3: 4 | AK3: 5
A4: 1 | B4: 03.26125.15 | C4: IVAN GUILHERME MORSCH DE ANDRADE | D4: JRMAS | E4: CLUBE DATARO DE CICLISMO | F4: PR | G4: =SUM(I4:AK4) -> 260 | X4: 50 | Z4: 105 | AC4: 40 | AD4: 65
A5: 2 | B5: 04.16256.12 | C5: IGOR TEODORO MOLINA | D5: JRMAS | E5: CLUBE DE CICLISMO DE SÃO JOSÉ DOS CAMPOS | F5: SP | G5: =SUM(I5:AK5) -> 195 | U5: 40 | Z5: 115 | AB5: 40
A6: 3 | B6: 04.26928.15 | C6: MATHEUS SCANDIAN THOMAZ | D6: JRMAS | E6: CLUBE DE CICLISMO DE SÃO JOSÉ DOS CAMPOS | F6: SP | G6: =SUM(I6:AK6) -> 170.5 | N6: 17.5 | R6: 20 | U6: 45 | W6: 5 | Z6: 40 | AB6: 35 | AK6: 8
A7: 4 | B7: 22.23627.14 | C7: DOMINGOS RENILSON DE OLIVEIRA DOS SANTOS | D7: JRMAS | E7: CLUBE AMAZÔNIA DE CICLISMO | F7: PA | G7: =SUM(I7:AK7) -> 165 | M7: 60 | Q7: 40 | T7: 25 | AA7: 40
A8: 5 | B8: 03.30011.16 | C8: GABRIEL SANTIAGO MAGALHÃES | D8: JRMAS | E8: CLUBE CICLISTICO ARAPONGUENSE | F8: PR | G8: =SUM(I8:AK8) -> 155 | V8: 30 | Z8: 95 | AC8: 30
A9: 6 | B9: 04.28834.16 | C9: JOÃO PEDRO ROSSI | D9: JRMAS | E9: SÃO FRANCISCO SAÚDE/KLABIN/SME RIBEIRÃO PRETO | F9: SP | G9: =SUM(I9:AK9) -> 148 | U9: 18 | Z9: 130
A10: 7 | B10: 26.26756.15 | C10: JOAO VITOR RODRIGUES FIGUEIREDO | D10: JRMAS | E10: TOPAZZA CYCLING CLUB | F10: AP | G10: =SUM(I10:AK10) -> 140 | M10: 55 | P10: 12.5 | Q10: 35 | R10: 17.5 | AG10: 20
A11: 8 | B11: 04.31484.17 | C11: FELIPE APARECIDO BRITO RONZANI | D11: JRMAS | E11: FUNDESPORT/ARARAQUARA | F11: SP | G11: =SUM(I11:AK11) -> 115 | U11: 30 | Z11: 85
A12: 9 | B12: 26.18101.13 | C12: BRUNO VIEIRA LOBATO | D12: JRMAS | E12: TOPAZZA CYCLING CLUB | F12: AM | G12: =SUM(I12:AK12) -> 99 | M12: 50 | O12: 4 | P12: 20 | AG12: 25
A13: 10 | B13: 04.18956.13 | C13: ALEX DAVID DOS SANTOS | D13: JRMAS | E13: ABEC / RIO CLARO | F13: SP | G13: =SUM(I13:AK13) -> 95 | Z13: 55 | AJ13: 40
A14: 10 | B14: 30.22656.14 | C14: BRUNO LUIZ BIBERG MARTINS | D14: JRMAS | E14: SMEL FOZ DO IGUAÇU | F14: PR | G14: =SUM(I14:AK14) -> 95 | V14: 20 | Z14: 75
A15: 11 | B15: 04.29141.16 | C15: RENAN IZZO | D15: JRMAS | E15: SÃO FRANCISCO SAÚDE/KLABIN/SME RIBEIRÃO PRETO | F15: SP | G15: =SUM(I15:AK15) -> 93 | U15: 80 | Z15: 13
A16: 12 | B16: 02.23632.14 | C16: ELIEL FARO PEREIRA JUNIOR | D16: JRMAS | E16: AVULSO | F16: SC | G16: =SUM(I16:AK16) -> 90 | AD16: 55 | AH16: 35
A17: 12 | B17: 04.17393.12 | C17: BRUNO CAMPOS DE SÁ PINTO | D17: JRMAS | E17: ADI / INDAIATUBA SECRETARIA DE ESPORTES | F17: SP | G17: =SUM(I17:AK17) -> 86 | U17: 21 | Z17: 65
A18: 13 | B18: 04.21914.14 | C18: ARTHUR BRANDINO DOS SANTOS | D18: JRMAS | E18: PENKS / U.C.I. IRACEMÁPOLIS | F18: SP | G18: =SUM(I18:AK18) -> 85 | U18: 65 | Z18: 20
A19: 14 | B19: 08.25894.15 | C19: MATEUS GABRIEL ESTIVAL CARMONA | D19: JRMAS | E19: AMC - ASSOCIAÇÃO MARACAJUENSE DE CICLISMO | F19: MS | G19: =SUM(I19:AK19) -> 80 | X19: 40 | AI19: 40
A20: 15 | B20: 02.20983.13 | C20: BRUNO SEVEGNANI HANSEN | D20: JRMAS | E20: BRUCICLE - ASSOCIAÇÃO BRUSQUENSE DE CICLISMO | F20: SC | G20: =SUM(I20:AK20) -> 60 | X20: 60
A21: 16 | B21: 02.30071.16 | C21: LUIZ GUILHERME MOROSINI BASSO | D21: JRMAS | E21: APROCICLI/PREF.MUN.DE CHAPECÓ/UNOCHAPECÓ | F21: SC | G21: =SUM(I21:AK21) -> 55 | X21: 55
A22: 16 | B22: 08.27867.16 | C22: VINICIUS MACHADO FONSECA DA SILVA | D22: JRMAS | E22: ASSOCIACAO ESPORTIVA PRO-PEDAL (AEPP) | F22: MS | G22: =SUM(I22:AK22) -> 55 | V22: 25 | AI22: 30
A23: 16 | B23: 04.25785.15 | C23: LUAN REIS DE SOUZA | D23: JRMAS | E23: AVULSO | F23: SP | G23: =SUM(I23:AK23) -> 55 | U23: 55
A24: 17 | B24: 03.22564.14 | C24: VINÍCIUS DO NASCIMENTO GUSSOLLI | D24: JRMAS | E24: SMEL FOZ DO IGUAÇU | F24: PR | G24: =SUM(I24:AK24) -> 52 | V24: 40 | Z24: 12
A25: 18 | B25: 02.28632.16 | C25: EDUARDO VASKEVICZ FERREIRA | D25: JRMAS | E25: FME BALNEÁRIO CAMBORIÚ | F25: SC | G25: =SUM(I25:AK25) -> 51 | X25: 31 | AH25: 20
A26: 19 | B26: 04.22578.14 | C26: LUCAS FILLIPE JULIANO | D26: JRMAS | E26: ABEC / RIO CLARO | F26: SP | G26: =SUM(I26:AK26) -> 50 | Z26: 15 | AJ26: 35
A27: 19 | B27: 04.23586.14 | C27: MATHEUS MAXIMO DOS REIS | D27: JRMAS | E27: 5WAYS TEAM / SÃO PAULO | F27: SP | G27: =SUM(I27:AK27) -> 50 | Z27: 50
A28: 19 | B28: 04.32115.17 | C28: LEANDRO FERNANDO DOS SANTOS JUNIOR | D28: JRMAS | E28: PENKS / U.C.I. IRACEMAPOLIS | F28: SP | G28: =SUM(I28:AK28) -> 50 | U28: 50
A29: 20 | B29: 08.30955.17 | C29: BRENNON DE SOUZA QUINTINO | D29: JRMAS | E29: ASSOC.ESPORTIVA BIKE NORTE/QUALIDADE FISICA/MULTICOISAS | F29: MS | G29: =SUM(I29:AK29) -> 48 | V29: 13 | AI29: 35
A30: 21 | B30: 03.25065.15 | C30: PEDRO GUILHERME VOLPATO ROSSI | D30: JRMAS | E30: CLUBE MARINGAENSE DE CICLISMO | F30: PR | G30: =SUM(I30:AK30) -> 46 | V30: 35 | Z30: 11
A31: 22 | B31: 02.31822.17 | C31: JOÃO HENRIQUE SOTTILI VALCARENGHI | D31: JRMAS | E31: APROCICLI/PREF.MUN.DE CHAPECÓ/UNOCHAPECÓ | F31: SC | G31: =SUM(I31:AK31) -> 45 | X31: 45
A32: 22 | B32: 26.23910.15 | C32: LUIZ VICTOR GOMES VASQUES | D32: JRMAS | E32: AVULSO | F32: AP | G32: =SUM(I32:AK32) -> 45 | P32: 15 | AA32: 30
A33: 22 | B33: 04.15543.12 | C33: BRENDO MORAIS SANTOS | D33: JRMAS | E33: PENKS / U.C.I. IRACEMÁPOLIS | F33: SP | G33: =SUM(I33:AK33) -> 45 | U33: 35 | Z33: 10
A34: 23 | B34: 02.20328.13 | C34: LUIZ H. HECKERT COSNTANTINI | D34: JRMAS | E34: BRUCICLE - ASSOCIAÇÃO BRUSQUENSE DE CICLISMO | F34: SC | G34: =SUM(I34:AK34) -> 42 | X34: 35 | AK34: 7
A35: 24 | B35: 04.28506.16 | C35: MARCELO CARLOS PINHEIRO FILHO | D35: JRMAS | E35: MEMORIAL / SANTOS / FUPES | F35: SP | G35: =SUM(I35:AK35) -> 40 | U35: 25 | AJ35: 15
A36: 24 | B36: 25.23113.14 | C36: KAYO DE LUNA FONSECA | D36: JRMAS | E36: MANAUS ESPORTE CLUBE | F36: AM | G36: =SUM(I36:AK36) -> 40 | T36: 40
A37: 25 | B37: 02.30906.17 | C37: FILIPI FERNANDES LOSI | D37: JRMAS | E37: CYCLING TEAM PEDALA ITAPEMA/PREF.DE ITAPEMA/PPS DISTRIBUIDOR | F37: SC | G37: =SUM(I37:AK37) -> 37 | X37: 37
A38: 25 | B38: 22.26524.15 | C38: AYRTON DA SILVA ROCHA | D38: JRMAS | E38: ANANINDEUA E.C./TRIGOLINO | F38: PA | G38: =SUM(I38:AK38) -> 37 | M38: 37
A39: 26 | B39: 02.30249.16 | C39: RAMON GUILHERME DE OLIVEIRA | D39: JRMAS | E39: CYCLING TEAM PEDALA ITAPEMA/PREF.DE ITAPEMA/PPS DISTRIBUIDOR | F39: SC | G39: =SUM(I39:AK39) -> 35 | X39: 30 | AK39: 5
A40: 27 | B40: 08.25020.15 | C40: PAULO FELIPE AMORIM DA SILVA | D40: JRMAS | E40: ASSOCIAÇÃO DESPORTIVA DE CICLISMO E ATLETISMO DE NOVA ANDRAD | F40: MS | G40: =SUM(I40:AK40) -> 34 | V40: 17 | AI40: 17
A41: 28 | B41: 18.30139.16 | C41: ALEXANDRE ANTONIO DE MELO | D41: JRMAS | E41: AVULSO | F41: CE | G41: =SUM(I41:AK41) -> 33 | AG41: 33
A42: 28 | B42: 02.30905.17 | C42: LUIZ HENRIQUE MARCON | D42: JRMAS | E42: CYCLING TEAM PEDALA ITAPEMA/PREF.DE ITAPEMA/PPS DISTRIBUIDOR | F42: SC | G42: =SUM(I42:AK42) -> 33 | X42: 33
A43: 29 | B43: 28.25400.15 | C43: WINSTON PINTO PORTO JUNIOR | D43: JRMAS | E43: OVER BIKE TEAM | F43: RR | G43: =SUM(I43:AK43) -> 32.5 | T43: 32.5
A44: 30 | B44: 04.30252.16 | C44: BRUNO ALVES DOS SANTOS | D44: JRMAS | E44: AVULSO | F44: SP | G44: =SUM(I44:AK44) -> 30 | Z44: 30
A45: 31 | B45: 08.29463.16 | C45: MAYCON VINICIUS NUNES MARTINS | D45: JRMAS | E45: ASSOCIACAO ESPORTIVA PRO-PEDAL (AEPP) | F45: MS | G45: =SUM(I45:AK45) -> 29 | V45: 4 | AI45: 25
A46: 32 | B46: 03.29749.16 | C46: JOÃO VITOR ROCHA DA SILVA | D46: JRMAS | E46: CLUBE CICLISTICO ARAPONGUENSE | F46: PR | G46: =SUM(I46:AK46) -> 28 | V46: 11 | AC46: 17
A47: 33 | B47: 08.28731.16 | C47: DOUGLAS SOARES PONTES | D47: JRMAS | E47: CONCEPT BIKE TEAM | F47: MS | G47: =SUM(I47:AK47) -> 25 | V47: 5 | AI47: 20
A48: 34 | B48: 04.29321.16 | C48: MATHEUS VINICIUS RODRIGUES DE AGUIAR | D48: JRMAS | E48: CLUBE DE CICLISMO DE SÃO JOSÉ DOS CAMPOS | F48: SP | G48: =SUM(I48:AK48) -> 24.5 | W48: 4.5 | AB48: 20
A49: 35 | B49: 04.18953.13 | C49: ALAN BARBOSA SILVA | D49: JRMAS | E49: ACC / SEL - CORDEIRÓPOLIS | F49: SP | G49: =SUM(I49:AK49) -> 24 | U49: 15 | Z49: 9
A50: 36 | B50: 04.16259.12 | C50: LUCAS SOBRINHO NUNES | D50: JRMAS | E50: MEMORIAL / SANTOS / FUPES | F50: SP | G50: =SUM(I50:AK50) -> 21 | Z50: 4 | AJ50: 17
A51: 37 | B51: 14.28547.16 | C51: WIGUE MANRRIK FERREIRA DOS SANTOS | D51: JRMAS | E51: AVULSO | F51: AL | G51: =SUM(I51:AK51) -> 20 | AE51: 20
A52: 37 | B52: 26.18101.13 | C52: BRUNO VIEIRA LOBATO | D52: JRMAS | E52: TOPAZZA CYCLING CLUB | F52: AP | G52: =SUM(I52:AK52) -> 20 | AA52: 20
A53: 37 | B53: 16.29073.16 | C53: JOSÉ HENRIQUE BORBOREMA DE MELO | D53: JRMAS | E53: ASEAC-ASSOCIAÇÃO SOLEDADENSE DE ESPORTES E APOIO AO CICLISTA | F53: PB | G53: =SUM(I53:AK53) -> 20 | Y53: 20
A54: 37 | B54: 02.30087.16 | C54: BRUNO FRANCO WILLIG | D54: JRMAS | E54: FME BALNEÁRIO CAMBORIÚ | F54: SC | G54: =SUM(I54:AK54) -> 20 | X54: 20
A55: 37 | B55: 12.25335.15 | C55: PATRICSON EMANUEL SANTOS REGO BRAZ | D55: JRMAS | E55: AVULSO | F55: BA | G55: =SUM(I55:AK55) -> 20 | S55: 20
A56: 37 | B56: 26.18101.13 | C56: BRUNO VIEIRA LOBATO | D56: JRMAS | E56: TOPAZZA CYCLING CLUB | F56: AP | G56: =SUM(I56:AK56) -> 20 | Q56: 20
A57: 37 | B57: 07.18728.13 | C57: MAYKON DOUGLAS SILVA CUNHA | D57: JRMAS | E57: AVULSO | F57: ES | G57: =SUM(I57:AK57) -> 20 | N57: 20
A58: 38 | B58: 08.30951.17 | C58: ERICK HENRIQUE DA SILVA | D58: JRMAS | E58: ACRB - ASSOC. DE CICLISTAS DE RIO BRILHANTE | F58: MS | G58: =SUM(I58:AK58) -> 18 | V58: 3 | AI58: 15
A59: 39 | B59: 17.30842.17 | C59: JOSENILDO JOSÉ DE ANDRADE SILVA | D59: JRMAS | E59: AABB CAICÓ | F59: RN | G59: =SUM(I59:AK59) -> 17.5 | Y59: 17.5
A60: 39 | B60: 12.29020.16 | C60: HENRIQUE ALVES ROCHA | D60: JRMAS | E60: AVULSO | F60: BA | G60: =SUM(I60:AK60) -> 17.5 | S60: 17.5
A61: 40 | B61: 03.24629.15 | C61: PEDRO HENRIQUE MENOTTI MILANI | D61: JRMAS | E61: CLUBE MARINGAENSE DE CICLISMO | F61: PR | G61: =SUM(I61:AK61) -> 15 | V61: 15
A62: 40 | B62: 12.31095.17 | C62: AÉCIO GOMES DA SILVA SEGUNDO | D62: JRMAS | E62: AVULSO | F62: BA | G62: =SUM(I62:AK62) -> 15 | S62: 15
A63: 41 | B63: 03.26070.15 | C63: LUCA GONÇALVES PERES | D63: JRMAS | E63: PREFEITURA MUNICIPAL DE ROLÂNDIA | F63: PR | G63: =SUM(I63:AK63) -> 14 | Z63: 14
A64: 42 | B64: 08.23486.14 | C64: NEDSON PAULO MARQUES DE OLIVEIRA ORTEGA | D64: JRMAS | E64: ACRB - ASSOC. DE CICLISTAS DE RIO BRILHANTE | F64: MS | G64: =SUM(I64:AK64) -> 13 | AI64: 13
A65: 42 | B65: 02.30249.16 | C65: RAMON GUILHERME DE OLIVEIRA | D65: JRMAS | E65: CYCLING TEAM PEDALA ITAPEMA/PREF.DE ITAPEMA/PPS DISTRIBUIDOR | F65: SC | G65: =SUM(I65:AK65) -> 13 | AH65: 13
A66: 42 | B66: 04.26065.15 | C66: GABRIEL RAMIRO DOS SANTOS | D66: JRMAS | E66: AVULSO | F66: SP | G66: =SUM(I66:AK66) -> 13 | U66: 13
A67: 43 | B67: 16.30570.17 | C67: WILLIANS FERREIRA DO NASCIMENTO | D67: JRMAS | E67: ASEAC-ASSOCIAÇÃO SOLEDADENSE DE ESPORTES E APOIO AO CICLISTA | F67: PB | G67: =SUM(I67:AK67) -> 12.5 | Y67: 12.5
A68: 44 | B68: 08.24682.15 | C68: IGOR HENRIQUE SECCO DAMEÃO | D68: JRMAS | E68: ASSOC.ESPORTIVA BIKE NORTE/QUALIDADE FISICA/MULTICOISAS | F68: MS | G68: =SUM(I68:AK68) -> 11 | AI68: 11
A69: 44 | B69: 02.20328.13 | C69: LUÍS HENRIQUE HECKERT CONSTANTINI | D69: JRMAS | E69: BRUCICLE - ASSOCIAÇÃO BRUSQUENSE DE CICLISMO | F69: SC | G69: =SUM(I69:AK69) -> 11 | AH69: 11
A70: 44 | B70: 04.16969.12 | C70: FELIPE AUGUSTO DELPRÁ | D70: JRMAS | E70: ACC / SEL - CORDEIRÓPOLIS | F70: SP | G70: =SUM(I70:AK70) -> 11 | U70: 11
A71: 45 | B71: 08.25267.15 | C71: HUDSON GOMES SILVA | D71: JRMAS | E71: ACRB - ASSOC. DE CICLISTAS DE RIO BRILHANTE | F71: MS | G71: =SUM(I71:AK71) -> 10 | V71: 1 | AI71: 9
A72: 46 | B72: 08.31052.17 | C72: MICAEL MARIANO SANTOS | D72: JRMAS | E72: ASSOCIAÇÃO DESPORTIVA DE CICLISMO E ATLETISMO DE NOVA ANDRAD | F72: MS | G72: =SUM(I72:AK72) -> 9 | V72: 9
A73: 47 | B73: 04.31483.17 | C73: SERGIO REI VIEIRA DOS SANTOS | D73: JRMAS | E73: FUNDESPORT/ARARAQUARA | F73: SP | G73: =SUM(I73:AK73) -> 8 | Z73: 8
A74: 48 | B74: 08.28578.16 | C74: DANIEL VENIER RECALDE | D74: JRMAS | E74: ASSOC.ESPORTIVA BIKE NORTE/QUALIDADE FISICA/MULTICOISAS | F74: MS | G74: =SUM(I74:AK74) -> 7 | AI74: 7
A75: 48 | B75: 03.15980.12 | C75: GUSTAVO MARTINELLI | D75: JRMAS | E75: CLUBE MARINGAENSE DE CICLISMO | F75: PR | G75: =SUM(I75:AK75) -> 7 | Z75: 7
A76: 48 | B76: 08.28665.16 | C76: ANTONIO JOAO CAMPOS BELO XAVIER | D76: JRMAS | E76: ASSOCIACAO ESPORTIVA PRO-PEDAL (AEPP) | F76: MS | G76: =SUM(I76:AK76) -> 7 | V76: 7
A77: 49 | B77: 02.28632.16 | C77: EDUARDO VASKEVICZ FERREIRA | D77: JRMAS | E77: FME BALNEÁRIO CAMBORIÚ | F77: SC | G77: =SUM(I77:AK77) -> 6 | AK77: 6
A78: 49 | B78: 04.27399.15 | C78: GUSTAVO CORREA DE ALMEIDA RIBEIRO | D78: JRMAS | E78: CLUBE DE CICLISMO DE SÃO JOSÉ DOS CAMPOS | F78: SP | G78: =SUM(I78:AK78) -> 6 | Z78: 6
A79: 50 | B79: 05.31802.17 | C79: ROMULO BATISTA DA SILVA AMORIM | D79: JRMAS | E79: AVULSO | F79: MG | G79: =SUM(I79:AK79) -> 5 | AF79: 5
A80: 50 | B80: 04.25738.15 | C80: LUIZ GUILHERME TEMPESTA CIRILO | D80: JRMAS | E80: SÃO FRANCISCO SAÚDE/KLABIN/SME RIBEIRÃO PRETO | F80: SP | G80: =SUM(I80:AK80) -> 5 | Z80: 5
A81: 50 | B81: 26.23910.15 | C81: LUIZ VICTOR NUNES VASQUES | D81: JRMAS | E81: AVULSO | F81: AP | G81: =SUM(I81:AK81) -> 5 | O81: 5
A82: 51 | B82: 05.31411.17 | C82: SAMUEL GONÇALVES POTROS | D82: JRMAS | E82: AVULSO | F82: MG | G82: =SUM(I82:AK82) -> 4.5 | AF82: 4.5
A83: 52 | B83: 04.22225.14 | C83: JOAO PEDRO DOS SANTOS SOUSA | D83: JRMAS | E83: ACILHA / ILHA SOLTEIRA | F83: SP | G83: =SUM(I83:AK83) -> 4 | V83: 4
A84: 53 | B84: 04.25469.15 | C84: KLYNDSEN ALVARO DA SILVA | D84: JRMAS | E84: ABEC / RIO CLARO | F84: SP | G84: =SUM(I84:AK84) -> 3 | Z84: 3
A85: 54 | B85: 08.24844.15 | C85: TALISSON GUSTAVO MORTIOLLE LOPES | D85: JRMAS | E85: ASSOCIACAO ESPORTIVA PRO-PEDAL (AEPP) | F85: MS | G85: =SUM(I85:AK85) -> 2 | V85: 2
G86: =SUM(I86:AK86) -> 0
G87: =SUM(I87:AK87) -> 0
G88: =SUM(I88:AK88) -> 0
G89: =SUM(I89:AK89) -> 0
G90: =SUM(I90:AK90) -> 0
G91: =SUM(I91:AK91) -> 0
G92: =SUM(I92:AK92) -> 0
D93: JRMAS | G93: =SUM(I93:AK93) -> 0
D94: JRMAS | G94: =SUM(I94:AK94) -> 0
D95: JRMAS | G95: =SUM(I95:AK95) -> 0
D96: JRMAS | G96: =SUM(I96:AK96) -> 0

Sheet FJR
A1: CONFEDERAÇÃO BRASILEIRA DE CICLISMO | I1: Campeonatos Estaduais 2017 | L1: VIII Volta Ciclistica do Pará - Belém - PA - 10 e 11/06/2017 | M1: V Copa Amapa de Ciclismo - Macapá - AP - 04/06/2017 | N1: 1ª Copa Belém de Ciclismo - Belém - PA - 14/05/2017 | O1: XXI GP de Ciclismo Israel de Freitas - Curiau - AP - 07/05/2017 | P1: 65ª Prova Ciclistica 1º de Maio - Indaiatuba - SP - 01/05/2017 | Q1: 29º GP de Nova Andradina - Nova Andradina - MS - 01/05/2017 | R1: Copa Hans Fischer - Pomerode - SC - 29 e 30/04/2017 | S1: 10ª Volta Ciclística do Futuro - São Carlos - SP - 20 a 23/04/2017 | T1: GP Cidade de Curitiba - Curitiba - PR - 02/04/2017 | U1: Subida do Morro da Cruz - Florianópolis - SC - 26/03/2017 | V1: 50º Circuito do Boa Vista - Joinvile - SC - 11 e 12/03/2017 | W1: 8ª GP Mega 94 de Ciclismo - Campo Grande - MS - 05/03/2017 | X1: GP Sesc Verão de Ciclismo - Sorocaba-SP - 19/02/2017 | Y1: Bike Fest Gaspar - Gaspar-SC - 19/02/2017
A2: RANKING ESTRADA JUNIOR FEMININO | E2: ='Data de Atualização'!$A$1 -> 42941
A3: POS | B3: LICENÇA | C3: CORREDOR | D3: CATEG | E3: EQUIPE | F3: FED | G3: PTOS | I3: CE | L3: 2B | M3: 5 | N3: 4 | O3: 4 | P3: ELITE PRÓ/3 | Q3: 4 | R3: 2B | S3: 2A | T3: 4 | U3: 3 | V3: 4 | W3: 4 | X3: 4 | Y3: 5
A4: 1 | B4: 03.23617.14 | C4: GIOVANNA MONTANINO | D4: JRFEM | E4: CLUBE DE CICLISMO SO PEDAL | F4: PR | G4: =SUM(I4:Y4) -> 252.5 | R4: 30 | S4: 130 | T4: 40 | U4: 32.5 | V4: 20
A5: 3 | B5: 04.18597.13 | C5: MARCELLA SILVA SODRE PEREIRA | D5: JRFEM | E5: MEMORIAL / SANTOS / FUPES | F5: SP | G5: =SUM(I5:Y5) -> 220 | P5: 80 | S5: 105 | X5: 35
A6: 2 | B6: 04.25471.15 | C6: JULIANA ANDRESSA MACHADO SIQUEIRA DA SILVA | D6: JRFEM | E6: ABEC / RIO CLARO | F6: SP | G6: =SUM(I6:Y6) -> 200 | P6: 45 | S6: 115 | X6: 40
A7: 4 | B7: 04.22247.14 | C7: JESSICA ALINE TOSTA | D7: JRFEM | E7: ABEC / RIO CLARO | F7: SP | G7: =SUM(I7:Y7) -> 180 | P7: 55 | S7: 95 | X7: 30
A8: 5 | B8: 04.19355.13 | C8: PAULA PACHECO DE OLIVEIRA SILVA | D8: JRFEM | E8: AVULSO | F8: SP | G8: =SUM(I8:Y8) -> 150 | P8: 65 | S8: 85
A9: 6 | B9: 04.19494.13 | C9: CATARINA DEL GIUDICE CARDOSO | D9: JRFEM | E9: MEMORIAL / SANTOS / FUPES | F9: SP | G9: =SUM(I9:Y9) -> 115 | P9: 40 | S9: 75
A10: 6 | B10: 04.24895.15 | C10: GABRIELA DE SOUZA GONÇALVES | D10: JRFEM | E10: S.E.T. MOGI GUAÇU | F10: SP | G10: =SUM(I10:Y10) -> 115 | P10: 50 | S10: 65
A11: 7 | B11: 26.24577.15 | C11: DANIELLE NASCIMENTO DE JESUS | D11: JRFEM | E11: ASSISTEL CICLO TEAM | F11: AP | G11: =SUM(I11:Y11) -> 75 | L11: 30 | M11: 5 | N11: 20 | O11: 20
A12: 8 | B12: 04.31545.17 | C12: JULIANA DA SILVA | D12: JRFEM | E12: ABEC / RIO CLARO | F12: SP | G12: =SUM(I12:Y12) -> 57 | S12: 40 | X12: 17
A13: 9 | B13: 03.25533.15 | C13: FERNANDA APARECIDA NARDINO | D13: JRFEM | E13: AVULSO | F13: PR | G13: =SUM(I13:Y13) -> 55 | S13: 55
A14: 10 | B14: 04.18270.13 | C14: GABRIELA MARTINS DA SILVA | D14: JRFEM | E14: SÃO FRANCISCO SAÚDE/KLABIN/SME RIBEIRÃO PRETO | F14: SP | G14: =SUM(I14:Y14) -> 50 | S14: 50
A15: 11 | B15: 02.21297.14 | C15: VITÓRIA XAVIER CLAUDINO | D15: JRFEM | E15: BIKE POINT/FME CRICIÚMA | F15: SC | G15: =SUM(I15:Y15) -> 45 | U15: 40 | Y15: 5
A16: 12 | B16: 08.28089.16 | C16: KASSIA ANDERSEN DOS REIS | D16: JRFEM | E16: ASSOCIACAO ESPORTIVA PRO-PEDAL (AEPP) | F16: MS | G16: =SUM(I16:Y16) -> 30 | W16: 30
A17: 12 | B17: 03.25234.15 | C17: BRUNA LIE ADATI LENARTOWICZ | D17: JRFEM | E17: CLUBE MARINGAENSE DE CICLISMO | F17: PR | G17: =SUM(I17:Y17) -> 30 | S17: 30
A18: 13 | B18: 03.18974.13 | C18: ESTHER FERNANDA SANTOS DA SILVA CRUZ | D18: JRFEM | E18: CLUBE MARINGAENSE DE CICLISMO | F18: PR | G18: =SUM(I18:Y18) -> 20 | Q18: 20
A19: 14 | B19: 08.32186.17 | C19: BRUNNA BECKER GONÇALVES | D19: JRFEM | E19: ASSOCIAÇÃO CICLÍSTICA DE JARDIM-ACJAR | F19: MS | G19: =SUM(I19:Y19) -> 17.5 | Q19: 17.5
D25: JRFEM | G25: =SUM(I25:Y25) -> 0
D26: JRFEM | G26: =SUM(I26:Y26) -> 0
D27: JRFEM | G27: =SUM(I27:Y27) -> 0
D28: JRFEM | G28: =SUM(I28:Y28) -> 0
D29: JRFEM | G29: =SUM(I29:Y29) -> 0

Sheet MJUV
A1: CONFEDERAÇÃO BRASILEIRA DE CICLISMO | I1: Campeonatos Estaduais 2017 | M1: VIII Volta Ciclistica do Pará - Belém - PA - 10 e 11/06/2017 | N1: 1ª Copa Belém de Ciclismo - Belém - PA - 14/05/2017 | O1: SLZ Ilha Race - São Luis - MA - 14/05/2017 | P1: XXI GP de Ciclismo Israel de Freitas - Curiau - AP - 07/05/2017 | Q1: 9º Desafio Internacional Serra do Tepequem - Amajari - RR - 06 e 07/05/2017 | R1: 65ª Prova Ciclistica 1º de Maio - Indaiatuba - SP - 01/05/2017 | S1: 29º GP de Nova Andradina - Nova Andradina - MS - 01/05/2017 | T1: GP Caraguatatuba de Ciclismo - Caraguatatuba - SP - 30/04/2017 | U1: Copa Hans Fischer - Pomerode - SC - 29 e 30/04/2017 | V1: 10ª Volta Ciclística do Futuro - São Carlos - SP - 20 a 23/04/2017 | W1: IX Copa SEEL de Ciclismo - Belém - PA - 16/04/2017 | X1: Gran Cup Brasil de Ciclismo - Ubatuba - SP - 02/04/2017 | Y1: GP Cidade de Curitiba - Curitiba - PR - 02/04/2017 | Z1: Subida do Morro da Cruz - Florianópolis - SC - 26/03/2017 | AA1: Volta do Ceará - Eusébio - CE - 17 a 19/03/2017 | AB1: 50º Circuito do Boa Vista - Joinvile - SC - 11 e 12/03/2017 | AC1: GP Sesc Verão de Ciclismo - Sorocaba-SP - 19/02/2017 | AD1: Bike Fest Gaspar - Gaspar-SC - 19/02/2017
A2: RANKING ESTRADA JUVENIL MASCULINO | E2: ='Data de Atualização'!$A$1 -> 42941
A3: POS | B3: LICENÇA | C3: CORREDOR | D3: CATEG | E3: EQUIPE | F3: FED | G3: PTOS | I3: CE | M3: 2B | N3: 4 | O3: 4 | P3: 4 | Q3: 3 | R3: ELITE PRÓ/3 | S3: 4 | T3: 5 | U3: 2B | V3: 2A | W3: 4 | X3: 4 | Y3: 4 | Z3: 3 | AA3: 2B | AB3: 4 | AC3: 4 | AD3: 5
A4: 1 | B4: 02.18042.13 | C4: ALAN FAGHERAZZI LABATUT | D4: JUVMAS | E4: BRUCICLE - ASSOCIAÇÃO BRUSQUENSE DE CICLISMO | F4: SC | G4: =SUM(I4:AD4) -> 245 | U4: 60 | V4: 85 | Z4: 65 | AB4: 35
A5: 2 | B5: 04.15697.13 | C5: PEDRO HENRIQUE LISBOA FERREIRA BASTOS | D5: JUVMAS | E5: MEMORIAL / SANTOS / FUPES | F5: SP | G5: =SUM(I5:AD5) -> 185 | U5: 50 | V5: 95 | AC5: 40
A6: 3 | B6: 04.26193.15 | C6: JUAN GABRIEL TOME AMARILLA | D6: JUVMAS | E6: CLUBE DE CICLISMO CAÇAPAVA | F6: SP | G6: =SUM(I6:AD6) -> 131 | R6: 80 | T6: 10 | V6: 6 | X6: 35
A7: 4 | B7: 02.23353.14 | C7: VINICIUS RANGEL COSTA | D7: JUVMAS | E7: BIKE POINT | F7: SC | G7: =SUM(I7:AD7) -> 130 | V7: 130
A8: 5 | B8: 10.30168.16 | C8: MARCOS LOBO DA COSTA | D8: JUVMAS | E8: CLUBE MARCONI RIBEIRO TREINAMENTO | F8: DF | G8: =SUM(I8:AD8) -> 115 | V8: 115
A9: 6 | B9: 04.30265.16 | C9: GUSTAVO XAVIER DE OLIVEIRA PEREIRA | D9: JUVMAS | E9: AVULSO | F9: SP | G9: =SUM(I9:AD9) -> 105 | V9: 105
A10: 6 | B10: 22.27221.15 | C10: VICTOR MOREIRA GUEDES SOARES | D10: JUVMAS | E10: CLUBE AMAZÔNIA DE CICLISMO | F10: PA | G10: =SUM(I10:AD10) -> 105 | M10: 40 | N10: 30 | W10: 35
A11: 7 | B11: 04.32110.17 | C11: MARCOS LEVY NASCIMENTO DA MATTA | D11: JUVMAS | E11: AVULSO | F11: SP | G11: =SUM(I11:AD11) -> 100 | R11: 35 | V11: 65
A12: 8 | B12: 02.26262.15 | C12: FELIPE LOPES DI DOMENICO | D12: JUVMAS | E12: BIKE POINT/FME CRICIÚMA | F12: SC | G12: =SUM(I12:AD12) -> 86 | U12: 33 | Y12: 13 | Z12: 40
A13: 9 | B13: 04.24661.15 | C13: THIAGO CHEFER KOCH DA CUNHA | D13: JUVMAS | E13: AVULSO | F13: SP | G13: =SUM(I13:AD13) -> 85 | R13: 30 | V13: 55
A14: 10 | B14: 02.28631.16 | C14: BRUNO SCHIMITT FORMIGHIERI | D14: JUVMAS | E14: FME BALNEÁRIO CAMBORIÚ | F14: SC | G14: =SUM(I14:AD14) -> 80 | U14: 55 | AB14: 25
A15: 10 | B15: 04.22226.14 | C15: GABRIEL DE OLIVEIRA SANTOS | D15: JUVMAS | E15: ACILHA / ILHA SOLTEIRA | F15: SP | G15: =SUM(I15:AD15) -> 80 | S15: 40 | V15: 40
A16: 11 | B16: 02.26069.15 | C16: LEONARDO BACK FARIAS | D16: JUVMAS | E16: BIKE POINT | F16: SC | G16: =SUM(I16:AD16) -> 75 | V16: 75
A17: 12 | B17: 22.31485.17 | C17: RENATO VINICIUS DA SILVA XAVIER | D17: JUVMAS | E17: PEDAL ANANIN | F17: PA | G17: =SUM(I17:AD17) -> 69 | M17: 37 | N17: 17 | W17: 15
A18: 13 | B18: 04.32061.17 | C18: PEDRO FIGUEIREDO LEME | D18: JUVMAS | E18: AJEP / TIME JUNDIAÍ / FIRSTBIKES / NEW MILLEN / ISOTECH / DK | F18: SP | G18: =SUM(I18:AD18) -> 65 | R18: 65
A19: 14 | B19: 08.30801.17 | C19: HENRIQUE GOMES MALDONADO | D19: JUVMAS | E19: ASSOCIAÇÃO ANASTACIANA E AQUIDAUANENSE DE CICLISMO - AAAC | F19: MS | G19: =SUM(I19:AD19) -> 57 | S19: 17 | AD19: 40
A20: 14 | B20: 04.23545.14 | C20: RONNIE PETERSON LESSA DOS SANTOS | D20: JUVMAS | E20: CLUBE DE CICLISMO DE SÃO JOSÉ DOS CAMPOS | F20: SP | G20: =SUM(I20:AD20) -> 57 | R20: 50 | T20: 7
A21: 15 | B21: 04.23316.14 | C21: JHONATA DE LIMA PEREDA | D21: JUVMAS | E21: PENKS / U.C.I. IRACEMAPOLIS | F21: SP | G21: =SUM(I21:AD21) -> 55 | R21: 45 | V21: 10
A22: 15 | B22: 04.28833.16 | C22: JOSE LUIZ VIEIRA FELICIO | D22: JUVMAS | E22: SÃO FRANCISCO SAÚDE/KLABIN/SME RIBEIRÃO PRETO | F22: SP | G22: =SUM(I22:AD22) -> 55 | R22: 55
A23: 15 | B23: 22.30442.16 | C23: LUAN DIEGO ROSARIO DA SILVA | D23: JUVMAS | E23: CLUBE AMAZÔNIA DE CICLISMO | F23: PA | G23: =SUM(I23:AD23) -> 55 | M23: 55
A24: 16 | B24: 03.25084.15 | C24: PEDRO LUCAS DIAS DE OLIVEIRA | D24: JUVMAS | E24: ASSOCIAÇÃO CICLÍSTICA DESPORTIVA | F24: PR | G24: =SUM(I24:AD24) -> 50 | Y24: 30 | AB24: 20
A25: 16 | C25: DANIEL WALLACE ARAÚJO DO CARMO | D25: JUVMAS | E25: ALTERNATIVA - SOURE | F25: PA | G25: =SUM(I25:AD25) -> 50 | M25: 50
A26: 17 | B26: 03.28763.16 | C26: MIKAEL LOVRIN | D26: JUVMAS | E26: AVULSO | F26: PR | G26: =SUM(I26:AD26) -> 46 | U26: 35 | V26: 11
A27: 18 | C27: DANILO MENDES DE OLIVEIRA | D27: JUVMAS | E27: ANANINDEUA E.C./TRIGOLINO | F27: PA | G27: =SUM(I27:AD27) -> 45 | M27: 45
A28: 19 | B28: 02.28092.16 | C28: GABRIEL JOSE DALLABRIDA | D28: JUVMAS | E28: PORTAL TIMBÓ NET/SICOOB CREDIPÉROLA/FME TIMBÓ | F28: SC | G28: =SUM(I28:AD28) -> 40 | U28: 15 | Z28: 25
A29: 19 | B29: 03.28815.16 | C29: VINICIUS GUIMARAES DA CRUZ | D29: JUVMAS | E29: CLUBE DE CICLISMO SO PEDAL | F29: PR | G29: =SUM(I29:AD29) -> 40 | U29: 40
A30: 19 | B30: 04.23642.14 | C30: DAVIDSON RODRIGUES OVIDOR | D30: JUVMAS | E30: PENKS / U.C.I. IRACEMAPOLIS | F30: SP | G30: =SUM(I30:AD30) -> 40 | R30: 40
A31: 19 | B31: 28.30281.16 | C31: PABLO FAVELA DEMETRIO | D31: JUVMAS | E31: CICLO RR | F31: RR | G31: =SUM(I31:AD31) -> 40 | Q31: 40
A32: 20 | B32: 18.29137.16 | C32: GABRIEL CANDIDO DE SOUZA | D32: JUVMAS | E32: AVULSO | F32: CE | G32: =SUM(I32:AD32) -> 37 | AA32: 37
A33: 20 | B33: 03.32084.17 | C33: RENAN LADEWIG QUADRI | D33: JUVMAS | E33: CLUBE DE CICLISMO SO PEDAL | F33: PR | G33: =SUM(I33:AD33) -> 37 | U33: 37
A34: 20 | B34: 04.23095.14 | C34: VINICIUS SILVA GOMES LEITE | D34: JUVMAS | E34: 5WAYS TEAM / SÃO PAULO | F34: SP | G34: =SUM(I34:AD34) -> 37 | R34: 25 | V34: 12
A35: 21 | B35: 08.28957.16 | C35: LUIZ HAMYN DOS SANTOS FALCAO | D35: JUVMAS | E35: ASSOCIAÇÃO ANASTACIANA DE CICLISMO - AAC | F35: MS | G35: =SUM(I35:AD35) -> 35 | AD35: 35
A36: 21 | B36: 03.26170.15 | C36: BREHON CASTAGNO SCHINEIDER JUNIOR | D36: JUVMAS | E36: CLUBE CICLISTICO ARAPONGUENSE | F36: PR | G36: =SUM(I36:AD36) -> 35 | S36: 35
A37: 21 | B37: 22.29277.16 | C37: ALAN CAYRES MARTINS FERREIRA | D37: JUVMAS | E37: CLUBE AMAZÔNIA DE CICLISMO | F37: PA | G37: =SUM(I37:AD37) -> 35 | N37: 35
A38: 21 | B38: 04.28586.16 | C38: LUCAS BATISTA DA SILVA | D38: JUVMAS | E38: 5WAYS TEAM / SÃO PAULO | F38: SP | G38: =SUM(I38:AD38) -> 35 | R38: 21 | V38: 14
A39: 22 | B39: 03.29822.16 | C39: GUSTAVO HENRIQUE DOS SANTOS DOMINGOS | D39: JUVMAS | E39: CLUBE CICLISTICO ARAPONGUENSE | F39: PR | G39: =SUM(I39:AD39) -> 34 | S39: 25 | V39: 9
A40: 23 | B40: 02.30115.16 | C40: DAVID GUIMARAES DOS SANTOS | D40: JUVMAS | E40: FME BALNEÁRIO CAMBORIÚ | F40: SC | G40: =SUM(I40:AD40) -> 31 | U40: 31
A41: 24 | B41: 08.25022.15 | C41: JOAO GABRIEL TEODORO DE ANDRADE | D41: JUVMAS | E41: C.R.C. CLUBE RIOBRILHANTENSE DE CICLISMO | F41: MS | G41: =SUM(I41:AD41) -> 30 | AD41: 30
A42: 24 | B42: 08.26579.15 | C42: BRUNNO BECKER GONÇALVES | D42: JUVMAS | E42: ASSOCIAÇÃO CICLÍSTICA DE JARDIM-ACJAR | F42: MS | G42: =SUM(I42:AD42) -> 30 | S42: 30
A43: 25 | B43: 02.31555.17 | C43: CAIO FELIPPI OSS EMER | D43: JUVMAS | E43: PORTAL TIMBÓ NET/SICOOB CREDIPÉROLA/FME TIMBÓ | F43: SC | G43: =SUM(I43:AD43) -> 25 | U43: 25
A44: 26 | B44: 04.32111.17 | C44: FELIPE SILVA PINHEIRO | D44: JUVMAS | E44: CLUBE DE CICLISMO DE SÃO JOSÉ DOS CAMPOS | F44: SP | G44: =SUM(I44:AD44) -> 24 | R44: 15 | T44: 9
A45: 27 | B45: 04.31557.17 | C45: MATHEUS PAULINO DO COUTO | D45: JUVMAS | E45: ABEC / RIO CLARO | F45: SP | G45: =SUM(I45:AD45) -> 20 | AC45: 20
A46: 27 | B46: 16.30766.17 | C46: RICARDO VINICIO ARAÚJO DINIZ COSTA | D46: JUVMAS | E46: ASEAC-ASSOCIAÇÃO SOLEDADENSE DE ESPORTES E APOIO AO CICLISTA | F46: PB | G46: =SUM(I46:AD46) -> 20 | W46: 20
A47: 27 | B47: 02.23437.14 | C47: ARTUR GUARDA SIMEONI | D47: JUVMAS | E47: BIKE POINT/FME CRICIÚMA | F47: SC | G47: =SUM(I47:AD47) -> 20 | V47: 20
A48: 27 | B48: 03.22420.14 | C48: THIAGO HENRIQUE MAGRO DE MEDEIROS | D48: JUVMAS | E48: CLUBE LONDRINENSE DE CICLISMO | F48: PR | G48: =SUM(I48:AD48) -> 20 | S48: 20
A49: 27 | B49: 20.29040.16 | C49: DANIEL LOPES DOS SANTOS | D49: JUVMAS | E49: MOTO CLUBE DE SÃO LUIS | F49: MA | G49: =SUM(I49:AD49) -> 20 | O49: 20
A50: 28 | B50: 04.23274.14 | C50: DANIEL KEICHIRO TAKANASHI | D50: JUVMAS | E50: CLUBE DE CICLISMO DE SÃO JOSÉ DOS CAMPOS | F50: SP | G50: =SUM(I50:AD50) -> 19 | R50: 13 | T50: 6
A51: 29 | B51: 04.32153.17 | C51: VINICIUS SOUZA MELO | D51: JUVMAS | E51: AJEP / TIME JUNDIAÍ / FIRSTBIKES / NEW MILLEN / ISOTECH / DK | F51: SP | G51: =SUM(I51:AD51) -> 18 | R51: 18
A52: 30 | B52: 04.28894.16 | C52: GUILHERME PEREIRA | D52: JUVMAS | E52: ASSOCIAÇÃO BATATAENSE DE CICLISMO | F52: SP | G52: =SUM(I52:AD52) -> 16 | R52: 11 | V52: 5
A53: 31 | B53: 04.22245.14 | C53: MARCIO APARECIDO DA SILVA JUNIOR | D53: JUVMAS | E53: ABEC / RIO CLARO | F53: SP | G53: =SUM(I53:AD53) -> 15 | AC53: 15
A54: 31 | B54: 02.24406.15 | C54: ANTONIO HENRIQUE CANDIDO QUEIROZ E BALTAZAR | D54: JUVMAS | E54: BIKE POINT/FME CRICIÚMA | F54: SC | G54: =SUM(I54:AD54) -> 15 | V54: 15
A55: 32 | B55: 09.23879.15 | C55: MURILO BERNARDES SILVA | D55: JUVMAS | E55: ASSOCIAÇÃO ATLETICA BICICLETELIAS | F55: GO | G55: =SUM(I55:AD55) -> 13 | V55: 13
A56: 33 | B56: 04.32024.17 | C56: ADRIAN GLEISON TOSTA | D56: JUVMAS | E56: ASSOCIAÇÃO BATATAENSE DE CICLISMO | F56: SP | G56: =SUM(I56:AD56) -> 10 | R56: 7 | V56: 3
A57: 34 | B57: 04.29908.16 | C57: LUCAS FERREIRA CANDIOTTO NICACIO | D57: JUVMAS | E57: PENKS / U.C.I. IRACEMAPOLIS | F57: SP | G57: =SUM(I57:AD57) -> 9 | R57: 9
A58: 35 | B58: 03.32085.17 | C58: FELIPE DANIEL DINIZ DOS SANTOS RODRIGUES | D58: JUVMAS | E58: CLUBE LONDRINENSE DE CICLISMO | F58: PR | G58: =SUM(I58:AD58) -> 8 | V58: 8
A59: 35 | B59: 04.31629.17 | C59: YAGO AMARAL ALVES | D59: JUVMAS | E59: S.E.T. MOGI GUAÇU | F59: SP | G59: =SUM(I59:AD59) -> 8 | R59: 8
A60: 36 | B60: 04.31551.17 | C60: LEONARDO FRANCISCO RODRIGUES DE SOUZA | D60: JUVMAS | E60: ASSOCIAÇÃO BATATAENSE DE CICLISMO | F60: SP | G60: =SUM(I60:AD60) -> 7 | V60: 7
A61: 37 | B61: 04.28835.16 | C61: JOAO HENRIQUE SCARANTI | D61: JUVMAS | E61: SÃO FRANCISCO SAÚDE/KLABIN/SME RIBEIRÃO PRETO | F61: SP | G61: =SUM(I61:AD61) -> 4 | V61: 4
A62: 38 | B62: 04.32114.17 | C62: LUIZ HENRIQUE MILANI DE LIMA | D62: JUVMAS | E62: PENKS / U.C.I. IRACEMAPOLIS | F62: SP | G62: =SUM(I62:AD62) -> 2 | V62: 2
D63: JUVMAS | G63: =SUM(I63:AD63) -> 0
D64: JUVMAS | G64: =SUM(I64:AD64) -> 0
D65: JUVMAS | G65: =SUM(I65:AD65) -> 0

Sheet FJUV
A1: CONFEDERAÇÃO BRASILEIRA DE CICLISMO | I1: Campeonatos Estaduais 2017 | J1: VIII Volta Ciclistica do Pará - Belém - PA - 10 e 11/06/2017 | K1: 1ª Copa Belém de Ciclismo - Belém - PA - 14/05/2017 | L1: 65ª Prova Ciclistica 1º de Maio - Indaiatuba - SP - 01/05/2017 | M1: 29º GP de Nova Andradina - Nova Andradina - MS - 01/05/2017 | N1: Copa Hans Fischer - Pomerode - SC - 29 e 30/04/2017 | O1: 10ª Volta Ciclística do Futuro - São Carlos - SP - 20 a 23/04/2017 | P1: IX Copa SEEL de Ciclismo - Belém - PA - 16/04/2017 | Q1: GP Cidade de Curitiba - Curitiba - PR - 02/04/2017 | R1: Subida do Morro da Cruz - Florianópolis - SC - 26/03/2017
A2: RANKING ESTRADA JUVENIL FEMININO | E2: ='Data de Atualização'!$A$1 -> 42941
A3: POS | B3: LICENÇA | C3: CORREDOR | D3: CATEG | E3: EQUIPE | F3: FED | G3: PTOS | I3: CE | J3: 2B | K3: 4 | L3: ELITE PRÓ/3 | M3: 4 | N3: 2B | O3: 2A | P3: 4 | Q3: 4 | R3: 3
A4: 1 | B4: 03.24780.15 | C4: VANESSA ROGALEWSKI | D4: JUVFEM | E4: CLUBE DE CICLISMO SO PEDAL | F4: PR | G4: =SUM(I4:R4) -> 147.5 | N4: 30 | O4: 57.5 | Q4: 20 | R4: 40
A5: 2 | B5: 04.31631.17 | C5: JULIA LEITE BRAGA | D5: JUVFEM | E5: S.E.T. MOGI GUAÇU | F5: SP | G5: =SUM(I5:R5) -> 105 | L5: 40 | O5: 65
A6: 3 | B6: 03.25185.15 | C6: JULIA MARIA CONSTANTINO | D6: JUVFEM | E6: CLUBE CICLISTICO ARAPONGUENSE | F6: PR | G6: =SUM(I6:R6) -> 72.5 | M6: 20 | O6: 52.5
A7: 4 | B7: 22.26523.15 | C7: LETICIA JERONIMO CORREA | D7: JUVFEM | E7: CLUBE AMAZÔNIA DE CICLISMO | F7: PA | G7: =SUM(I7:R7) -> 67.5 | J7: 30 | K7: 20 | P7: 17.5
A8: 5 | B8: 03.25202.15 | C8: MARIA DE LOURDES APARECIDA MACIEL | D8: JUVFEM | E8: CLUBE CICLISTICO ARAPONGUENSE | F8: PR | G8: =SUM(I8:R8) -> 65 | M8: 17.5 | O8: 47.5
A9: 6 | B9: 22.29633.16 | C9: VIRGINIA SUELEN DA ROCHA PINTO | D9: JUVFEM | E9: ANANINDEUA E.C./TRIGOLINO | F9: PA | G9: =SUM(I9:R9) -> 45 | J9: 27.5 | K9: 17.5
D10: JUVFEM
D11: JUVFEM
D12: JUVFEM
D13: JUVFEM | G13: =SUM(I13:R13) -> 0

Sheet MINF
A1: CONFEDERAÇÃO BRASILEIRA DE CICLISMO | I1: Campeonatos Estaduais 2017 | K1: 4º Circuito Ducks Bike de Ciclismo - Patos - PB - 23/04/2017 | L1: XXI GP de Ciclismo Israel de Freitas - Curiau - AP - 07/05/2017 | M1: 65ª Prova Ciclistica 1º de Maio - Indaiatuba - SP - 01/05/2017 | N1: 29º GP de Nova Andradina - Nova Andradina - MS - 01/05/2017 | O1: Copa Hans Fischer - Pomerode - SC - 29 e 30/04/2017 | P1: 10ª Volta Ciclística do Futuro - São Carlos - SP - 20 a 23/04/2017 | Q1: GP Cidade de Curitiba - Curitiba - PR - 02/04/2017 | R1: Subida do Morro da Cruz - Florianópolis - SC - 26/03/2017 | S1: 9º Circuito Ciclístico Cidade de Aracaju - Aracaju - SE - 19/03/2017 | T1: 50º Circuito do Boa Vista - Joinvile - SC - 11 e 12/03/2017 | U1: 8ª GP Mega 94 de Ciclismo - Campo Grande - MS - 05/03/2017
A2: RANKING ESTRADA INF. JUV. MASCULINO | E2: ='Data de Atualização'!$A$1 -> 42941
A3: POS | B3: LICENÇA | C3: CORREDOR | D3: CATEG | E3: EQUIPE | F3: FED | G3: PTOS | I3: CE | K3: 4 | L3: 4 | M3: ELITE PRÓ/3 | N3: 4 | O3: 2B | P3: 2A | Q3: 4 | R3: 3 | S3: 4 | T3: 4 | U3: 4
A4: 1 | B4: 03.24998.15 | C4: THIAGO LUIS CRUZ DA SILVA | D4: INFJUV | E4: SMEL FOZ DO IGUAÇU | F4: PR | G4: =SUM(I4:U4) -> 200 | P4: 75 | Q4: 25 | R4: 80 | T4: 20
A5: 2 | B5: 03.32120.17 | C5: JOSÉ RAFAEL FURLANETO | D5: INFJUV | E5: CLUBE LONDRINENSE DE CICLISMO | F5: PR | G5: =SUM(I5:U5) -> 140 | N5: 35 | P5: 105
A6: 3 | B6: 02.32083.17 | C6: ARTHUR CARRER | D6: INFJUV | E6: BIKE POINT | F6: SC | G6: =SUM(I6:U6) -> 130 | P6: 130
A7: 4 | B7: 04.32096.17 | C7: GUSTAVO TONIATTI OLIVEIRA | D7: INFJUV | E7: MEMORIAL / SANTOS / FUPES | F7: SP | G7: =SUM(I7:U7) -> 125 | M7: 40 | P7: 85
A8: 5 | B8: 03.29745.16 | C8: GUSTAVO DE JESUS SALIN | D8: INFJUV | E8: PREFEITURA MUNICIPAL DE ROLÂNDIA | F8: PR | G8: =SUM(I8:U8) -> 95 | P8: 95
A9: 8 | B9: 04.32112.17 | C9: RENAN VINICIUS MELLO DOS SANTOS | D9: INFJUV | E9: ABEC / RIO CLARO | F9: SP | G9: =SUM(I9:U9) -> 87.5 | M9: 32.5 | P9: 55
A10: 6 | B10: 03.28844.16 | C10: RAFAEL LOVRIN | D10: INFJUV | E10: AVULSO | F10: PR | G10: =SUM(I10:U10) -> 77.5 | O10: 27.5 | P10: 50
A11: 7 | B11: 09.24995.15 | C11: EDERSON ANTONIO BARBOSA ALVES JUNIOR | D11: INFJUV | E11: CLUBE PLANETA RODAO DE CICLISMO | F11: GO | G11: =SUM(I11:U11) -> 65 | P11: 65
A12: 9 | B12: 08.29007.16 | C12: LUCAS FRANCISCO GARCIA | D12: INFJUV | E12: ACRB - ASSOC. DE CICLISTAS DE RIO BRILHANTE | F12: MS | G12: =SUM(I12:U12) -> 50 | N12: 30 | U12: 20
A13: 10 | B13: 03.30102.16 | C13: LUAN CARLOS RODRIGUES DA SILVA | D13: INFJUV | E13: AVULSO | F13: PR | G13: =SUM(I13:U13) -> 40 | P13: 40
A14: 10 | B14: 03.30186.16 | C14: KAWAN GABRIEL DA SILVA SOUZA | D14: INFJUV | E14: SMEL FOZ DO IGUAÇU | F14: PR | G14: =SUM(I14:U14) -> 40 | N14: 40
A15: 11 | B15: 08.29004.16 | C15: EDUARDO GARCIA DE SOUZA | D15: INFJUV | E15: ACRB - ASSOC. DE CICLISTAS DE RIO BRILHANTE | F15: MS | G15: =SUM(I15:U15) -> 34.5 | N15: 17 | U15: 17.5
A16: 16 | B16: 04.28371.16 | C16: NATHAN MASSAITI YAMASHITA VERGUEIRO | D16: INFJUV | E16: CLUBE DE CICLISMO DE SÃO JOSÉ DOS CAMPOS | F16: SP | G16: =SUM(I16:U16) -> 32.5 | M16: 27.5 | O16: 5
A17: 12 | B17: 03.30470.16 | C17: JOÃO LUCAS DE SOUZA RODRIGUES | D17: INFJUV | E17: AVULSO | F17: PR | G17: =SUM(I17:U17) -> 30 | Q17: 30
A18: 12 | B18: 03.32106.17 | C18: LUIZ FERNANDO FRASSATO | D18: INFJUV | E18: CLUBE LONDRINENSE DE CICLISMO | F18: PR | G18: =SUM(I18:U18) -> 30 | P18: 30
A19: 13 | B19: 08.29499.16 | C19: TALISON FRANCO HORA | D19: INFJUV | E19: ASSOCIAÇÃO CICLÍSTICA DE JARDIM-ACJAR | F19: MS | G19: =SUM(I19:U19) -> 25 | N19: 25
A20: 14 | B20: 16.30886.17 | C20: ANTONIO LUCIANO DE ALBUQUERQUE NETO | D20: INFJUV | E20: ASEAC-ASSOCIAÇÃO SOLEDADENSE DE ESPORTES E APOIO AO CICLISTA | F20: PB | G20: =SUM(I20:U20) -> 20 | K20: 20
A21: 14 | B21: 03.25238.15 | C21: JOÃO VITOR DE OLIVEIRA | D21: INFJUV | E21: SMEL FOZ DO IGUAÇU | F21: PR | G21: =SUM(I21:U21) -> 20 | N21: 20
A22: 14 | B22: 26.31126.17 | C22: VITOR SOARES SILVA | D22: INFJUV | E22: TOPAZZA CYCLING CLUB | F22: AP | G22: =SUM(I22:U22) -> 20 | L22: 20
A23: 15 | B23: 13.28185.16 | C23: KAIK ALESSANDRO SOUZA FEITOSA | D23: INFJUV | E23: AVULSO | F23: SE | G23: =SUM(I23:U23) -> 17.5 | S23: 17.5
D24: INFJUV | G24: =SUM(I24:U24) -> 0
D25: INFJUV | G25: =SUM(I25:U25) -> 0
D26: INFJUV | G26: =SUM(I26:U26) -> 0
D27: INFJUV | G27: =SUM(I27:U27) -> 0

Sheet FINF
A1: CONFEDERAÇÃO BRASILEIRA DE CICLISMO | I1: Campeonatos Estaduais 2017 | J1: 65ª Prova Ciclistica 1º de Maio - Indaiatuba - SP - 01/05/2017 | K1: 29º GP de Nova Andradina - Nova Andradina - MS - 01/05/2017 | L1: 10ª Volta Ciclística do Futuro - São Carlos - SP - 20 a 23/04/2017 | M1: 8ª GP Mega 94 de Ciclismo - Campo Grande - MS - 05/03/2017
A2: RANKING ESTRADA INF.JUV.FEMININO | E2: ='Data de Atualização'!$A$1 -> 42941
A3: POS | B3: LICENÇA | C3: CORREDOR | D3: CATEG | E3: EQUIPE | F3: FED | G3: PTOS | I3: CE | J3: ELITE PRÓ/3 | K3: 4 | L3: 2A | M3: 4
A4: 1 | B4: 04.28975.16 | C4: CECILIA VIEIRA LANCE | D4: INFFEM | E4: SAO FRANCISCO SAUDE/POWARADE/SME RIBEIRAO PRETO | F4: SP | G4: =SUM(I4:M4) -> 210 | J4: 80 | L4: 130
A5: 2 | B5: 04.31477.17 | C5: MAYRA DA COSTA E SILVA | D5: INFFEM | E5: MEMORIAL / SANTOS / FUPES | F5: SP | G5: =SUM(I5:M5) -> 180 | J5: 65 | L5: 115
A6: 3 | B6: 04.28516.16 | C6: JULIA RAYNNARA DE TOLEDO | D6: INFFEM | E6: ABEC / RIO CLARO | F6: SP | G6: =SUM(I6:M6) -> 155 | J6: 50 | L6: 105
A7: 4 | B7: 04.28505.16 | C7: CAMILA CRISTINA DEFENDI PINHEIRO | D7: INFFEM | E7: MEMORIAL / SANTOS / FUPES | F7: SP | G7: =SUM(I7:M7) -> 150 | J7: 55 | L7: 95
A8: 5 | B8: 03.32017.17 | C8: JENNIFER FRANCO DA ROSA ANTUNES | D8: INFFEM | E8: AVULSO | F8: PR | G8: =SUM(I8:M8) -> 85 | L8: 85
A9: 7 | B9: 04.32200.17 | C9: LUANA SABRINA REIS SOUZA | D9: INFFEM | E9: AVULSO | F9: SP | G9: =SUM(I9:M9) -> 45 | J9: 45
A10: 6 | B10: 08.25058.15 | C10: ANA GABRIELA PAES NOGUEIRA | D10: INFFEM | E10: ASSOCIACAO ESPORTIVA GILMAR BICICLETAS | F10: MS | G10: =SUM(I10:M10) -> 40 | K10: 20 | M10: 20
D11: INFFEM | G11: =SUM(I11:M11) -> 0
D12: INFFEM | G12: =SUM(I12:M12) -> 0
D13: INFFEM | G13: =SUM(I13:M13) -> 0

Sheet S30
A1: CONFEDERAÇÃO BRASILEIRA DE CICLISMO | I1: Campeonatos Estaduais 2017 | M1: Desafio de Ciclismo São Jose de Anchieta - Vitoria - ES - 11.06.17 | N1: Troféu Oswaldo Marques - Altos - PI - 28/05/2017 | O1: Speed Racer Bike - Cariacica - ESP - 21/05/2017 | P1: Volta de Ciclismo de Passo Fundo - Passo Fundo - RS - 07/05/2017 | Q1: GP Bahia de Ciclismo - Feira de Santana - BA - 07/05/2017 | R1: 65ª Prova Ciclistica 1º de Maio - Indaiatuba - SP - 01/05/2017 | S1: 29º GP de Nova Andradina - Nova Andradina - MS - 01/05/2017 | T1: Copa Hans Fischer - Pomerode - SC - 29 e 30/04/2017 | U1: 4º Circuito Ducks Bike de Ciclismo - Patos - PB - 23/04/2017 | V1: Prova Ciclistica da Inconfidencia Mineira - Senador Firmino - MG - 21/04/2017 | W1: 1ª Volta Master do Espirito Santo - Cariacica - ES - 15 e 16/04/2017 | X1: Gran Cup Brasil de Ciclismo - Ubatuba - SP - 02/04/2017 | Y1: Gran Cup Brasil de Ciclismo - Ubatuba - SP - 02/04/2017 | Z1: GP Cidade de Curitiba - Curitiba - PR - 02/04/2017 | AA1: Subida do Morro da Cruz - Florianópolis - SC - 26/03/2017 | AB1: 50º Circuito do Boa Vista - Joinvile - SC - 11 e 12/03/2017 | AC1: 8ª GP Mega 94 de Ciclismo - Campo Grande - MS - 05/03/2017 | AD1: Bike Fest Gaspar - Gaspar-SC - 19/02/2017
A2: RANKING ESTRADA SUB 30 | E2: ='Data de Atualização'!$A$1 -> 42941
A3: POS | B3: LICENÇA | C3: CORREDOR | D3: CATEG | E3: EQUIPE | F3: FED | G3: PTOS | I3: CE | M3: 4 | N3: 4 | O3: 4 | P3: 5 | Q3: 4 | R3: ELITE PRÓ/3 | S3: 4 | T3: 2B | U3: 4 | V3: 4 | W3: 2B | X3: 4 | Y3: 4 | Z3: 4 | AA3: 3 | AB3: 4 | AC3: 4 | AD3: 5
A4: 1 | B4: 02.4164.05 | C4: FABIO AUGUSTO DASEMBROCK | D4: S30 | E4: FME BALNEÁRIO CAMBORIÚ | F4: SC | G4: =SUM(I4:AD4) -> 210 | T4: 50 | Z4: 35 | AA4: 80 | AB4: 40 | AD4: 5
A5: 2 | B5: 12.26731.15 | C5: JOACER SILVA DE SANTANA FILHO | D5: S30 | E5: AVULSO | F5: BA | G5: =SUM(I5:AD5) -> 90 | Q5: 40 | W5: 50
A6: 3 | B6: 02.31177.17 | C6: DIEGO ELIODORIO DOS SANTOS | D6: S30 | E6: FME BALNEÁRIO CAMBORIÚ | F6: SC | G6: =SUM(I6:AD6) -> 88 | T6: 33 | AA6: 55
A7: 4 | B7: 06.11526.09 | C7: RUAN MONTEIRO FRANÇA DA SILVA | D7: S30 | E7: EQUIPE LUCIA ARANHA | F7: RJ | G7: =SUM(I7:AD7) -> 85 | M7: 30 | W7: 55
A8: 5 | B8: 02.13930.11 | C8: THIAGO RODRIGO DEMARCHI | D8: S30 | E8: PORTAL TIMBÓ NET/SICOOB CREDIPÉROLA/FME TIMBÓ | F8: SC | G8: =SUM(I8:AD8) -> 80 | T8: 45 | AB8: 35
A9: 6 | B9: 07.15872.12 | C9: MIKEIAS TREVEZANI | D9: S30 | E9: GR TEAM | F9: ES | G9: =SUM(I9:AD9) -> 74.5 | M9: 17 | O9: 17.5 | W9: 40
A10: 7 | B10: 08.6039.06 | C10: ÉDIPO BORTOLONI FIOROTO | D10: S30 | E10: ASSOCIACAO ESPORTIVA PRO-PEDAL (AEPP) | F10: MS | G10: =SUM(I10:AD10) -> 65 | S10: 35 | AC10: 30
A11: 8 | B11: 06.25751.15 | C11: VALDIR FERREIRA JUNIOR | D11: S30 | E11: ELITE BIKE RIO | F11: RJ | G11: =SUM(I11:AD11) -> 60 | W11: 60
A12: 8 | B12: 07.22472.14 | C12: DANILO VIEIRA DA SILVA | D12: S30 | E12: BIKE LEITE | F12: ES | G12: =SUM(I12:AD12) -> 60 | M12: 40 | O12: 20
A13: 9 | B13: 08.6056.06 | C13: GUILHERME ANDERSON DOS SANTOS | D13: S30 | E13: ASSOCIACAO ESPORTIVA PRO-PEDAL (AEPP) | F13: MS | G13: =SUM(I13:AD13) -> 50 | S13: 15 | AC13: 35
A14: 9 | B14: 08.9574.08 | C14: RAFAEL DE FREITAS BENITES | D14: S30 | E14: ASSOCIACAO ESPORTIVA PRO-PEDAL (AEPP) | F14: MS | G14: =SUM(I14:AD14) -> 50 | S14: 30 | AC14: 20
A15: 10 | B15: 04.10766.10 | C15: CARLOS EDUARDO UCHOA VICENTE | D15: S30 | E15: FUNDESPORT/ARARAQUARA | F15: SP | G15: =SUM(I15:AD15) -> 45 | R15: 45
A16: 11 | B16: 03.24144.15 | C16: CEZAR HENRIQUE IVANOSKI RAMOS | D16: S30 | E16: PREFEITURA MUNICIPAL DE COLOMBO | F16: PR | G16: =SUM(I16:AD16) -> 44 | T16: 35 | Z16: 9
A17: 12 | B17: 08.26925.15 | C17: DIEGO FRANCO | D17: S30 | E17: ASSOCIACAO ESPORTIVA PRO-PEDAL (AEPP) | F17: MS | G17: =SUM(I17:AD17) -> 42 | S17: 17 | AC17: 25
A18: 13 | B18: 02.23981.15 | C18: DANIEL FAGUNDES | D18: S30 | E18: AVULSO | F18: SC | G18: =SUM(I18:AD18) -> 40 | Z18: 11 | AB18: 25 | AD18: 4
A19: 13 | B19: 05.22119.14 | C19: FABRICIO GREGORIO FIGUEIREDO | D19: S30 | E19: AVULSO | F19: MG | G19: =SUM(I19:AD19) -> 40 | V19: 40
A20: 13 | B20: 04.15273.11 | C20: SERGIO AUGUSTO THIOFILO | D20: S30 | E20: VÉLO48 / CANNONDALE | F20: SP | G20: =SUM(I20:AD20) -> 40 | R20: 40
A21: 14 | B21: 07.31982.17 | C21: JOSADAK SANTANA DOS SANTOS | D21: S30 | E21: CAVEIRAS BIKE TEAM | F21: ES | G21: =SUM(I21:AD21) -> 37 | W21: 37
A22: 15 | B22: 06.10404.09 | C22: MARCELO CARDOSO PORTELA | D22: S30 | E22: AVULSO | F22: RJ | G22: =SUM(I22:AD22) -> 35 | V22: 35
A23: 15 | B23: 04.11158.09 | C23: IVAN GOMES FERRARI | D23: S30 | E23: S.E.T. MOGI GUAÇU | F23: SP | G23: =SUM(I23:AD23) -> 35 | R23: 35
A24: 15 | B24: 06.6972.07 | C24: LUCIAN RIBEIRO DE FREITAS | D24: S30 | E24: EQUIPE CALIL SPORT BIKE | F24: RJ | G24: =SUM(I24:AD24) -> 35 | M24: 35
A25: 16 | B25: 05.29945.16 | C25: GABRIEL COELHO CAMPOS SANTOS | D25: S30 | E25: GIRUS RACING TEAM | F25: MG | G25: =SUM(I25:AD25) -> 30 | V25: 30
A26: 16 | B26: 16.9670.08 | C26: JADSON DE ARAUJO PRUDENCIO | D26: S30 | E26: AVULSO | F26: PB | G26: =SUM(I26:AD26) -> 30 | U26: 30
A27: 16 | B27: 04.10877.09 | C27: MARCUS VINICIUS SOARES MORONI | D27: S30 | E27: AVULSO | F27: SP | G27: =SUM(I27:AD27) -> 30 | Y27: 30
A28: 16 | B28: 12.21732.14 | C28: KAIO FELIPPE SOUSA SILVA | D28: S30 | E28: AVULSO | F28: BA | G28: =SUM(I28:AD28) -> 30 | Q28: 30
A29: 17 | B29: 07.21226.14 | C29: LUCIANO BRAGATTO NUNES | D29: S30 | E29: AVULSO | F29: ES | G29: =SUM(I29:AD29) -> 25.5 | M29: 13 | O29: 12.5
A30: 18 | B30: 05.509.04 | C30: GABRIEL PINHO DOMENICONI | D30: S30 | E30: SSCC - DA MATTA | F30: MG | G30: =SUM(I30:AD30) -> 25 | V30: 25
A31: 18 | B31: 16.25806.15 | C31: JOÃO BATISTA ANTUNES | D31: S30 | E31: ASEAC-ASSOCIAÇÃO SOLEDADENSE DE ESPORTES E APOIO AO CICLISTA | F31: PB | G31: =SUM(I31:AD31) -> 25 | U31: 25
A32: 18 | B32: 03.30020.16 | C32: THIAGO RANGEL RANOLFI | D32: S30 | E32: AVULSO | F32: PR | G32: =SUM(I32:AD32) -> 25 | S32: 25
A33: 18 | B33: 12.21367.14 | C33: IGOR NETO MOREIRA | D33: S30 | E33: AVULSO | F33: BA | G33: =SUM(I33:AD33) -> 25 | Q33: 25
A34: 18 | B34: 07.32377.17 | C34: VICTOR FASSINA BROCCO | D34: S30 | E34: AVULSO | F34: ES | G34: =SUM(I34:AD34) -> 25 | M34: 25
A35: 19 | B35: 03.29616.16 | C35: CRISTOFER DA SILVA MATTOS | D35: S30 | E35: PREFEITURA MUNICIPAL DE COLOMBO | F35: PR | G35: =SUM(I35:AD35) -> 20 | Z35: 20
A36: 19 | B36: 05.23674.14 | C36: ANTONIO ROBERTO MARTINS JUNIOR | D36: S30 | E36: GIRUS RACING TEAM | F36: MG | G36: =SUM(I36:AD36) -> 20 | V36: 20
A37: 19 | B37: 12.31138.17 | C37: EDELVANDRO FELIPE SANTIAGO | D37: S30 | E37: AVULSO | F37: BA | G37: =SUM(I37:AD37) -> 20 | Q37: 20
A38: 19 | B38: 06.32222.17 | C38: FELIPE HENRIQUE FARIA IORIS | D38: S30 | E38: AVULSO | F38: RJ | G38: =SUM(I38:AD38) -> 20 | M38: 20
A39: 20 | B39: 04.32038.17 | C39: RENAN PETRI PORTO DO NASCIMENTO | D39: S30 | E39: URSOS BIANCHI / SUMARE | F39: SP | G39: =SUM(I39:AD39) -> 18 | R39: 18
A40: 21 | B40: 19.18736.13 | C40: ESTEVÃO ROCHA NEGREIROS | D40: S30 | E40: PEDAL BIKERS CLUB - PBC | F40: PI | G40: =SUM(I40:AD40) -> 17.5 | N40: 17.5
A41: 22 | B41: 08.23484.14 | C41: JOSEAN DONELARDY LOPES | D41: S30 | E41: ACRB - ASSOC. DE CICLISTAS DE RIO BRILHANTE | F41: MS | G41: =SUM(I41:AD41) -> 17 | AC41: 17
A42: 22 | B42: 05.17777.12 | C42: ARTUR BITARELLO DO AMARAL | D42: S30 | E42: AELSON F.AMARAL FOTOGRAFIAS/FREDERICO G.IMOVEIS/PREDIAL GODI | F42: MG | G42: =SUM(I42:AD42) -> 17 | V42: 17
A43: 22 | B43: 16.30643.17 | C43: THYAGO COSTA SILVA | D43: S30 | E43: AVULSO | F43: PB | G43: =SUM(I43:AD43) -> 17 | U43: 17
A44: 23 | B44: 18.5656.06 | C44: EVANDRO MEDEIROS GONDIM | D44: S30 | E44: MAURICIO LEAO | F44: CE | G44: =SUM(I44:AD44) -> 15 | N44: 15
A45: 23 | B45: 08.28093.16 | C45: MURILO DE PÁDUA MELLO SILVA | D45: S30 | E45: CLUBE MAR DEL PLATA DE CICLISMO | F45: MS | G45: =SUM(I45:AD45) -> 15 | AC45: 15
A46: 23 | B46: 05.26902.15 | C46: RAMON TÚLIO NOGUEIRA DE ARAUJO | D46: S30 | E46: BY JAPÃO | F46: MG | G46: =SUM(I46:AD46) -> 15 | V46: 15
A47: 23 | B47: 16.21581.14 | C47: VAGNER BATISTA LINS | D47: S30 | E47: AVULSO | F47: PB | G47: =SUM(I47:AD47) -> 15 | U47: 15
A48: 23 | B48: 07.24560.15 | C48: LUIS GUSTAVO DOS SANTOS PASSOS | D48: S30 | E48: AVULSO | F48: ES | G48: =SUM(I48:AD48) -> 15 | O48: 15
A49: 23 | B49: 07.24516.15 | C49: RENAN COSTALONGA NORBETE | D49: S30 | E49: ONE BIKE RACING TEAM | F49: ES | G49: =SUM(I49:AD49) -> 15 | M49: 15
A50: 24 | B50: 04.22896.14 | C50: MATHEUS DE MORAES INTRIERI | D50: S30 | E50: CLUBE DE CICLISMO CAÇAPAVA | F50: SP | G50: =SUM(I50:AD50) -> 13 | Y50: 13
A51: 24 | B51: 08.7860.08 | C51: ALEX SANDRO DA SILVA BAI | D51: S30 | E51: ASSOCIAÇÃO DESPORTIVA DE CICLISMO E ATLETISMO DE NOVA ANDRAD | F51: MS | G51: =SUM(I51:AD51) -> 13 | S51: 13
A52: 25 | B52: 08.30987.17 | C52: PAULO HENRIQUE SILVESTRE | D52: S30 | E52: ASSOCIACAO ESPORTIVA PRO-PEDAL (AEPP) | F52: MS | G52: =SUM(I52:AD52) -> 11 | S52: 11
A53: 25 | B53: 07.32386.17 | C53: JOSE ROBERTO POLTRONIERI PRATA | D53: S30 | E53: GR TEAM | F53: ES | G53: =SUM(I53:AD53) -> 11 | M53: 11
A54: 26 | B54: 02.30405.16 | C54: CHRISTIAN EDUARDO PAULETTI | D54: S30 | E54: BRUCICLE - ASSOCIAÇÃO BRUSQUENSE DE CICLISMO | F54: SC | G54: =SUM(I54:AD54) -> 9 | AD54: 9
A55: 26 | B55: 16.7669.07 | C55: WILLY DE SOUSA MARINHO | D55: S30 | E55: ASEAC-ASSOCIAÇÃO SOLEDADENSE DE ESPORTES E APOIO AO CICLISTA | F55: PB | G55: =SUM(I55:AD55) -> 9 | U55: 9
A56: 26 | B56: 04.10890.09 | C56: BRUNO SEYTY GOIA MACHADO | D56: S30 | E56: LCS / SOROCABA | F56: SP | G56: =SUM(I56:AD56) -> 9 | R56: 9
A57: 26 | B57: 07.31880.17 | C57: JEFERSON FRACALOSSI NAZARIO | D57: S30 | E57: GR TEAM | F57: ES | G57: =SUM(I57:AD57) -> 9 | M57: 9
A58: 27 | B58: 02.31160.17 | C58: MAICON MACHADO DE SOUZA | D58: S30 | E58: BRUCICLE - ASSOCIAÇÃO BRUSQUENSE DE CICLISMO | F58: SC | G58: =SUM(I58:AD58) -> 8 | AD58: 8
A59: 28 | B59: 02.27889.16 | C59: FABRÍCIO DALAGNOLI | D59: S30 | E59: BRUCICLE - ASSOCIAÇÃO BRUSQUENSE DE CICLISMO | F59: SC | G59: =SUM(I59:AD59) -> 6 | AD59: 6
A60: 29 | B60: 04.29198.16 | C60: CARLOS JEFERSON RODRIGUES OLIVEIRA | D60: S30 | E60: ADI / INDAIATUBA SECRETARIA DE ESPORTES | F60: SP | G60: =SUM(I60:AD60) -> 4 | R60: 4
A61: 30 | B61: 04.9394.08 | C61: DANILO JULIANO FERREIRA | D61: S30 | E61: AJEP / TIME JUNDIAÍ / FIRSTBIKES / NEW MILLEN / ISOTECH / DK | F61: SP | G61: =SUM(I61:AD61) -> 2 | R61: 2
G62: =SUM(I62:AD62) -> 0
G63: =SUM(I63:AD63) -> 0
G64: =SUM(I64:AD64) -> 0
G65: =SUM(I65:AD65) -> 0
D66: S30 | G66: =SUM(I66:AD66) -> 0
D67: S30 | G67: =SUM(I67:AD67) -> 0

Sheet M30-34
A1: CONFEDERAÇÃO BRASILEIRA DE CICLISMO | I1: Campeonatos Estaduais 2017 | K1: VIII Volta Ciclistica do Pará - Belém - PA - 10 e 11/06/2017 | L1: Caminho dos Cristais - Curvelo - MG - 18/06/2017 | M1: Desafio de Ciclismo São Jose de Anchieta - Vitória - ES - 11/06/2017 | N1: V Copa Amapa de Ciclismo - Macapá - AP - 04/06/2017 | O1: Troféu Oswaldo Marques - Altos - PI - 28/05/2017 | P1: Speed Racer Bike - Cariacica - ESP - 21/05/2017 | Q1: 1ª Copa Belém de Ciclismo - Belém - PA - 14/05/2017 | R1: SLZ Ilha Race - São Luis - MA - 14/05/2017 | S1: XXI GP de Ciclismo Israel de Freitas - Curiau - AP - 07/05/2017 | T1: Volta de Ciclismo de Passo Fundo - Passo Fundo - RS - 07/05/2017 | U1: GP Bahia de Ciclismo - Feira de Santana - BA - 07/05/2017 | V1: 9º Desafio Internacional Serra do Tepequem - Amajari - RR - 06 e 07/05/2017 | W1: 65ª Prova Ciclistica 1º de Maio - Indaiatuba - SP - 01/05/2017 | X1: 29º GP de Nova Andradina - Nova Andradina - MS - 01/05/2017 | Y1: Copa Hans Fischer - Pomerode - SC - 29 e 30/04/2017 | Z1: 4º Circuito Ducks Bike de Ciclismo - Patos - PB - 23/04/2017 | AA1: Prova Ciclistica da Inconfidencia Mineira - Senador Firmino - MG - 21/04/2017 | AB1: IX Copa SEEL de Ciclismo - Belém - PA - 16/04/2017 | AC1: 1ª Volta Master do Espirito Santo - Cariacica - ES - 15 e 16/04/2017 | AD1: Gran Cup Brasil de Ciclismo - Ubatuba - SP - 02/04/2017 | AE1: GP Cidade de Curitiba - Curitiba - PR - 02/04/2017 | AF1: Subida do Morro da Cruz - Florianópolis - SC - 26/03/2017 | AG1: Copa Velho Chico - Januária - MG - 26/03/2017 | AH1: 9º Circuito Ciclístico Cidade de Aracaju - Aracaju - SE - 19/03/2017 | AI1: Volta do Ceará - Eusébio - CE - 17 a 19/03/2017 | AJ1: 50º Circuito do Boa Vista - Joinvile - SC - 11 e 12/03/2017 | AK1: 8ª GP Mega 94 de Ciclismo - Campo Grande - MS - 05/03/2017 | AL1: Bike Fest Gaspar - Gaspar-SC - 19/02/2017
A2: RANKING ESTRADA MASTER 30-34 | E2: ='Data de Atualização'!$A$1 -> 42941
A3: POS | B3: LICENÇA | C3: CORREDOR | D3: CATEG | E3: EQUIPE | F3: FED | G3: PTOS | I3: CE | K3: 2B | L3: 5 | M3: 4 | N3: 5 | O3: 4 | P3: 4 | Q3: 4 | R3: 4 | S3: 4 | T3: 5 | U3: 4 | V3: 3 | W3: ELITE PRÓ/3 | X3: 4 | Y3: 2B | Z3: 4 | AA3: 4 | AB3: 4 | AC3: 2B | AD3: 4 | AE3: 4 | AF3: 3 | AG3: 5 | AH3: 4 | AI3: 2B | AJ3: 4 | AK3: 4 | AL3: 5
A4: 1 | B4: 18.28402.16 | C4: THIAGO MELO FERREIRA | D4: M30-34 | E4: VELLO SPORTS | F4: CE | G4: =SUM(I4:AL4) -> 140 | K4: 50 | O4: 35 | AI4: 55
A5: 2 | B5: 02.28563.16 | C5: LAÉRCIO JOSÉ SILVEIRA | D5: M30-34 | E5: FME BALNEÁRIO CAMBORIÚ | F5: SC | G5: =SUM(I5:AL5) -> 130 | Y5: 45 | AF5: 55 | AJ5: 20 | AL5: 10
A6: 3 | B6: 22.2356.04 | C6: DEYVISON KLAY BARBOSA MENEZES | D6: M30-34 | E6: ANANINDEUA E.C./TRIGOLINO | F6: PA | G6: =SUM(I6:AL6) -> 120 | K6: 60 | Q6: 35 | AB6: 25
A7: 4 | B7: 02.671.04 | C7: IVAN VEGINI | D7: M30-34 | E7: PORTAL TIMBÓ NET/SICOOB CREDIPÉROLA/FME TIMBÓ | F7: SC | G7: =SUM(I7:AL7) -> 115 | Y7: 50 | AF7: 30 | AJ7: 35
A8: 5 | B8: 07.18157.13 | C8: GILSIMAR COCO DE OLIVEIRA | D8: M30-34 | E8: ACSES | BIANCOGRES | F8: ES | G8: =SUM(I8:AL8) -> 95 | P8: 40 | AC8: 55
A9: 6 | B9: 07.28404.16 | C9: ANTONIO PADUA ALMEIDA DE CAMPOS | D9: M30-34 | E9: ACSES | BIANCOGRES | F9: ES | G9: =SUM(I9:AL9) -> 93 | M9: 13 | P9: 30 | AC9: 50
A10: 7 | B10: 04.26469.15 | C10: CARLOS EDUARDO FERREIRA JUNIOR | D10: M30-34 | E10: ACICLI / ITAPETININGA | F10: SP | G10: =SUM(I10:AL10) -> 80 | W10: 80
A11: 7 | B11: 06.11334.09 | C11: JOAO CARLOS BARRETO FRANÇA | D11: M30-34 | E11: AVULSO | F11: RJ | G11: =SUM(I11:AL11) -> 80 | M11: 40 | O11: 40
A12: 8 | B12: 08.6476.07 | C12: LEANDRO CARVALHO DA FONSECA | D12: M30-34 | E12: ASSOC.ESPORTIVA BIKE NORTE/QUALIDADE FISICA/MULTICOISAS | F12: MS | G12: =SUM(I12:AL12) -> 75 | X12: 35 | AK12: 40
A13: 8 | B13: 22.2359.04 | C13: THIAGO DA SILVA LIMA DE OLIVEIRA | D13: M30-34 | E13: PAPALEGUAS RACE | F13: PA | G13: =SUM(I13:AL13) -> 75 | K13: 35 | Q13: 40
A14: 9 | B14: 07.26947.15 | C14: RAFAEL QUEIROZ SILVEIRA | D14: M30-34 | E14: AVULSO | F14: ES | G14: =SUM(I14:AL14) -> 71 | M14: 11 | AC14: 60
A15: 10 | B15: 22.11623.09 | C15: PAULO FERNANDES LIMA | D15: M30-34 | E15: ASALP/PA | F15: PA | G15: =SUM(I15:AL15) -> 68 | K15: 25 | Q15: 30 | AB15: 13
A16: 11 | B16: 08.21522.14 | C16: ANDRÉ SILAS OLIVEIRA LIMA | D16: M30-34 | E16: ASSOCIACAO ESPORTIVA PRO-PEDAL (AEPP) | F16: MS | G16: =SUM(I16:AL16) -> 65 | X16: 30 | AK16: 35
A17: 11 | B17: 25.22015.14 | C17: CASSIO AUGUSTO STREMEL | D17: M30-34 | E17: SS CICLISMO | F17: AM | G17: =SUM(I17:AL17) -> 65 | V17: 65
A18: 11 | B18: 04.16263.12 | C18: ADRIANO SANTOS DE OLIVEIRA | D18: M30-34 | E18: MOGI TEAM CYCLING / MOGI DAS CRUZES | F18: SP | G18: =SUM(I18:AL18) -> 65 | W18: 65
A19: 11 | B19: 06.19560.13 | C19: GILBERTO DE SOUSA JUNIOR | D19: M30-34 | E19: ELITE BIKE RIO | F19: RJ | G19: =SUM(I19:AL19) -> 65 | M19: 35 | O19: 30
A20: 12 | B20: 07.31109.17 | C20: TIAGO VIANA SANTOS | D20: M30-34 | E20: ACSES | BIANCOGRES | F20: ES | G20: =SUM(I20:AL20) -> 62 | M20: 17 | AC20: 45
A21: 13 | B21: 08.8083.09 | C21: VALDEIR SOUZA DA SILVA | D21: M30-34 | E21: CONCEPT BIKE TEAM | F21: MS | G21: =SUM(I21:AL21) -> 56 | Y21: 31 | AK21: 25
A22: 14 | B22: 28.7776.08 | C22: NIRLANDO LIMA DA COSTA | D22: M30-34 | E22: CICLO RR | F22: RR | G22: =SUM(I22:AL22) -> 55 | V22: 55
A23: 14 | B23: 04.27161.15 | C23: DURVAL FERNANDES DA SILVA JUNIOR | D23: M30-34 | E23: AGUA MINERAL FRESCCA PRO TEAM / BARUERI | F23: SP | G23: =SUM(I23:AL23) -> 55 | W23: 55
A24: 14 | B24: 26.3437.05 | C24: BRENO ANDERSON VIANA E SILVA | D24: M30-34 | E24: AVULSO | F24: AP | G24: =SUM(I24:AL24) -> 55 | K24: 45 | N24: 10
A25: 14 | B25: 22.14803.11 | C25: RONALDO BATISTA MAIA | D25: M30-34 | E25: ACP PIRABAS | F25: PA | G25: =SUM(I25:AL25) -> 55 | K25: 55
A26: 15 | B26: 28.27904.16 | C26: HERICK KELMER DE SOUZA ARAUJO | D26: M30-34 | E26: OVER BIKE TEAM | F26: RR | G26: =SUM(I26:AL26) -> 50 | V26: 50
A27: 15 | B27: 04.28966.16 | C27: RODRIGO DE OLIVEIRA BUCHIDID | D27: M30-34 | E27: VÉLO48 / CANNONDALE | F27: SP | G27: =SUM(I27:AL27) -> 50 | W27: 50
A28: 15 | B28: 07.15540.12 | C28: LEANDRO NASCIMENTO DE SOUZA | D28: M30-34 | E28: AVULSO | F28: ES | G28: =SUM(I28:AL28) -> 50 | M28: 15 | P28: 35
A29: 16 | B29: 02.19085.13 | C29: JEAN CARLOS DE SOUZA | D29: M30-34 | E29: BRUCICLE - ASSOCIAÇÃO BRUSQUENSE DE CICLISMO | F29: SC | G29: =SUM(I29:AL29) -> 46 | Y29: 35 | AJ29: 11
A30: 17 | B30: 28.32225.17 | C30: DAVID RICARDO DE SOUZA SILVA | D30: M30-34 | E30: AVULSO | F30: RR | G30: =SUM(I30:AL30) -> 45 | V30: 45
A31: 17 | B31: 04.25560.15 | C31: GUSTAVO DONIZETE MELETI PANICE | D31: M30-34 | E31: AVULSO | F31: SP | G31: =SUM(I31:AL31) -> 45 | W31: 45
A32: 18 | B32: 22.30226.16 | C32: HENRIQUE PAIVA LOPES | D32: M30-34 | E32: PAPALEGUAS RACE | F32: PA | G32: =SUM(I32:AL32) -> 44 | K32: 33 | AB32: 11
A33: 19 | B33: 06.20650.13 | C33: MARCIO LUIZ CORREIA DE SÁ | D33: M30-34 | E33: BIKE ROGER | F33: RJ | G33: =SUM(I33:AL33) -> 43 | M33: 30 | AA33: 13
A34: 20 | B34: 22.9754.10 | C34: JOSIEL SILVA DA SILVA | D34: M30-34 | E34: PEDAL ANANIN | F34: PA | G34: =SUM(I34:AL34) -> 42 | Q34: 25 | AB34: 17
A35: 21 | B35: 06.22319.14 | C35: HELENO DE AZEVEDO MIRANDA | D35: M30-34 | E35: UNIÃO DOS ESPORTES | F35: RJ | G35: =SUM(I35:AL35) -> 41 | M35: 1 | AC35: 40
A36: 22 | C36: MIQUIAS MENDES DE FARIAS JUNIOR | D36: M30-34 | E36: AVULSO | F36: CE | G36: =SUM(I36:AL36) -> 40 | AI36: 40
A37: 22 | B37: 06.20911.13 | C37: EVANDRO SOLDATI DIAS JUNIOR | D37: M30-34 | E37: AVULSO | F37: RJ | G37: =SUM(I37:AL37) -> 40 | AA37: 40
A38: 22 | B38: 16.30492.16 | C38: JOSÉ PAULO VITORINO DOS SANTOS JUNIOR | D38: M30-34 | E38: DUCK´S BIKE | F38: PB | G38: =SUM(I38:AL38) -> 40 | Z38: 40
A39: 22 | B39: 03.31925.17 | C39: DIRCEU JUNIO PEREIRA DA SILVA | D39: M30-34 | E39: CLUBE CICLISTICO ARAPONGUENSE | F39: PR | G39: =SUM(I39:AL39) -> 40 | X39: 40
A40: 22 | B40: 12.6467.07 | C40: ROGÉRIO SOUZA DE AZEVEDO | D40: M30-34 | E40: AVULSO | F40: BA | G40: =SUM(I40:AL40) -> 40 | U40: 40
A41: 22 | B41: 20.24069.15 | C41: MIKHAEL ROCHA QUEIROGA | D41: M30-34 | E41: CLUBE DE CICLISMO IMPERATRIZENSE - CCI | F41: MA | G41: =SUM(I41:AL41) -> 40 | R41: 40
A42: 22 | B42: 04.12245.10 | C42: FERNANDO MARTINS DE ARRUDA | D42: M30-34 | E42: ADI / INDAIATUBA SECRETARIA DE ESPORTES | F42: SP | G42: =SUM(I42:AL42) -> 40 | W42: 40
A43: 23 | B43: 07.28967.16 | C43: HUGO MURALE GARCIA | D43: M30-34 | E43: GR TEAM | F43: ES | G43: =SUM(I43:AL43) -> 37 | AC43: 37
A44: 23 | B44: 08.24598.15 | C44: ROBELIAS ESTIVAL DIAS | D44: M30-34 | E44: CONCEPT BIKE TEAM | F44: MS | G44: =SUM(I44:AL44) -> 37 | Y44: 37
A45: 24 | B45: 22.28868.16 | C45: ALEX PEREIRA DE MEDEIROS | D45: M30-34 | E45: CLUBE AMAZÔNIA DE CICLISMO | F45: PA | G45: =SUM(I45:AL45) -> 35 | AB45: 35
A46: 24 | B46: 16.30563.17 | C46: PABLO STEPHANIE GOUVEIA CAVALCANTI | D46: M30-34 | E46: ASEAC-ASSOCIAÇÃO SOLEDADENSE DE ESPORTES E APOIO AO CICLISTA | F46: PB | G46: =SUM(I46:AL46) -> 35 | Z46: 35
A47: 24 | B47: 08.24834.15 | C47: MARCELO VITOR PEREIRA | D47: M30-34 | E47: ASSOCIACAO ESPORTIVA PRO-PEDAL (AEPP) | F47: MS | G47: =SUM(I47:AL47) -> 35 | X47: 20 | AK47: 15
A48: 24 | B48: 26.29150.16 | C48: LENIR JUNIO MARTINS VAZ | D48: M30-34 | E48: SOCIEDADE ESPORTIVA E RECREATIVA CREATIVO/EQUIPE CICLISMO R | F48: AP | G48: =SUM(I48:AL48) -> 35 | S48: 35
A49: 24 | B49: 12.15754.12 | C49: ANTONIO CARLOS PASSOS DOS SANTOS | D49: M30-34 | E49: AVULSO | F49: BA | G49: =SUM(I49:AL49) -> 35 | U49: 35
A50: 24 | B50: 20.31171.17 | C50: EFRAIM AZEVEDO SANTANA | D50: M30-34 | E50: CLUBE DE CICLISMO IMPERATRIZENSE - CCI | F50: MA | G50: =SUM(I50:AL50) -> 35 | R50: 35
A51: 25 | B51: 03.24122.15 | C51: ALESSANDRO RAMOS SILVEIRA | D51: M30-34 | E51: PREFEITURA MUNICIPAL DE COLOMBO | F51: PR | G51: =SUM(I51:AL51) -> 33 | Y51: 33
A52: 26 | B52: 18.18899.13 | C52: RAFAEL SOUTO ATAIDE GOMES | D52: M30-34 | E52: SANTOS ATAIDE | F52: CE | G52: =SUM(I52:AL52) -> 31 | AI52: 31
A53: 26 | B53: 26.25701.15 | C53: RAIMUNDO FERREIRA COSTA | D53: M30-34 | E53: ASSISTEL CICLO TEAM | F53: AP | G53: =SUM(I53:AL53) -> 31 | N53: 6 | S53: 25
A54: 27 | B54: 12.18277.13 | C54: SILVANEI JESUS SANTOS | D54: M30-34 | E54: AVULSO | F54: BA | G54: =SUM(I54:AL54) -> 30 | U54: 30
A55: 27 | B55: 20.28996.16 | C55: PAULO ROBERTO DOS REIS DE BRITO | D55: M30-34 | E55: SAMPAIO CORREA F CLUBE | F55: MA | G55: =SUM(I55:AL55) -> 30 | R55: 30
A56: 28 | B56: 17.27561.15 | C56: KERGINALDO JOSE DE SOUSA | D56: M30-34 | E56: ADCP/REDE 10 SUPERMERCADO SÃO LUIZ/POLLY JOIAS | F56: RN | G56: =SUM(I56:AL56) -> 25 | AI56: 25
A57: 28 | B57: 16.21575.14 | C57: WANDSON SOARES SORREIA | D57: M30-34 | E57: AVULSO | F57: PR | G57: =SUM(I57:AL57) -> 25 | Z57: 25
A58: 28 | B58: 12.18297.13 | C58: ANTONIO CARLOS DE SOUZA FILHO | D58: M30-34 | E58: AVULSO | F58: BA | G58: =SUM(I58:AL58) -> 25 | U58: 25
A59: 28 | B59: 20.31165.17 | C59: LEANDRO ALMEIDA SILVA | D59: M30-34 | E59: CLUBE DE CICLISMO IMPERATRIZENSE - CCI | F59: MA | G59: =SUM(I59:AL59) -> 25 | R59: 25
A60: 28 | B60: 07.31440.17 | C60: TIAGO COUTO GAVIOLI VILLAS | D60: M30-34 | E60: GR TEAM | F60: ES | G60: =SUM(I60:AL60) -> 25 | P60: 25
A61: 28 | B61: 19.10577.09 | C61: NILO WEBER DE CARVALHO VELOSO NETO | D61: M30-34 | E61: EVO PRO TEAM-EPT | F61: PI | G61: =SUM(I61:AL61) -> 25 | O61: 25
A62: 28 | B62: 26.25702.15 | C62: JEFFERSON QUEIROZ MACHADO | D62: M30-34 | E62: SOCIEDADE ESPORTIVA E RECREATIVA CREATIVO/EQUIPE CICLISMO R | F62: AP | G62: =SUM(I62:AL62) -> 25 | N62: 8 | S62: 17
A63: 28 | B63: 06.32761.17 | C63: DOUGLAS DOS SANTOS GONÇALVES | D63: M30-34 | E63: EQUIPE LUCIA ARANHA | F63: RJ | G63: =SUM(I63:AL63) -> 25 | M63: 25
A64: 29 | B64: 07.29997.16 | C64: HELDER BRAZ FRAGA | D64: M30-34 | E64: GR TEAM | F64: ES | G64: =SUM(I64:AL64) -> 24 | M64: 4 | P64: 20
A65: 30 | B65: 16.30669.17 | C65: ADYSSON JOSÉ VIEIRA GALDINO | D65: M30-34 | E65: ASEAC-ASSOCIAÇÃO SOLEDADENSE DE ESPORTES E APOIO AO CICLISTA | F65: PB | G65: =SUM(I65:AL65) -> 20 | Z65: 20
A66: 30 | B66: 12.31129.17 | C66: JONADSON QUERINO SILVA | D66: M30-34 | E66: AVULSO | F66: BA | G66: =SUM(I66:AL66) -> 20 | U66: 20
A67: 30 | B67: 20.17673.12 | C67: RAFAEL COSTA CARVALHO | D67: M30-34 | E67: SLZ CYCLING | F67: MA | G67: =SUM(I67:AL67) -> 20 | R67: 20
A68: 30 | B68: 22.3006.05 | C68: ELITON WILLIAMS DE PAULA SILVA | D68: M30-34 | E68: ANANINDEUA E.C./TRIGOLINO | F68: PA | G68: =SUM(I68:AL68) -> 20 | Q68: 20
A69: 30 | B69: 06.11229.09 | C69: VICTOR DA SILVA RAMOS | D69: M30-34 | E69: EQUIPE LUCIA ARANHA | F69: RJ | G69: =SUM(I69:AL69) -> 20 | M69: 20
A70: 31 | B70: 13.13555.11 | C70: LOURENÇO RIBEIRO DE FREITAS | D70: M30-34 | E70: AVULSO | F70: SE | G70: =SUM(I70:AL70) -> 17.5 | AH70: 17.5
A71: 32 | B71: 08.9317.10 | C71: OSWALDO HERCULANO CÍCERO DE SÁ FILHO | D71: M30-34 | E71: CONCEPT BIKE TEAM | F71: MS | G71: =SUM(I71:AL71) -> 17 | AK71: 17
A72: 32 | B72: 03.24637.15 | C72: FABIO DIEGO CHAVES DA CRUZ | D72: M30-34 | E72: AVULSO | F72: PR | G72: =SUM(I72:AL72) -> 17 | AE72: 17
A73: 32 | B73: 20.32116.17 | C73: EMERSON NASCIMENTO LEITE | D73: M30-34 | E73: SAMPAIO CORREA F CLUBE | F73: MA | G73: =SUM(I73:AL73) -> 17 | R73: 17
A74: 33 | B74: 22.20468.13 | C74: ROMARIO ALVES DA LUZ | D74: M30-34 | E74: AABB - BELÉM-PA | F74: PA | G74: =SUM(I74:AL74) -> 15 | AB74: 15
A75: 33 | B75: 05.20798.13 | C75: WEVERTON BATISTA DA CUNHA | D75: M30-34 | E75: DIVER BIKE | F75: MG | G75: =SUM(I75:AL75) -> 15 | AA75: 15
A76: 33 | B76: 20.29816.16 | C76: CICERO SALES PEREIRA NETO | D76: M30-34 | E76: MOTO CLUBE DE SÃO LUIS | F76: MA | G76: =SUM(I76:AL76) -> 15 | R76: 15
A77: 33 | B77: 19.14660.11 | C77: FRANCISCO DANIEL MELO AMÉRICO | D77: M30-34 | E77: PEDAL BIKERS CLUB - PBC | F77: PI | G77: =SUM(I77:AL77) -> 15 | O77: 15
A78: 34 | B78: 04.29821.16 | C78: GABRIEL PIOVESANA PEREIRA ROMEIRO | D78: M30-34 | E78: AVULSO | F78: SP | G78: =SUM(I78:AL78) -> 13 | AD78: 13
A79: 34 | B79: 20.29051.16 | C79: BRUNO VITURIANO LEAO | D79: M30-34 | E79: MOTO CLUBE DE SÃO LUIS | F79: MA | G79: =SUM(I79:AL79) -> 13 | R79: 13
A80: 34 | B80: 19.14513.11 | C80: MÁRCIO PESSOA FELINTO | D80: M30-34 | E80: EVO PRO TEAM-EPT | F80: PI | G80: =SUM(I80:AL80) -> 13 | O80: 13
A81: 35 | B81: 19.17912.12 | C81: RAMON TELES MADEIRA CAMPOS | D81: M30-34 | E81: BIKER PIAUI | F81: PI | G81: =SUM(I81:AL81) -> 11 | O81: 11
A82: 36 | B82: 05.20581.13 | C82: HUDSON LUIDGI LEITE SANTOS | D82: M30-34 | E82: AVULSO | F82: MG | G82: =SUM(I82:AL82) -> 10 | AG82: 10
A83: 37 | B83: 08.29567.16 | C83: LIZANDRO DEWES | D83: M30-34 | E83: ASSOCIACAO ESPORTIVA PRO-PEDAL (AEPP) | F83: MS | G83: =SUM(I83:AL83) -> 9 | AK83: 9
A84: 37 | B84: 05.2938.05 | C84: JOSE LUIZ DE OLIVEIRA FRANCO | D84: M30-34 | E84: AVULSO | F84: MG | G84: =SUM(I84:AL84) -> 9 | AG84: 9
A85: 37 | B85: 04.19319.13 | C85: IGOR KRIVTZOFF LAGUENS | D85: M30-34 | E85: AVULSO | F85: SP | G85: =SUM(I85:AL85) -> 9 | AD85: 9
A86: 37 | B86: 05.22589.14 | C86: EDUARDO NOGUEIRA TONHOLO JUNIOR | D86: M30-34 | E86: ACE/NEOBOX/VIANEZA/VALORES/CEMIL/APIS | F86: MG | G86: =SUM(I86:AL86) -> 9 | L86: 9
A87: 38 | B87: 20.28996.16 | C87: PAULO ROBERTO DOS REIS DE BRITO | D87: M30-34 | E87: SAMPAIO CORREA F CLUBE | F87: MA | G87: =SUM(I87:AL87) -> 8 | AI87: 8
A88: 39 | B88: 08.23558.14 | C88: THIAGO GARIBALDI PEGORARO | D88: M30-34 | E88: CONCEPT BIKE TEAM | F88: MS | G88: =SUM(I88:AL88) -> 7 | AK88: 7
A89: 39 | B89: 03.31785.17 | C89: JONATHAN NEVES DOS SANTOS | D89: M30-34 | E89: AVULSO | F89: PR | G89: =SUM(I89:AL89) -> 7 | AE89: 7
A90: 39 | B90: 26.3436.05 | C90: MICHAEL FREITAS DOS SANTOS | D90: M30-34 | E90: SOCIEDADE ESPORTIVA E RECREATIVA CREATIVO/EQUIPE CICLISMO R | F90: AP | G90: =SUM(I90:AL90) -> 7 | N90: 7
A91: 40 | B91: 05.30553.17 | C91: FRANCISCO SILVA DO CARMO | D91: M30-34 | E91: AVULSO | F91: MG | G91: =SUM(I91:AL91) -> 5 | AG91: 5
A92: 40 | B92: 01.31871.17 | C92: MARCOS CEITA NUNES | D92: M30-34 | E92: AVULSO | F92: RS | G92: =SUM(I92:AL92) -> 5 | T92: 5
A93: 41 | B93: 05.30120.16 | C93: GABRIEL GROPPO COELHO | D93: M30-34 | E93: RAAS TRAINING | F93: MG | G93: =SUM(I93:AL93) -> 4 | AA93: 4
A94: 41 | B94: 19.26484.15 | C94: REGIEL BORGES RUFINO | D94: M30-34 | E94: EQUIPE GIRO ALTO-EGA | F94: PI | G94: =SUM(I94:AL94) -> 4 | O94: 4
A95: 42 | B95: 08.24838.15 | C95: PAULO SERGIO FERREIRA GONÇALVES | D95: M30-34 | E95: ASSOCIACAO ESPORTIVA PRO-PEDAL (AEPP) | F95: MS | G95: =SUM(I95:AL95) -> 3 | AG95: 3
A96: 43 | B96: 03.30880.17 | C96: LUCIANO DE SOUZA MIRANDA DA SILVA | D96: M30-34 | E96: AVULSO | F96: PR | G96: =SUM(I96:AL96) -> 2 | AE96: 2
A97: 43 | B97: 05.22251.14 | C97: JEFFERSON DO CARMO JUNIOR | D97: M30-34 | E97: ACVC | F97: MG | G97: =SUM(I97:AL97) -> 2 | AA97: 2
A98: 43 | B98: 19.15374.11 | C98: JOSÉ ITAMAR FERREIRA FILHO | D98: M30-34 | E98: PEDAL BIKERS CLUB - PBC | F98: PI | G98: =SUM(I98:AL98) -> 2 | O98: 2
A99: 43 | B99: 06.32789.17 | C99: JULIO CESAR DOS SANTOS PEREIRA | D99: M30-34 | E99: EQUIPE LUCIA ARANHA | F99: RJ | G99: =SUM(I99:AL99) -> 2 | M99: 2
A100: 44 | B100: 02.13515.11 | C100: JORGE AUGUSTO PEDROSO | D100: M30-34 | E100: BRUCICLE - ASSOCIAÇÃO BRUSQUENSE DE CICLISMO | F100: SC | G100: =SUM(I100:AL100) -> 1 | AJ100: 1
...

Sheet M35-39
A1: CONFEDERAÇÃO BRASILEIRA DE CICLISMO | I1: Campeonatos Estaduais 2017 | K1: VIII Volta Ciclistica do Pará - Belém - PA - 10 e 11/06/2017 | L1: Caminho dos Cristais - Curvelo - MG - 18.06.17 | M1: Desafio de Ciclismo São Jose de Anchieta - Vitoria - ES - 11.06.17 | N1: V Copa Amapa de Ciclismo - Amapa - AP - 04.06.17 | O1: Troféu Oswaldo Marques - Altos - PI - 28/05/2017 | P1: Speed Racer Bike - Cariacica - ESP - 21/05/2017 | Q1: 1ª Copa Belém de Ciclismo - Belém - PA - 14/05/2017 | R1: SLZ Ilha Race - São Luis - MA - 14/05/2017 | S1: XXI GP de Ciclismo Israel de Freitas - Curiau - AP - 07/05/2017 | T1: Volta de Ciclismo de Passo Fundo - Passo Fundo - RS - 07/05/2017 | U1: GP Bahia de Ciclismo - Feira de Santana - BA - 07/05/2017 | V1: 9º Desafio Internacional Serra do Tepequem - Amajari - RR - 06 e 07/05/2017 | W1: 65ª Prova Ciclistica 1º de Maio - Indaiatuba - SP - 01/05/2017 | X1: 29º GP de Nova Andradina - Nova Andradina - MS - 01/05/2017 | Y1: Copa Hans Fischer - Pomerode - SC - 29 e 30/04/2017 | Z1: 4º Circuito Ducks Bike de Ciclismo - Patos - PB - 23/04/2017 | AA1: Prova Ciclistica da Inconfidencia Mineira - Senador Firmino - MG - 21/04/2017 | AB1: IX Copa SEEL de Ciclismo - Belém - PA - 16/04/2017 | AC1: 1ª Volta Master do Espirito Santo - Cariacica - ES - 15 e 16/04/2017 | AD1: Gran Cup Brasil de Ciclismo - Ubatuba - SP - 02/04/2017 | AE1: GP Cidade de Curitiba - Curitiba - PR - 02/04/2017 | AF1: Subida do Morro da Cruz - Florianópolis - SC - 26/03/2017 | AG1: Copa Velho Chico - Januária - MG - 26/03/2017 | AH1: 9º Circuito Ciclístico Cidade de Aracaju - Aracaju - SE - 19/03/2017 | AI1: Volta do Ceará - Eusébio - CE - 17 a 19/03/2017 | AJ1: 50º Circuito do Boa Vista - Joinvile - SC - 11 e 12/03/2017 | AK1: 8ª GP Mega 94 de Ciclismo - Campo Grande - MS - 05/03/2017 | AL1: Bike Fest Gaspar - Gaspar-SC - 19/02/2017
A2: RANKING ESTRADA MASTER 35-39 | E2: ='Data de Atualização'!$A$1 -> 42941
A3: POS | B3: LICENÇA | C3: CORREDOR | D3: CATEG | E3: EQUIPE | F3: FED | G3: PTOS | I3: CE | K3: 2B | L3: 5 | M3: 4 | N3: 5 | O3: 4 | P3: 4 | Q3: 4 | R3: 4 | S3: 4 | T3: 5 | U3: 4 | V3: 3 | W3: ELITE PRÓ/3 | X3: 4 | Y3: 2B | Z3: 4 | AA3: 4 | AB3: 4 | AC3: 2B | AD3: 4 | AE3: 4 | AF3: 3 | AG3: 5 | AH3: 4 | AI3: 2B | AJ3: 4 | AK3: 4 | AL3: 5
A4: 1 | B4: 03.1598.04 | C4: ADRIANO MARTINS DOS SANTOS | D4: M35-39 | E4: AVULSO | F4: PR | G4: =SUM(I4:AL4) -> 204 | Y4: 50 | AE4: 40 | AF4: 65 | AJ4: 40 | AL4: 9
A5: 2 | B5: 02.30908.17 | C5: RAPHAEL MURARA | D5: M35-39 | E5: ASSOCIAÇÃO JOINVILLENSE DE CICLISMO - AJOCICLO | F5: SC | G5: =SUM(I5:AL5) -> 170 | Y5: 60 | AF5: 80 | AJ5: 30
A6: 3 | B6: 02.2736.05 | C6: FRANK SINATRA DELUVINO | D6: M35-39 | E6: CYCLING TEAM PEDALA ITAPEMA/PREF.DE ITAPEMA/PPS DISTRIBUIDOR | F6: SC | G6: =SUM(I6:AL6) -> 150 | Y6: 55 | AF6: 50 | AJ6: 35 | AL6: 10
A7: 4 | B7: 07.18375.13 | C7: CLEBES JOSE ANDRE | D7: M35-39 | E7: ACSES | BIANCOGRES | F7: ES | G7: =SUM(I7:AL7) -> 135 | M7: 40 | P7: 40 | AC7: 55
A8: 5 | B8: 09.23906.15 | C8: PETER LEMKE SCHRADER | D8: M35-39 | E8: AVULSO | F8: GO | G8: =SUM(I8:AL8) -> 120 | H8: 40 | W8: 80 | AD8: 40
A9: 6 | B9: 06.10150.08 | C9: ALVIMANIO AUGUSTO DAS CHAGAS SILVA | D9: M35-39 | E9: ELITE BIKE RIO | F9: RJ | G9: =SUM(I9:AL9) -> 115 | W9: 55 | AC9: 60
A10: 7 | B10: 07.18730.13 | C10: JORGE ALMEIDA | D10: M35-39 | E10: ACSES | BIANCOGRES | F10: ES | G10: =SUM(I10:AL10) -> 105 | M10: 20 | P10: 35 | AC10: 50
A11: 8 | B11: 1.6.04 | C11: LEONARDO MARASCHIN | D11: M35-39 | E11: SQUADRA CAXIAS | F11: RS | G11: =SUM(I11:AL11) -> 90 | T11: 5 | Y11: 45 | AF11: 40
A12: 9 | B12: 22.7016.07 | C12: THIEGO DA CONCEICAO GALVAO | D12: M35-39 | E12: AABB - BELÉM-PA | F12: PA | G12: =SUM(I12:AL12) -> 89 | K12: 60 | Q12: 20 | AB12: 9
A13: 10 | B13: 26.801.04 | C13: KLEBER DO ESPIRITO SANTO DOS SANTOS | D13: M35-39 | E13: TOPAZZA CYCLING CLUB | F13: PA | G13: =SUM(I13:AL13) -> 82 | N13: 5 | Q13: 40 | S13: 20 | AB13: 17
A14: 11 | B14: 02.11314.09 | C14: FERNANDO DA SILVA | D14: M35-39 | E14: PORTAL TIMBÓ NET/SICOOB CREDIPÉROLA/FME TIMBÓ | F14: SC | G14: =SUM(I14:AL14) -> 80 | Y14: 35 | AF14: 45
A15: 11 | B15: 08.9584.08 | C15: MARCIO DUARTE CAETANO | D15: M35-39 | E15: CLUBE MAR DEL PLATA DE CICLISMO | F15: MS | G15: =SUM(I15:AL15) -> 80 | X15: 40 | AK15: 40
A16: 12 | B16: 05.20581.13 | C16: HUDSON LUIDGI LEITE SANTOS | D16: M35-39 | E16: AVULSO | F16: MG | G16: =SUM(I16:AL16) -> 75 | W16: 35 | AA16: 40
A17: 12 | B17: 22.16501.12 | C17: JOCIVALDO RIBEIRO SILVA | D17: M35-39 | E17: EQUIPE DE CICLISMO MARITUBA | F17: PA | G17: =SUM(I17:AL17) -> 75 | K17: 55 | AB17: 20
A18: 13 | B18: 22.7736.09 | C18: CESAR FERNANDES LIMA | D18: M35-39 | E18: CLUBE AMAZÔNIA DE CICLISMO | F18: PA | G18: =SUM(I18:AL18) -> 66 | K18: 37 | Q18: 4 | AB18: 25
A19: 14 | B19: 28.32013.17 | C19: DIOMER JOSE SALAZAR PALMARES | D19: M35-39 | E19: OVER BIKE TEAM | F19: RR | G19: =SUM(I19:AL19) -> 65 | V19: 65
A20: 14 | B20: 04.15004.11 | C20: KLEBER LOPES BAHIA | D20: M35-39 | E20: VÉLO48 / CANNONDALE | F20: SP | G20: =SUM(I20:AL20) -> 65 | W20: 65
A21: 15 | B21: 07.24522.15 | C21: RONIVON LIMA DE JESUS | D21: M35-39 | E21: ACSES | BIANCOGRES | F21: ES | G21: =SUM(I21:AL21) -> 60 | M21: 35 | P21: 25
A22: 16 | B22: 07.29524.16 | C22: CELSO JOSE DE VASCONCELOS FILHO | D22: M35-39 | E22: CAVEIRAS BIKE TEAM | F22: ES | G22: =SUM(I22:AL22) -> 57 | P22: 20 | AC22: 37
A23: 17 | B23: 02.955.04 | C23: ROBSON GALM | D23: M35-39 | E23: FME BALNEÁRIO CAMBORIÚ | F23: SC | G23: =SUM(I23:AL23) -> 56 | Y23: 40 | AJ23: 9 | AL23: 7
A24: 18 | B24: 28.7782.08 | C24: JORGE DE SOUZA CAMPOS | D24: M35-39 | E24: PEDAL CABURAI | F24: RR | G24: =SUM(I24:AL24) -> 55 | V24: 55
A25: 18 | B25: 22.7018.07 | C25: JOAO JOSE VAZ DE SOUZA | D25: M35-39 | E25: CLUBE AMAZÔNIA DE CICLISMO | F25: PA | G25: =SUM(I25:AL25) -> 55 | K25: 40 | Q25: 15
A26: 19 | B26: 04.13592.11 | C26: ALEXANDRE ALENCAR ALMEIDA | D26: M35-39 | E26: AGUA MINERAL FRESCCA PRO TEAM / BARUERI | F26: SP | G26: =SUM(I26:AL26) -> 50 | W26: 50
A27: 19 | B27: 18.27276.15 | C27: FELIPE CESAR FIRMEZA E SILVA | D27: M35-39 | E27: AVULSO | F27: CE | G27: =SUM(I27:AL27) -> 50 | AI27: 50
A28: 19 | B28: 03.24034.15 | C28: ANTONIO MARCOS CARNEIRO DE CAMPOS | D28: M35-39 | E28: PREFEITURA MUNICIPAL DE COLOMBO | F28: PR | G28: =SUM(I28:AL28) -> 50 | Y28: 37 | AE28: 13
A29: 19 | B29: 28.7777.08 | C29: IRLANDO LIMA DA COSTA | D29: M35-39 | E29: CICLO RR | F29: RR | G29: =SUM(I29:AL29) -> 50 | V29: 50
A30: 19 | B30: 22.28768.16 | C30: SÉRGIO BASTOS DE CARVALHO SILVA | D30: M35-39 | E30: CLUBE AMAZÔNIA DE CICLISMO | F30: PA | G30: =SUM(I30:AL30) -> 50 | K30: 50
A31: 20 | B31: 04.22481.14 | C31: EDGAR AKIRA TOKKO | D31: M35-39 | E31: MOGI TEAM CYCLING / MOGI DAS CRUZES | F31: SP | G31: =SUM(I31:AL31) -> 45 | W31: 45
A32: 20 | B32: 02.953.04 | C32: FERNANDO ROGÉRIO DEMARCHI | D32: M35-39 | E32: FME BALNEÁRIO CAMBORIÚ | F32: SC | G32: =SUM(I32:AL32) -> 45 | AF32: 30 | AJ32: 13 | AL32: 2
A33: 20 | B33: 17.31103.17 | C33: ERIVAN LUCAS DA SILVA | D33: M35-39 | E33: JAPA / RECOVER / NUTRICORPO | F33: RN | G33: =SUM(I33:AL33) -> 45 | AI33: 45
A34: 20 | B34: 07.10157.08 | C34: SEBASTIÃO PEREIRA SILVA FILHO | D34: M35-39 | E34: STAR CYCLE | F34: ES | G34: =SUM(I34:AL34) -> 45 | AC34: 45
A35: 20 | B35: 28.6221.07 | C35: IGOR NAVES BELCHIOR DA COSTA | D35: M35-39 | E35: MATO E MORRO DE BIKE | F35: RR | G35: =SUM(I35:AL35) -> 45 | V35: 45
A36: 20 | B36: 22.21416.14 | C36: JOSE LUIS LOBO DE OLIVEIRA | D36: M35-39 | E36: OS MOLES | F36: PA | G36: =SUM(I36:AL36) -> 45 | K36: 45
A37: 21 | B37: 04.389.04 | C37: CAIO AUGUSTO CINTRA MAURA | D37: M35-39 | E37: AVULSO | F37: SP | G37: =SUM(I37:AL37) -> 40 | W37: 40
A38: 21 | B38: 13.63.04 | C38: NILTON DO NASCIMENTO SOARES | D38: M35-39 | E38: AVULSO | F38: SE | G38: =SUM(I38:AL38) -> 40 | AH38: 40
A39: 21 | B39: 13.60.04 | C39: JAILSON DA SILVA DOS SANTOS | D39: M35-39 | E39: AVULSO | F39: SE | G39: =SUM(I39:AL39) -> 40 | AH39: 40
A40: 21 | B40: 06.11229.09 | C40: VICTOR DA SILVA RAMOS | D40: M35-39 | E40: EQUIPE LUCIA ARANHA | F40: RJ | G40: =SUM(I40:AL40) -> 40 | AC40: 40
A41: 21 | B41: 22.22602.14 | C41: CLERISSON KEMPS MENDES CASSIANO | D41: M35-39 | E41: ALTERNATIVA - SOURE | F41: PA | G41: =SUM(I41:AL41) -> 40 | AB41: 40
A42: 21 | B42: 12.5295.06 | C42: LUCAS RIBEIRO SOARES | D42: M35-39 | E42: AVULSO | F42: BA | G42: =SUM(I42:AL42) -> 40 | U42: 40
A43: 21 | B43: 20.4380.05 | C43: VALDINE FERREIRA DE SOUSA | D43: M35-39 | E43: SAMPAIO CORREA F CLUBE | F43: MA | G43: =SUM(I43:AL43) -> 40 | R43: 40
A44: 22 | B44: 22.16509.12 | C44: JORGE ARTHUR BESSA MELLO | D44: M35-39 | E44: AABB - BELÉM-PA | F44: PA | G44: =SUM(I44:AL44) -> 38 | K44: 35 | AB44: 3
A45: 23 | B45: 17.4243.05 | C45: VAGNO JESUS COSTA DE MIRANDA | D45: M35-39 | E45: AMC/RCV CONTABILIDADE/VAGNO DE JESUS CONSULTORIA ESPORTIVA | F45: RN | G45: =SUM(I45:AL45) -> 37 | AI45: 37
A46: 24 | B46: 18.14122.11 | C46: JOSE ANDRE NUNES LIMA | D46: M35-39 | E46: AVULSO | F46: CE | G46: =SUM(I46:AL46) -> 35 | AI46: 35
A47: 24 | B47: 13.8327.08 | C47: ALAN GLADSON DOS SANTOS | D47: M35-39 | E47: AVULSO | F47: SE | G47: =SUM(I47:AL47) -> 35 | AH47: 35
A48: 24 | B48: 14.699.04 | C48: FABIO ROCHA DA SILVA | D48: M35-39 | E48: AVULSO | F48: AL | G48: =SUM(I48:AL48) -> 35 | Z48: 35
A49: 24 | B49: 08.26204.15 | C49: ROBERTO BOCATTI LECORE | D49: M35-39 | E49: CONCEPT BIKE TEAM | F49: MS | G49: =SUM(I49:AL49) -> 35 | X49: 35
A50: 24 | B50: 12.5304.06 | C50: LUCAS TÁCIO SILVA DOS SANTOS | D50: M35-39 | E50: AVULSO | F50: BA | G50: =SUM(I50:AL50) -> 35 | U50: 35
A51: 24 | B51: 20.13524.11 | C51: CICERO ANGELO DA SILVA | D51: M35-39 | E51: MOTO CLUBE DE SÃO LUIS | F51: MA | G51: =SUM(I51:AL51) -> 35 | R51: 35
A52: 24 | B52: 04.11116.09 | C52: EMERSON TOMAZ HERNACHI | D52: M35-39 | E52: BARDAHL PROMAX / CAJAMAR / BARDAHL / PROMAX | F52: SP | G52: =SUM(I52:AL52) -> 35 | O52: 35
A53: 24 | B53: 07.23361.14 | C53: FELIPE MATOS PONCIO | D53: M35-39 | E53: AVULSO | F53: ES | G53: =SUM(I53:AL53) -> 35 | M53: 5 | P53: 30
A54: 25 | B54: 08.18323.13 | C54: JORGE DE LIMA | D54: M35-39 | E54: ASSOCIACAO ESPORTIVA PRO-PEDAL (AEPP) | F54: MS | G54: =SUM(I54:AL54) -> 34 | X54: 9 | AK54: 25
A55: 26 | B55: 02.31656.17 | C55: ROBERTO MARCEL BOETTGER | D55: M35-39 | E55: PORTAL TIMBÓ NET/SICOOB CREDIPÉROLA/FME TIMBÓ | F55: SC | G55: =SUM(I55:AL55) -> 33 | Y55: 33
A56: 27 | B56: 08.28739.16 | C56: ADENILSON CARVALHO COSTORIO | D56: M35-39 | E56: ACRB - ASSOC. DE CICLISTAS DE RIO BRILHANTE | F56: MS | G56: =SUM(I56:AL56) -> 32 | X56: 15 | AK56: 17
A57: 28 | B57: 18.23130.14 | C57: RONNIE VERBETH CHAVES | D57: M35-39 | E57: SANTOS ATAIDE | F57: CE | G57: =SUM(I57:AL57) -> 31 | AI57: 31
A58: 28 | B58: 03.3008.05 | C58: CARLOS ROBERTO GONÇALVES DA PINHO | D58: M35-39 | E58: PREFEITURA MUNICIPAL DE COLOMBO | F58: PR | G58: =SUM(I58:AL58) -> 31 | Y58: 31
A59: 28 | B59: 04.3656.05 | C59: BRUNO MACHADO SALVATORI | D59: M35-39 | E59: LCS / SOROCABA | F59: SP | G59: =SUM(I59:AL59) -> 31 | W59: 31
A60: 29 | B60: 04.32152.17 | C60: ALEX FERNANDO DOS SANTOS | D60: M35-39 | E60: SEME / SANTA BÁRBARA D'OESTE | F60: SP | G60: =SUM(I60:AL60) -> 30 | W60: 30
A61: 29 | B61: 08.29628.16 | C61: GUILHERME JACINTO DINIZ LINHARES | D61: M35-39 | E61: CLUBE MAR DEL PLATA DE CICLISMO | F61: MS | G61: =SUM(I61:AL61) -> 30 | AK61: 30
A62: 29 | B62: 18.29349.16 | C62: MARCELO DE QUEIROZ RANGEL | D62: M35-39 | E62: ZONAALVO | F62: CE | G62: =SUM(I62:AL62) -> 30 | AI62: 30
A63: 29 | B63: 13.31402.17 | C63: RAFAEL VILAS BOAS LICURSI | D63: M35-39 | E63: AVULSO | F63: SE | G63: =SUM(I63:AL63) -> 30 | AH63: 30
A64: 29 | B64: 22.2413.04 | C64: MARCO ANTONIO OLIVEIRA DA SILVA | D64: M35-39 | E64: AABB - BELÉM-PA | F64: PA | G64: =SUM(I64:AL64) -> 30 | AB64: 30
A65: 29 | B65: 05.14706.11 | C65: HERLON BRETAS GUIMARAES | D65: M35-39 | E65: GIRUS RACING TEAM | F65: MG | G65: =SUM(I65:AL65) -> 30 | AA65: 30
A66: 29 | B66: 13.63.04 | C66: NILTON DO NASCIMENTO SOARES | D66: M35-39 | E66: AVULSO | F66: SE | G66: =SUM(I66:AL66) -> 30 | Z66: 30
A67: 29 | B67: 02.28167.16 | C67: MARCIO RICARDO KOPP | D67: M35-39 | E67: ASSOCIAÇÃO JOINVILLENSE DE CICLISMO - AJOCICLO | F67: SC | G67: =SUM(I67:AL67) -> 30 | Y67: 30
A68: 29 | B68: 08.2150.04 | C68: ROSIMAR TEODORO CRISTINO | D68: M35-39 | E68: ASSOC.ESPORTIVA BIKE NORTE/QUALIDADE FISICA/MULTICOISAS | F68: MS | G68: =SUM(I68:AL68) -> 30 | X68: 30
A69: 29 | B69: 28.32630.17 | C69: WELITON SILVA ALBUQUERQUE | D69: M35-39 | E69: AVULSO | F69: RR | G69: =SUM(I69:AL69) -> 30 | V69: 30
A70: 29 | B70: 12.14362.11 | C70: LOURIVAL GONÇALVES DOS SANTOS | D70: M35-39 | E70: AVULSO | F70: BA | G70: =SUM(I70:AL70) -> 30 | U70: 30
A71: 29 | B71: 18.28512.16 | C71: FRANCISCO RICARDO DE OLIVEIRA MELO | D71: M35-39 | E71: AVULSO | F71: CE | G71: =SUM(I71:AL71) -> 30 | O71: 30
A72: 29 | B72: 07.21303.14 | C72: LEONARDO COSTA CAVALCANTI | D72: M35-39 | E72: AVULSO | F72: ES | G72: =SUM(I72:AL72) -> 30 | M72: 30
A73: 30 | B73: 22.2390.04 | C73: EDILSON RIBEIRO DA SILVA KRAMER | D73: M35-39 | E73: CLUBE AMAZÔNIA DE CICLISMO | F73: PA | G73: =SUM(I73:AL73) -> 28 | Q73: 13 | AB73: 15
A74: 31 | B74: 04.31492.17 | C74: MÁRCIO ROBERTO FARINCHON | D74: M35-39 | E74: AVULSO | F74: SP | G74: =SUM(I74:AL74) -> 25 | W74: 25
A75: 31 | B75: 13.8855.08 | C75: JOSÉ CLODOALDO MOURA | D75: M35-39 | E75: AVULSO | F75: SE | G75: =SUM(I75:AL75) -> 25 | AH75: 25
A76: 31 | B76: 03.30335.16 | C76: ALESSANDER WESLEY FRANCISCO SANCHES | D76: M35-39 | E76: AVULSO | F76: PR | G76: =SUM(I76:AL76) -> 25 | X76: 25
A77: 31 | B77: 12.18278.13 | C77: ROGELIO DE JESUS LIMA | D77: M35-39 | E77: AVULSO | F77: BA | G77: =SUM(I77:AL77) -> 25 | U77: 25
A78: 31 | B78: 20.23209.14 | C78: ROBERTO MAURO GURGEL ROCHA FILHO | D78: M35-39 | E78: SLZ CYCLING | F78: MA | G78: =SUM(I78:AL78) -> 25 | R78: 25
A79: 32 | B79: 22.10549.09 | C79: PAULO AFONSO ARAGÃO DE LOIOLA | D79: M35-39 | E79: OS MOLES | F79: PA | G79: =SUM(I79:AL79) -> 24 | Q79: 17 | AB79: 7
A80: 33 | B80: 07.32382.17 | C80: ALEXANDRO BATISTA TEIXEIRA | D80: M35-39 | E80: AVULSO | F80: ES | G80: =SUM(I80:AL80) -> 22 | M80: 11 | P80: 11
A81: 34 | B81: 18.4431.05 | C81: JOAO PAULO MADEIRA | D81: M35-39 | E81: BARCELLOS | F81: CE | G81: =SUM(I81:AL81) -> 20 | AI81: 20
A82: 34 | B82: 03.26211.15 | C82: EMERSON SANTANA BERNARDO | D82: M35-39 | E82: PREFEITURA MUNICIPAL DE COLOMBO | F82: PR | G82: =SUM(I82:AL82) -> 20 | AE82: 20
A83: 34 | B83: 05.29828.16 | C83: BRUNO DA SILVA MIRANDA | D83: M35-39 | E83: X5 BIKERS | F83: MG | G83: =SUM(I83:AL83) -> 20 | AA83: 20
A84: 34 | B84: 16.11012.09 | C84: IVONALDO GARCIA DOS SANTOS | D84: M35-39 | E84: AVULSO | F84: PB | G84: =SUM(I84:AL84) -> 20 | Z84: 20
A85: 34 | B85: 12.31096.17 | C85: MARIO SANTOS DE OLIVEIRA | D85: M35-39 | E85: AVULSO | F85: BA | G85: =SUM(I85:AL85) -> 20 | U85: 20
A86: 34 | B86: 20.14999.11 | C86: PAULO ROBERTO SAMPAIO SANTOS | D86: M35-39 | E86: MOTO CLUBE DE SÃO LUIS | F86: MA | G86: =SUM(I86:AL86) -> 20 | R86: 20
A87: 34 | B87: 19.2264.04 | C87: GERSON DE ALBUQUERQUE ALVES | D87: M35-39 | E87: THE BIKERS - TB | F87: PI | G87: =SUM(I87:AL87) -> 20 | O87: 20
A88: 35 | B88: 03.24999.15 | C88: MICHEL GREGATTI DA SILVA | D88: M35-39 | E88: CLUBE DE CICLISMO SO PEDAL | F88: PR | G88: =SUM(I88:AL88) -> 19 | AE88: 2 | AJ88: 17
A89: 36 | B89: 04.13987.11 | C89: CLAUDEMIR BERNARDIS DA SILVA | D89: M35-39 | E89: SEME / SANTA BÁRBARA D'OESTE | F89: SP | G89: =SUM(I89:AL89) -> 18 | W89: 18
A90: 36 | B90: 22.28768.16 | C90: SÉRGIO BASTOS DE CARVALHO SILVA | D90: M35-39 | E90: CLUBE AMAZÔNIA DE CICLISMO | F90: PA | G90: =SUM(I90:AL90) -> 18 | Q90: 5 | AB90: 13
A91: 37 | B91: 03.26072.15 | C91: ROSIEL ANTONIO CHEVA | D91: M35-39 | E91: PREFEITURA MUNICIPAL DE COLOMBO | F91: PR | G91: =SUM(I91:AL91) -> 17 | AE91: 17
A92: 37 | B92: 16.5084.06 | C92: WALDEMIR FREIRE DE MELO | D92: M35-39 | E92: ASSOCIAÇÃO DOS CICLISTAS DA PARAIBA | F92: PB | G92: =SUM(I92:AL92) -> 17 | Z92: 17
A93: 37 | B93: 12.31098.17 | C93: CARLOS ANTONIO NASCIMENTO DE JESUS | D93: M35-39 | E93: AVULSO | F93: BA | G93: =SUM(I93:AL93) -> 17 | U93: 17
A94: 37 | B94: 20.17643.12 | C94: MAX DO VALE COSTA | D94: M35-39 | E94: SLZ CYCLING | F94: MA | G94: =SUM(I94:AL94) -> 17 | R94: 17
A95: 37 | B95: 07.21377.14 | C95: FLAVIO ADRIANO DE OLIVEIRA | D95: M35-39 | E95: CAVEIRAS BIKE TEAM | F95: ES | G95: =SUM(I95:AL95) -> 17 | P95: 17
A96: 37 | B96: 19.2657.05 | C96: DELANO RODRIGUES ROCHA | D96: M35-39 | E96: THE BIKERS - TB | F96: PI | G96: =SUM(I96:AL96) -> 17 | O96: 17
A97: 37 | B97: 07.19798.13 | C97: VALTER JOSE BATISTA | D97: M35-39 | E97: AVULSO | F97: ES | G97: =SUM(I97:AL97) -> 17 | M97: 17
A98: 38 | B98: 04.5862.06 | C98: SERGIO ARLINDO DA SILVA | D98: M35-39 | E98: AVULSO | F98: SP | G98: =SUM(I98:AL98) -> 15 | W98: 15
A99: 38 | B99: 03.26426.15 | C99: EDER PAULO DOS SANTOS | D99: M35-39 | E99: AVULSO | F99: PR | G99: =SUM(I99:AL99) -> 15 | AE99: 15
A100: 38 | B100: 16.30558.17 | C100: STANISLAU RAMOS FERREIRA | D100: M35-39 | E100: ASEAC-ASSOCIAÇÃO SOLEDADENSE DE ESPORTES E APOIO AO CICLISTA | F100: PB | G100: =SUM(I100:AL100) -> 15 | Z100: 15
...

Sheet M40-44
A1: CONFEDERAÇÃO BRASILEIRA DE CICLISMO | I1: Campeonatos Estaduais 2017 | L1: VIII Volta Ciclistica do Pará - Belém - PA - 10 e 11/06/2017 | M1: Desafio de Ciclismo São Jose de Anchieta - Vitoria - ES - 11.06.17 | N1: V Copa Amapa de Ciclismo - Amapa - AP - 04.06.17 | O1: Troféu Oswaldo Marques - Altos - PI - 28/05/2017 | P1: Speed Racer Bike - Cariacica - ESP - 21/05/2017 | Q1: 1ª Copa Belém de Ciclismo - Belém - PA - 14/05/2017 | R1: SLZ Ilha Race - São Luis - MA - 14/05/2017 | S1: XXI GP de Ciclismo Israel de Freitas - Curiau - AP - 07/05/2017 | T1: Volta de Ciclismo de Passo Fundo - Passo Fundo - RS - 07/05/2017 | U1: GP Bahia de Ciclismo - Feira de Santana - BA - 07/05/2017 | V1: 9º Desafio Internacional Serra do Tepequem - Amajari - RR - 06 e 07/05/2017 | W1: 65ª Prova Ciclistica 1º de Maio - Indaiatuba - SP - 01/05/2017 | X1: 29º GP de Nova Andradina - Nova Andradina - MS - 01/05/2017 | Y1: Copa Hans Fischer - Pomerode - SC - 29 e 30/04/2017 | Z1: 4º Circuito Ducks Bike de Ciclismo - Patos - PB - 23/04/2017 | AA1: Prova Ciclistica da Inconfidencia Mineira - Senador Firmino - MG - 21/04/2017 | AB1: IX Copa SEEL de Ciclismo - Belém - PA - 16/04/2017 | AC1: 1ª Volta Master do Espirito Santo - Cariacica - ES - 15 e 16/04/2017 | AD1: GP Cidade de Curitiba - Curitiba - PR - 02/04/2017 | AE1: Subida do Morro da Cruz - Florianópolis - SC - 26/03/2017 | AF1: Copa Velho Chico - Januária - MG - 26/03/2017 | AG1: 9º Circuito Ciclístico Cidade de Aracaju - Aracaju - SE - 19/03/2017 | AH1: 50º Circuito do Boa Vista - Joinvile - SC - 11 e 12/03/2017 | AI1: Volta do Ceará - Eusébio - CE - 17 a 19/03/2017 | AJ1: 8ª GP Mega 94 de Ciclismo - Campo Grande - MS - 05/03/2017 | AK1: Bike Fest Gaspar - Gaspar-SC - 19/02/2017
A2: RANKING ESTRADA MASTER 40-44 | E2: ='Data de Atualização'!$A$1 -> 42941
A3: POS | B3: LICENÇA | C3: CORREDOR | D3: CATEG | E3: EQUIPE | F3: FED | G3: PTOS | I3: CE | L3: 2B | M3: 4 | N3: 5 | O3: 4 | P3: 4 | Q3: 4 | R3: 4 | S3: 4 | T3: 5 | U3: 4 | V3: 3 | W3: ELITE PRÓ/3 | X3: 4 | Y3: 2B | Z3: 4 | AA3: 4 | AB3: 4 | AC3: 2B | AD3: 4 | AE3: 3 | AF3: 5 | AG3: 4 | AH3: 4 | AI3: 2B | AJ3: 4 | AK3: 5
A4: 1 | B4: 02.7701.07 | C4: CLAUDOMIR DIAS | D4: M40-44 | E4: CYCLING TEAM PEDALA ITAPEMA/PREF.DE ITAPEMA/PPS DISTRIBUIDOR | F4: SC | G4: =SUM(I4:AK4) -> 138 | Y4: 50 | AE4: 80 | AK4: 8
A5: 2 | B5: 07.2489.04 | C5: ALEXANDRE SILVA CARDOSO | D5: M40-44 | E5: BRASIL COSTELO TEAM - BRC | F5: ES | G5: =SUM(I5:AK5) -> 130 | P5: 40 | AA5: 35 | AC5: 55
A6: 3 | B6: 02.3614.05 | C6: FABIO NERY | D6: M40-44 | E6: ASSOCIAÇÃO JOINVILLENSE DE CICLISMO - AJOCICLO | F6: SC | G6: =SUM(I6:AK6) -> 125 | Y6: 60 | AE6: 65
A7: 3 | B7: 07.3336.05 | C7: DENISVAL ALVES DE SOUZA | D7: M40-44 | E7: STAR CYCLE | F7: ES | G7: =SUM(I7:AK7) -> 125 | M7: 40 | P7: 35 | AC7: 50
A8: 4 | B8: 02.658.04 | C8: SERGIO JOSE REIS | D8: M40-44 | E8: CYCLING TEAM PEDALA ITAPEMA/PREF.DE ITAPEMA/PPS DISTRIBUIDOR | F8: SC | G8: =SUM(I8:AK8) -> 114 | Y8: 40 | AE8: 35 | AH8: 30 | AK8: 9
A9: 5 | B9: 22.1687.04 | C9: SCHUBERT RIBEIRO DE CARVALHO | D9: M40-44 | E9: AABB - BELÉM-PA | F9: PA | G9: =SUM(I9:AK9) -> 100 | L9: 45 | Q9: 30 | AB9: 25
A10: 6 | B10: 07.16893.12 | C10: SERGIO SANTOS SOARES | D10: M40-44 | E10: BRASIL COSTELO TEAM - BRC | F10: ES | G10: =SUM(I10:AK10) -> 95 | M10: 25 | P10: 30 | AC10: 40
A11: 7 | B11: 03.11045.09 | C11: ALESSANDRO DE OLIVEIRA | D11: M40-44 | E11: CLUBE DE CICLISMO SO PEDAL | F11: PR | G11: =SUM(I11:AK11) -> 94 | Y11: 33 | AD11: 11 | AE11: 50
A12: 8 | B12: 22.2353.04 | C12: ALDAIR COSTA FERREIRA | D12: M40-44 | E12: EQUIPE DE CICLISMO MARITUBA | F12: PA | G12: =SUM(I12:AK12) -> 90 | L12: 55 | AB12: 35
A13: 9 | B13: 03.30877.17 | C13: EMERSON DE JESUS BERLOTO | D13: M40-45 | E13: CLUBE DE CICLISMO SÓ PEDAL | F13: PR | G13: =SUM(I13:AK13) -> 81 | W13: 20 | Y13: 30 | AD13: 13 | AE13: 18
A14: 10 | B14: 04.543.04 | C14: HAMILTON FERNANDES DE SOUZA | D14: M40-44 | E14: AVULSO | F14: SP | G14: =SUM(I14:AK14) -> 80 | W14: 80
A15: 10 | B15: 25.4250.05 | C15: ALAILTON PINTO DOS SANTOS | D15: M40-44 | E15: TEAM ISAPA/OGGI/OFICEBIKE | F15: AM | G15: =SUM(I15:AK15) -> 80 | V15: 80
A16: 11 | B16: 02.9318.10 | C16: CRISTIAN CARLOS VICARI | D16: M40-44 | E16: BRUCICLE - ASSOCIAÇÃO BRUSQUENSE DE CICLISMO | F16: SC | G16: =SUM(I16:AK16) -> 74 | Y16: 25 | AD16: 9 | AE16: 21 | AH16: 15 | AK16: 4
A17: 12 | B17: 03.9126.08 | C17: EMERSON JOSÉ DOS SANTOS | D17: M40-44 | E17: AVULSO | F17: PR | G17: =SUM(I17:AK17) -> 70 | Y17: 35 | AD17: 35
A18: 12 | B18: 07.14500.11 | C18: JOSÉ GONÇALVES MURTA | D18: M40-44 | E18: BRASIL COSTELO TEAM - BRC | F18: ES | G18: =SUM(I18:AK18) -> 70 | P18: 25 | AC18: 45
A19: 13 | B19: 08.18418.13 | C19: JOÃO GUILHERME RODRIGUES | D19: M40-44 | E19: ASSOCIACAO ESPORTIVA GILMAR BICICLETAS | F19: MS | G19: =SUM(I19:AK19) -> 65 | X19: 30 | AJ19: 35
A20: 13 | B20: 04.1685.04 | C20: ANDRE ORSOLINO DA SILVA | D20: M40-44 | E20: MARANGA TEAM / MARCONDES CESAR | F20: SP | G20: =SUM(I20:AK20) -> 65 | W20: 65
A21: 14 | B21: 18.276.04 | C21: FRANCISCO RAMIRO SOARES CASTRO | D21: M40-44 | E21: AVULSO | F21: CE | G21: =SUM(I21:AK21) -> 60 | AI21: 60
A22: 14 | B22: 06.15327.11 | C22: LEONARDO DE SOUZA ARANHA | D22: M40-44 | E22: AVULSO | F22: RJ | G22: =SUM(I22:AK22) -> 60 | AC22: 60
A23: 14 | B23: 22.2366.04 | C23: EVERTON WILLIAN DE PAULA SILVA | D23: M40-44 | E23: ANANINDEUA E.C./TRIGOLINO | F23: PA | G23: =SUM(I23:AK23) -> 60 | L23: 60
A24: 15 | B24: 07.18495.13 | C24: SAMUEL AMARO DO NASCIMENTO | D24: M40-44 | E24: GR TEAM | F24: ES | G24: =SUM(I24:AK24) -> 57 | M24: 20 | AC24: 37
A25: 16 | B25: 04.24888.15 | C25: FABIO AUGUSTO BONINI | D25: M40-44 | E25: MOGI TEAM CYCLING / MOGI DAS CRUZES | F25: SP | G25: =SUM(I25:AK25) -> 55 | W25: 55
A26: 16 | B26: 18.8958.08 | C26: WELLINGTON GARCIA DE ARAUJO | D26: M40-44 | E26: STAR BIKE | F26: CE | G26: =SUM(I26:AK26) -> 55 | AI26: 55
A27: 16 | B27: 04.13988.11 | C27: MARCIO PAES DA SILVA | D27: M40-44 | E27: EME / SANTA BÁRBARA D'OESTE | F27: SP | G27: =SUM(I27:AK27) -> 55 | Y27: 55
A28: 16 | B28: 28.17369.12 | C28: GILBERTO INÁCIO DE ARAÚJO JÚNIO | D28: M40-44 | E28: MATO E MORRO DE BIKE | F28: RR | G28: =SUM(I28:AK28) -> 55 | V28: 55
A29: 17 | B29: 07.19253.13 | C29: ANTONIO MANOEL DE ALENCAR | D29: M40-44 | E29: AVULSO | F29: ES | G29: =SUM(I29:AK29) -> 52 | P29: 17 | AC29: 35
A30: 18 | B30: 02.9956.10 | C30: JEFFERSON NOEMIO KRANHOLDT | D30: M40-44 | E30: CÓPIA DOS GÊMEOS/PEDALLI BIKE/SPECIALIZED/SPORT XTREME/KIA | F30: SC | G30: =SUM(I30:AK30) -> 51 | Y30: 31 | AH30: 15 | AK30: 5
A31: 19 | B31: 04.3620.05 | C31: ALMIR ROGERIO ALVES LOBO | D31: M40-44 | E31: AVULSO | F31: SP | G31: =SUM(I31:AK31) -> 50 | W31: 50
A32: 19 | B32: 17.2292.04 | C32: BENEDITO PEREIRA | D32: M40-44 | E32: ADCP/REDE 10 SUPERMERCADO SÃO LUIZ/POLLY JOIAS | F32: RN | G32: =SUM(I32:AK32) -> 50 | AI32: 50
A33: 19 | B33: 07.15840.12 | C33: NALEIR FONSECA DE CASTILHO | D33: M40-44 | E33: GR TEAM | F33: ES | G33: =SUM(I33:AK33) -> 50 | P33: 20 | AC33: 30
A34: 19 | B34: 28.27903.16 | C34: ÁLVARO LUIZ SILVA COELHO | D34: M40-44 | E34: OVER BIKE TEAM | F34: RR | G34: =SUM(I34:AK34) -> 50 | V34: 50
A35: 19 | B35: 22.11472.09 | C35: RONALDO SILVA DE OLIVEIRA | D35: M40-44 | E35: A.U.C.P. - ASSOCIAÇÃO UNIÃO CICLÍSTICA DE PARAGOMINAS | F35: PA | G35: =SUM(I35:AK35) -> 50 | L35: 50
A36: 20 | B36: 07.15202.11 | C36: LINDOMAR ALVES DA SILVA | D36: M40-44 | E36: AVULSO | F36: ES | G36: =SUM(I36:AK36) -> 46 | P36: 15 | AC36: 31
A37: 21 | B37: 04.1072.04 | C37: ANDERSON VALVERDE LAURINDO | D37: M40-44 | E37: MOGI TEAM CYCLING / MOGI DAS CRUZES | F37: SP | G37: =SUM(I37:AK37) -> 45 | W37: 45
A38: 21 | B38: 01.1021.04 | C38: ARLIZEGAR MOREIRA | D38: M40-44 | E38: AVULSO | F38: RS | G38: =SUM(I38:AK38) -> 45 | AE38: 45
A39: 21 | B39: 12.13889.11 | C39: RAFAEL BARCELOS BAUMGRATS | D39: M40-44 | E39: AVULSO | F39: BA | G39: =SUM(I39:AK39) -> 45 | T39: 5 | AG39: 40
A40: 21 | B40: 28.13250.10 | C40: JOÃO RAFAEL | D40: M40-44 | E40: PEDAL CABURAI | F40: RR | G40: =SUM(I40:AK40) -> 45 | V40: 45
A41: 22 | B41: 03.11165.09 | C41: PAULO ROBERTO FURTADO | D41: M40-44 | E41: ASSOCIAÇÃO DE CICLISMO DE CASCAVEL | F41: PR | G41: =SUM(I41:AK41) -> 44 | AE41: 40 | AH41: 4
A42: 23 | B42: 02.31058.17 | C42: MÁRCIO NORBERTO KOEHLER | D42: M40-44 | E42: PORTAL TIMBÓ NET/SICOOB CREDIPÉROLA/FME TIMBÓ | F42: SC | G42: =SUM(I42:AK42) -> 42 | AE42: 30 | AH42: 5 | AK42: 7
A43: 23 | B43: 20.30895.17 | C43: FRANCISCO DA SILVA ARAUJO | D43: M40-44 | E43: MOTO CLUBE DE SÃO LUIS | F43: MA | G43: =SUM(I43:AK43) -> 42 | O43: 17 | R43: 25
A44: 24 | B44: 04.11074.10 | C44: CARLOS ANTONIO CARVALHO DOS REIS | D44: M40-44 | E44: MARANGA TEAM / MARCONDES CESAR | F44: SP | G44: =SUM(I44:AK44) -> 40 | W44: 40
A45: 24 | B45: 08.24503.15 | C45: FABRICIO PORCARO DE ABREU | D45: M40-44 | E45: ASSOC.ESPORTIVA BIKE NORTE/QUALIDADE FISICA/MULTICOISAS | F45: MS | G45: =SUM(I45:AK45) -> 40 | AJ45: 40
A46: 24 | B46: 16.31070.17 | C46: MARCOS ANTONIO FERREIRA DE SOUSA | D46: M40-44 | E46: AVULSO | F46: PB | G46: =SUM(I46:AK46) -> 40 | Z46: 40
A47: 24 | B47: 03.1037.04 | C47: ED CARLOS MASSON | D47: M40-44 | E47: AVULSO | F47: PR | G47: =SUM(I47:AK47) -> 40 | X47: 40
A48: 24 | B48: 28.30213.16 | C48: JOSE ROSIVAL PORTELA | D48: M40-44 | E48: COIOTES RORAIMA | F48: RR | G48: =SUM(I48:AK48) -> 40 | V48: 40
A49: 24 | B49: 12.15681.12 | C49: JOSENILTON DE SOUZA SANTOS | D49: M40-44 | E49: AVULSO | F49: BA | G49: =SUM(I49:AK49) -> 40 | U49: 40
A50: 24 | B50: 20.32151.17 | C50: RODRIGO JACOME DA ROCHA | D50: M40-44 | E50: CLUBE DE CICLISMO IMPERATRIZENSE - CCI | F50: MA | G50: =SUM(I50:AK50) -> 40 | R50: 40
A51: 24 | B51: 22.32461.17 | C51: ELIVANDRO CRISPIM RIBEIRO | D51: M40-44 | E51: ACPC - ASSOCIAÇÃO DOS CICLISTAS PEDALANDO EM CASTANHAL | F51: PA | G51: =SUM(I51:AK51) -> 40 | L51: 40
A52: 25 | B52: 18.28510.16 | C52: DELANO LESKO PEREIRA BARRETO | D52: M40-44 | E52: AVULSO | F52: CE | G52: =SUM(I52:AK52) -> 37 | AI52: 37
A53: 26 | B53: 04.29988.16 | C53: CARLOS ALBERTO GRITENAS QUIROGA | D53: M40-44 | E53: AVULSO | F53: SP | G53: =SUM(I53:AK53) -> 35 | W53: 35
A54: 26 | B54: 14.7326.07 | C54: FLAVIO DOS SANTOS | D54: M40-44 | E54: AVULSO | F54: AL | G54: =SUM(I54:AK54) -> 35 | AG54: 35
A55: 26 | B55: 14.19382.13 | C55: ROBSON LUIZ WANDERLEY DE MELO | D55: M40-44 | E55: AVULSO | F55: AL | G55: =SUM(I55:AK55) -> 35 | Z55: 35
A56: 26 | B56: 28.7857.08 | C56: CLAUDINO DO NASCIMENTO | D56: M40-44 | E56: FRUTARIA WL TEAM/CIMEC | F56: RR | G56: =SUM(I56:AK56) -> 35 | V56: 35
A57: 26 | B57: 12.10413.09 | C57: FERNANDO TADEU ROSAS BATISTA | D57: M40-44 | E57: AVULSO | F57: BA | G57: =SUM(I57:AK57) -> 35 | U57: 35
A58: 26 | B58: 20.31164.17 | C58: VALQUIMAR PEREIRA DO NASCIMENTO | D58: M40-44 | E58: CLUBE DE CICLISMO IMPERATRIZENSE - CCI | F58: MA | G58: =SUM(I58:AK58) -> 35 | R58: 35
A59: 26 | B59: 19.3000.05 | C59: LINDOMAR FERREIRA DOS SANTOS | D59: M40-44 | E59: AZIAS BIKERS - AZ | F59: PI | G59: =SUM(I59:AK59) -> 35 | O59: 35
A60: 26 | B60: 12.5287.06 | C60: JAIME DE SOUSA BONFIM | D60: M40-44 | E60: AVULSO | F60: BA | G60: =SUM(I60:AK60) -> 35 | M60: 35
A61: 27 | B61: 07.21229.14 | C61: DENYS ELOIZIO BORGES DO NASCIMENTO | D61: M40-44 | E61: ACSES | BIANCOGRES | F61: ES | G61: =SUM(I61:AK61) -> 33 | AC61: 33
A62: 28 | B62: 04.17384.12 | C62: DANIEL HENRIQUE BOLSONI | D62: M40-44 | E62: AVULSO | F62: SP | G62: =SUM(I62:AK62) -> 30 | W62: 30
A63: 28 | B63: 08.21382.14 | C63: AURIMAR PEIXOTO DA SILVA | D63: M40-44 | E63: ASSOC.ESPORTIVA BIKE NORTE/QUALIDADE FISICA/MULTICOISAS | F63: MS | G63: =SUM(I63:AK63) -> 30 | AJ63: 30
A64: 28 | B64: 16.9160.08 | C64: CICERO EVANDRO FECHINE | D64: M40-44 | E64: ASEAC-ASSOCIAÇÃO SOLEDADENSE DE ESPORTES E APOIO AO CICLISTA | F64: PB | G64: =SUM(I64:AK64) -> 30 | Z64: 30
A65: 28 | B65: 28.13738.11 | C65: EMILANGELO MEDEIROS E SILVA | D65: M40-44 | E65: AVULSO | F65: RR | G65: =SUM(I65:AK65) -> 30 | V65: 30
A66: 28 | B66: 12.28524.16 | C66: ETEVALDO DAMACENO MODESTO | D66: M40-44 | E66: AVULSO | F66: BA | G66: =SUM(I66:AK66) -> 30 | U66: 30
A67: 28 | B67: 12.13624.11 | C67: ALEXSANDRO DOS SANTOS BORGES | D67: M40-44 | E67: AVULSO | F67: BA | G67: =SUM(I67:AK67) -> 30 | M67: 15 | U67: 15
A68: 28 | B68: 07.14500.11 | C68: JOSE GONÇALVES MURTA | D68: M40-44 | E68: BRASIL CASTELO TEAM - BRC | F68: ES | G68: =SUM(I68:AK68) -> 30 | M68: 30
A69: 29 | B69: 02.656.04 | C69: FABIO CONSTANTINI | D69: M40-44 | E69: BRUCICLE - ASSOCIAÇÃO BRUSQUENSE DE CICLISMO | F69: SC | G69: =SUM(I69:AK69) -> 26 | Y69: 9 | AE69: 11 | AH69: 3 | AK69: 3
A70: 30 | B70: 04.13327.10 | C70: RENATO TORRES GONÇALVES | D70: M40-44 | E70: AVULSO | F70: SP | G70: =SUM(I70:AK70) -> 25 | W70: 25
A71: 30 | B71: 08.18315.13 | C71: ARIALDO VITAL DOS SANTOS | D71: M40-44 | E71: ASSOC.ESPORTIVA BIKE NORTE/QUALIDADE FISICA/MULTICOISAS | F71: MS | G71: =SUM(I71:AK71) -> 25 | AJ71: 25
A72: 30 | B72: 13.12094.10 | C72: MARCELO DE OLIVEIRA SOUZA | D72: M40-44 | E72: AVULSO | F72: SE | G72: =SUM(I72:AK72) -> 25 | AG72: 25
A73: 30 | B73: 16.30609.17 | C73: ARLINDO DOS SANTOS OLIVEIRA | D73: M40-44 | E73: ASEAC-ASSOCIAÇÃO SOLEDADENSE DE ESPORTES E APOIO AO CICLISTA | F73: PB | G73: =SUM(I73:AK73) -> 25 | Z73: 25
A74: 30 | B74: 12.10467.09 | C74: VALMIR LIMA DE SOUZA | D74: M40-44 | E74: AVULSO | F74: BA | G74: =SUM(I74:AK74) -> 25 | U74: 25
A75: 30 | B75: 19.14584.11 | C75: FÁBIO NOGUEIRA DANTAS | D75: M40-44 | E75: PEDAL BIKERS CLUB - PBC | F75: PI | G75: =SUM(I75:AK75) -> 25 | O75: 25
A76: 31 | B76: 11.13429.11 | C76: MARCOS RODRIGUES DE OLIVEIRA | D76: M40-44 | E76: RONDONÓPOLIS/AVULSO | F76: MT | G76: =SUM(I76:AK76) -> 20 | AJ76: 20
A77: 31 | B77: 06.4172.05 | C77: ANDERSON PEREIRA DE VASCONCELLOS | D77: M40-44 | E77: CLUBE DE CICLISMO DE VALENÇA | F77: RJ | G77: =SUM(I77:AK77) -> 20 | AA77: 20
A78: 31 | B78: 16.21582.14 | C78: ALEX FABIANO FELIX DE ASSIS | D78: M40-44 | E78: DUCK´S BIKE | F78: PB | G78: =SUM(I78:AK78) -> 20 | Z78: 20
A79: 31 | B79: 08.26625.15 | C79: FÁBIO MARCELINO DE SOUZA | D79: M40-44 | E79: ASSOCIACAO ESPORTIVA PRO-PEDAL (AEPP) | F79: MS | G79: =SUM(I79:AK79) -> 20 | X79: 9 | AJ79: 11
A80: 31 | B80: 12.18286.13 | C80: RIVALDO CONCEICAO RIBEIRO | D80: M40-44 | E80: AVULSO | F80: BA | G80: =SUM(I80:AK80) -> 20 | U80: 20
A81: 31 | B81: 20.30896.17 | C81: ADEMIR CORREA BEZERRA | D81: M40-44 | E81: SAMPAIO CORREA F CLUBE | F81: MA | G81: =SUM(I81:AK81) -> 20 | R81: 20
A82: 31 | B82: 19.23873.15 | C82: ROMULO VITORINO MOREIRA DE OLIVEIRA | D82: M40-44 | E82: AZIAS BIKERS - AZ | F82: PI | G82: =SUM(I82:AK82) -> 20 | O82: 20
A83: 32 | B83: 04.968.04 | C83: BENEDITO TADEU DE AZEVEDO JUNIOR | D83: M40-44 | E83: FUNVIC BRASIL PROCYCLING / SÃO JOSÉ DOS CAMPOS | F83: SP | G83: =SUM(I83:AK83) -> 19 | W83: 19
A84: 33 | B84: 04.13247.10 | C84: RODRIGO TAVARES | D84: M40-44 | E84: SEME / SANTA BÁRBARA D'OESTE | F84: SP | G84: =SUM(I84:AK84) -> 17 | W84: 17
A85: 34 | B85: 08.2151.04 | C85: NATANAEL DA SILVA MOREIRA | D85: M40-44 | E85: ASSOC.ESPORTIVA BIKE NORTE/QUALIDADE FISICA/MULTICOISAS | F85: MS | G85: =SUM(I85:AK85) -> 17 | AJ85: 17
A86: 34 | B86: 13.22917.14 | C86: JOZA WILHAMES DOS SANTOS | D86: M40-44 | E86: PEDAL LOUCO MTB TEAM/ABME | F86: SE | G86: =SUM(I86:AK86) -> 17 | AG86: 17
A87: 34 | B87: 12.30042.16 | C87: FABIO DEMENIGHI | D87: M40-44 | E87: AVULSO | F87: BA | G87: =SUM(I87:AK87) -> 17 | U87: 17
A88: 34 | B88: 07.19796.13 | C88: SANDRO MAURO BRANDAO FARIAS | D88: M40-44 | E88: AVULSO | F88: ES | G88: =SUM(I88:AK88) -> 17 | M88: 17
A89: 35 | B89: 04.11115.09 | C89: JOAO SALES DA SILVA | D89: M40-44 | E89: AJEP / TIME JUNDIAÍ / FIRSTBIKES / NEW MILLEN / ISOTECH / DK | F89: SP | G89: =SUM(I89:AK89) -> 15 | W89: 15
A90: 35 | B90: 08.8649.08 | C90: EZEQUIEL XAVIER SILVA | D90: M40-44 | E90: ASSOC.ESPORTIVA BIKE NORTE/QUALIDADE FISICA/MULTICOISAS | F90: MS | G90: =SUM(I90:AK90) -> 15 | AJ90: 15
A91: 35 | B91: 18.5628.06 | C91: JUVENAL BATISTA DA SILVA | D91: M40-44 | E91: CEARA BIKER | F91: CE | G91: =SUM(I91:AK91) -> 15 | AI91: 15
A92: 35 | B92: 08.24733.15 | C92: MARCELO CARVALHO DE OLIVEIRA | D92: M40-44 | E92: AMC - ASSOCIAÇÃO MARACAJUENSE DE CICLISMO | F92: MS | G92: =SUM(I92:AK92) -> 15 | X92: 15
A93: 36 | B93: 02.3531.05 | C93: SILVIO ADAO FLECK | D93: M40-44 | E93: BRUCICLE - ASSOCIAÇÃO BRUSQUENSE DE CICLISMO | F93: SC | G93: =SUM(I93:AK93) -> 14 | AE93: 13 | AK93: 1
A94: 36 | B94: 02.31502.17 | C94: TARCISIO LUIZ FACHINI | D94: M40-44 | E94: PORTAL TIMBÓ NET/SICOOB CREDIPÉROLA/FME TIMBÓ | F94: SC | G94: =SUM(I94:AK94) -> 14 | Y94: 7 | AE94: 7
A95: 37 | B95: 04.25830.15 | C95: OTACÍLIO PRESTES PRADO | D95: M40-44 | E95: ACICLI / ITAPETININGA | F95: SP | G95: =SUM(I95:AK95) -> 13 | W95: 13
A96: 37 | B96: 08.25107.15 | C96: CLAUDEMIR VALIANE DIAS | D96: M40-44 | E96: AMC - ASSOCIAÇÃO MARACAJUENSE DE CICLISMO | F96: MS | G96: =SUM(I96:AK96) -> 13 | AJ96: 13
A97: 37 | B97: 07.23688.14 | C97: DANIEL NERY XAVIER | D97: M40-44 | E97: AVULSO | F97: ES | G97: =SUM(I97:AK97) -> 13 | M97: 13
A98: 38 | B98: 04.586.04 | C98: ANDRE LUIZ GRIZANTE | D98: M40-44 | E98: AVULSO | F98: SP | G98: =SUM(I98:AK98) -> 11 | W98: 11
A99: 38 | B99: 06.27545.15 | C99: ALEXANDER MACENA DA SILVA | D99: M40-44 | E99: AVULSO | F99: RJ | G99: =SUM(I99:AK99) -> 11 | AA99: 11
A100: 38 | B100: 12.5292.06 | C100: EMANOEL MOREIRA PEREIRA | D100: M40-44 | E100: AVULSO | F100: BA | G100: =SUM(I100:AK100) -> 11 | U100: 11
...

Sheet M45-49
A1: CONFEDERAÇÃO BRASILEIRA DE CICLISMO | I1: Campeonatos Estaduais 2017 | K1: VIII Volta Ciclistica do Pará - Belém - PA - 10 e 11/06/2017 | L1: Desafio de Ciclismo São Jose de Anchieta - Vitoria - ES - 11.06.17 | M1: V Copa Amapa de Ciclismo - Amapa - AP - 04.06.17 | N1: Troféu Oswaldo Marques - Altos - PI - 28/05/2017 | O1: Speed Racer Bike - Cariacica - ESP - 21/05/2017 | P1: 1ª Copa Belém de Ciclismo - Belém - PA - 14/05/2017 | Q1: SLZ Ilha Race - São Luis - MA - 14/05/2017 | R1: GP Bahia de Ciclismo - Feira de Santana - BA - 07/05/2017 | S1: 9º Desafio Internacional Serra do Tepequem - Amajari - RR - 06 e 07/05/2017 | T1: 65ª Prova Ciclistica 1º de Maio - Indaiatuba - SP - 01/05/2017 | U1: 29º GP de Nova Andradina - Nova Andradina - MS - 01/05/2017 | V1: Copa Hans Fischer - Pomerode - SC - 29 e 30/04/2017 | W1: 4º Circuito Ducks Bike de Ciclismo - Patos - PB - 23/04/2017 | X1: Prova Ciclistica da Inconfidencia Mineira - Senador Firmino - MG - 21/04/2017 | Y1: IX Copa SEEL de Ciclismo - Belém - PA - 16/04/2017 | Z1: 1ª Volta Master do Espirito Santo - Cariacica - ES - 15 e 16/04/2017 | AA1: GP Cidade de Curitiba - Curitiba - PR - 02/04/2017 | AB1: Subida do Morro da Cruz - Florianópolis - SC - 26/03/2017 | AC1: Copa Velho Chico - Januária - MG - 26/03/2017 | AD1: 9º Circuito Ciclístico Cidade de Aracaju - Aracaju - SE - 19/03/2017 | AE1: 50º Circuito do Boa Vista - Joinvile - SC - 11 e 12/03/2017 | AF1: Volta do Ceará - Eusébio - CE - 17 a 19/03/2017 | AG1: 8ª GP Mega 94 de Ciclismo - Campo Grande - MS - 05/03/2017 | AH1: Bike Fest Gaspar - Gaspar-SC - 19/02/2017
A2: RANKING ESTRADA MASTER 45-49 | E2: ='Data de Atualização'!$A$1 -> 42941
A3: POS | B3: LICENÇA | C3: CORREDOR | D3: CATEG | E3: EQUIPE | F3: FED | G3: PTOS | I3: CE | K3: 2B | L3: 4 | M3: 5 | N3: 4 | O3: 4 | P3: 4 | Q3: 4 | R3: 4 | S3: 3 | T3: ELITE PRÓ/3 | U3: 4 | V3: 2B | W3: 4 | X3: 4 | Y3: 4 | Z3: 2B | AA3: 4 | AB3: 3 | AC3: 5 | AD3: 4 | AE3: 4 | AF3: 2B | AG3: 4 | AH3: 5
A4: 1 | B4: 06.15870.12 | C4: ROSTAN PICCOLI | D4: M45-49 | E4: AVULSO | F4: RJ | G4: =SUM(I4:AH4) -> 297 | L4: 30 | N4: 35 | O4: 40 | P4: 30 | T4: 30 | X4: 35 | Z4: 50 | AB4: 30 | AD4: 17
A5: 2 | B5: 22.5038.06 | C5: FABIO HENRIQUE MARTINS | D5: M45-49 | E5: CLUBE AMAZÔNIA DE CICLISMO | F5: PA | G5: =SUM(I5:AH5) -> 135 | K5: 60 | P5: 40 | Y5: 35
A6: 3 | B6: 06.2230.04 | C6: DINARTT DA SILVA FAGUNDES | D6: M45-49 | E6: TEAM UFF | F6: RS | G6: =SUM(I6:AH6) -> 120 | T6: 80 | X6: 40
A7: 3 | B7: 12.18300.13 | C7: JORGE FERREIRA DE ALMEIDA | D7: M45-49 | E7: AVULSO | F7: BA | G7: =SUM(I7:AH7) -> 120 | L7: 25 | N7: 40 | Z7: 55
A8: 4 | B8: 02.11174.09 | C8: JOSE AUGUSTO ALMEIDA FAGUNDES | D8: M45-49 | E8: CYCLING TEAM PEDALA ITAPEMA/PREF.DE ITAPEMA/PPS DISTRIBUIDOR | F8: SC | G8: =SUM(I8:AH8) -> 105 | AB8: 55 | AE8: 40 | AH8: 10
A9: 5 | B9: 03.25344.15 | C9: OSMAR ROGALEWSKI | D9: M45-49 | E9: AVULSO | F9: PR | G9: =SUM(I9:AH9) -> 104 | V9: 50 | AA9: 9 | AB9: 45
A10: 6 | B10: 16.7649.07 | C10: ANTONIO ALMERIO FERREIRA MARRA JUNIOR | D10: M45-49 | E10: CLUBE ESPORTIVO AMIGOS DA PLANETE AVENTURE | F10: PB | G10: =SUM(I10:AH10) -> 100 | L10: 40 | AF10: 60
A11: 7 | B11: 22.17717.12 | C11: ALDRIM BRANDÃO DE OLIVEIRA | D11: M45-49 | E11: ANANINDEUA E.C./TRIGOLINO | F11: PA | G11: =SUM(I11:AH11) -> 85 | K11: 45 | P11: 20 | Y11: 20
A12: 8 | B12: 22.10509.09 | C12: SERGIO GARCIA FERREIRA | D12: M45-49 | E12: ANANINDEUA E.C./TRIGOLINO | F12: PA | G12: =SUM(I12:AH12) -> 75 | K12: 50 | P12: 25
A13: 9 | B13: 12.240.04 | C13: MARCELO CAVALCANTE DE ALMEIDA | D13: M45-49 | E13: AVULSO | F13: BA | G13: =SUM(I13:AH13) -> 70 | R13: 30 | AD13: 40
A14: 10 | B14: 07.29719.16 | C14: JONAS LEITE | D14: M45-49 | E14: AVULSO | F14: ES | G14: =SUM(I14:AH14) -> 65 | O14: 20 | Z14: 45
A15: 10 | B15: 22.2364.04 | C15: JOÃO BATISTA BARBOSA DA CONCEIÇÃO | D15: M45-49 | E15: AABB - BELÉM-PA | F15: PA | G15: =SUM(I15:AH15) -> 65 | P15: 35 | Y15: 30
A16: 10 | B16: 04.3632.05 | C16: CARLOS EDUARDO ICASSATI | D16: M45-49 | E16: AVULSO | F16: SP | G16: =SUM(I16:AH16) -> 65 | T16: 65
A17: 11 | B17: 06.5331.06 | C17: ALEXANDRE ZERLOTTINI DOS REIS | D17: M45-49 | E17: AVULSO | F17: RJ | G17: =SUM(I17:AH17) -> 60 | Z17: 60
A18: 11 | B18: 04.26970.15 | C18: RONIBERTO SCOMPARIM | D18: M45-49 | E18: SEME / SANTA BÁRBARA D'OESTE | F18: SP | G18: =SUM(I18:AH18) -> 60 | V18: 60
A19: 11 | B19: 08.3223.05 | C19: GERALDO FERREIRA DA SILVA | D19: M45-49 | E19: ASSOC.ESPORTIVA BIKE NORTE/QUALIDADE FISICA/MULTICOISAS | F19: MS | G19: =SUM(I19:AH19) -> 60 | U19: 30 | AG19: 30
A20: 12 | B20: 06.23672.14 | C20: ROGERIO DA SILVA RAMOS | D20: M45-49 | E20: AVULSO | F20: RJ | G20: =SUM(I20:AH20) -> 57 | L20: 15 | X20: 17 | AB20: 25
A21: 13 | B21: 04.17907.12 | C21: GILBERTO RAMOS | D21: M45-49 | E21: AVULSO | F21: SP | G21: =SUM(I21:AH21) -> 55 | V21: 55
A22: 13 | B22: 04.25176.15 | C22: JOSE CARLOS FONSECA JUNIOR | D22: M45-49 | E22: AVULSO | F22: SP | G22: =SUM(I22:AH22) -> 55 | T22: 55
A23: 14 | B23: 08.16003.12 | C23: MILTON ESTEVAO CORREA | D23: M45-49 | E23: CLUBE MAR DEL PLATA DE CICLISMO | F23: MS | G23: =SUM(I23:AH23) -> 50 | U23: 15 | AG23: 35
A24: 14 | B24: 04.3896.05 | C24: JOAO BATISTA MANTOVANI | D24: M45-49 | E24: FUNDESPORT/ARARAQUARA | F24: SP | G24: =SUM(I24:AH24) -> 50 | T24: 50
A25: 15 | B25: 07.15847.12 | C25: MAURICIO ALVES MONJARDIM | D25: M45-49 | E25: AVULSO | F25: ES | G25: =SUM(I25:AH25) -> 49 | L25: 9 | Z25: 40
A26: 16 | B26: 20.7953.09 | C26: ESDRAS PENHA | D26: M45-49 | E26: SLZ CYCLING | F26: MA | G26: =SUM(I26:AH26) -> 45 | AF26: 45
A27: 16 | B27: 04.18595.13 | C27: ALESSANDRO SILVEIRA PASCHOALINO | D27: M45-49 | E27: SEME / SANTA BÁRBARA D'OESTE | F27: SP | G27: =SUM(I27:AH27) -> 45 | V27: 45
A28: 16 | B28: 04.3728.05 | C28: MARCOS ANTONIO DE PAULA | D28: M45-49 | E28: ADI / INDAIATUBA SECRETARIA DE ESPORTES | F28: SP | G28: =SUM(I28:AH28) -> 45 | T28: 45
A29: 17 | B29: 08.16198.12 | C29: MARCELO PEDROSO MARIANO | D29: M45-49 | E29: ASSOCIAÇÃO MODELO DOURADENSE DE CICLISMO | F29: MS | G29: =SUM(I29:AH29) -> 40 | AG29: 40
A30: 17 | B30: 02.22556.14 | C30: ALEXANDRE TONOLLI | D30: M45-49 | E30: PORTAL TIMBÓ NET/SICOOB CREDIPÉROLA/FME TIMBÓ | F30: SC | G30: =SUM(I30:AH30) -> 40 | V30: 40
A31: 17 | B31: 03.24441.15 | C31: HELCIO DE JESUS MILANI | D31: M45-49 | E31: CLUBE MARINGAENSE DE CICLISMO | F31: PR | G31: =SUM(I31:AH31) -> 40 | U31: 40
A32: 17 | B32: 28.7571.07 | C32: LUIS WASHINGTON DOS SANTOS | D32: M45-49 | E32: FRUTARIA WL TEAM/CIMEC | F32: RR | G32: =SUM(I32:AH32) -> 40 | S32: 40
A33: 17 | B33: 12.15756.12 | C33: MARCELO SILVA GARRIDO | D33: M45-49 | E33: AVULSO | F33: BA | G33: =SUM(I33:AH33) -> 40 | R33: 40
A34: 17 | B34: 20.7953.09 | C34: ESDRAS SOUSA PENHA | D34: M45-49 | E34: SLZ CYCLING | F34: MA | G34: =SUM(I34:AH34) -> 40 | Q34: 40
A35: 17 | B35: 04.5140.06 | C35: LEANDRO FÁBIO MALAVASI | D35: M45-49 | E35: AVULSO | F35: SP | G35: =SUM(I35:AH35) -> 40 | T35: 40
A36: 18 | B36: 03.22349.14 | C36: GUILLERMO MEISTER FILHO | D36: M45-49 | E36: ASSOCIAÇÃO CICLÍSTICA DESPORTIVA | F36: PR | G36: =SUM(I36:AH36) -> 38 | AA36: 4 | AE36: 25 | AH36: 9
A37: 19 | B37: 03.25282.15 | C37: SILVIO SOARES DE SOUZA | D37: M45-49 | E37: ACP - ASSOCIAÇÃO DOS CICLISTAS DE PARANAGUÁ | F37: PR | G37: =SUM(I37:AH37) -> 37 | V37: 37
A38: 20 | C38: JOSE AÍRTON VIEIRA MENDOÇA | D38: M45-49 | E38: AVULSO | F38: SE | G38: =SUM(I38:AH38) -> 35 | AD38: 35
A39: 20 | B39: 12.3792.05 | C39: AECIO FERRAZ ALVES FLORES | D39: M45-49 | E39: AVULSO | F39: BA | G39: =SUM(I39:AH39) -> 35 | R39: 35
A40: 20 | B40: 04.3626.05 | C40: AYRES CORONA NETO | D40: M45-49 | E40: A.C.ARARAS / ARARAS / ASSOCIAÇÃO DE CICLISMO DE ARARAS | F40: SP | G40: =SUM(I40:AH40) -> 35 | T40: 35
A41: 20 | B41: 01.23392.14 | C41: LUIZ SERGIO ZAMBORLINI QUINTAE | D41: M45-49 | E41: AVULSO | F41: RS | G41: =SUM(I41:AH41) -> 35 | L41: 35
A42: 21 | B42: 28.13670.11 | C42: NICSON MAIA MELO | D42: M45-49 | E42: MATO E MORRO DE BIKE | F42: RR | G42: =SUM(I42:AH42) -> 32.5 | S42: 32.5
A43: 22 | B43: 18.23534.14 | C43: ADRIANO CESAR SILVA PEIXOTO | D43: M45-49 | E43: VELO SPORT | F43: CE | G43: =SUM(I43:AH43) -> 30 | AF43: 30
A44: 22 | B44: 02.2008.04 | C44: OSMAR GADOTTI JUNIOR | D44: M45-49 | E44: ORBEA DO BRASIL JOINVILLE | F44: SC | G44: =SUM(I44:AH44) -> 30 | AE44: 30
A45: 22 | B45: 13.4245.05 | C45: JORGE RICARDO MATOS DOS SANTOS | D45: M45-49 | E45: AVULSO | F45: SE | G45: =SUM(I45:AH45) -> 30 | AD45: 30
A46: 22 | B46: 19.16060.12 | C46: JULIO CESAR CABRAL FURTADO | D46: M45-49 | E46: BIKER PIAUI | F46: PI | G46: =SUM(I46:AH46) -> 30 | N46: 30
A47: 23 | B47: 08.8497.08 | C47: SERGIO QUEIROZ DE SOUZA | D47: M45-49 | E47: ASSOCIACAO ESPORTIVA PRO-PEDAL (AEPP) | F47: MS | G47: =SUM(I47:AH47) -> 29 | U47: 20 | AG47: 9
A48: 24 | B48: 28.15232.11 | C48: JOSÉ ROCHA NETO | D48: M45-49 | E48: MATO E MORRO DE BIKE | F48: RR | G48: =SUM(I48:AH48) -> 27.5 | S48: 27.5
A49: 25 | B49: 13.24970.15 | C49: JOSE CARLOS OLIVEIRA CARVALHO | D49: M45-49 | E49: AVULSO | F49: SE | G49: =SUM(I49:AH49) -> 25 | AD49: 25
A50: 25 | B50: 03.13710.11 | C50: MARCOS LUCIO | D50: M45-49 | E50: AVULSO | F50: PR | G50: =SUM(I50:AH50) -> 25 | U50: 25
A51: 25 | B51: 28.7769.08 | C51: ANTÔNIO ANDRADE DO NASCIMENTO | D51: M45-49 | E51: AVULSO | F51: RR | G51: =SUM(I51:AH51) -> 25 | S51: 25
A52: 25 | B52: 12.3791.05 | C52: REGIVALDO MARQUES MOREIRA | D52: M45-49 | E52: AVULSO | F52: BA | G52: =SUM(I52:AH52) -> 25 | R52: 25
A53: 25 | B53: 07.32329.17 | C53: ARY JOSE GAVA JUNIOR | D53: M45-49 | E53: AVULSO | F53: ES | G53: =SUM(I53:AH53) -> 25 | O53: 25
A54: 25 | B54: 19.2656.05 | C54: ERNANI DE CASTRO COSTA | D54: M45-49 | E54: ERESINA BIKER'S CLUB – TBC | F54: PI | G54: =SUM(I54:AH54) -> 25 | N54: 25
A55: 25 | B55: 04.3795.05 | C55: PAULO SERGIO DA SILVA | D55: M45-49 | E55: LCS / VOTORANTIM | F55: SP | G55: =SUM(I55:AH55) -> 25 | T55: 25
A56: 26 | B56: 05.4579.06 | C56: SEBASTIÃO BATISTA AMORIM | D56: M45-49 | E56: AVULSO | F56: MG | G56: =SUM(I56:AH56) -> 24.5 | X56: 20 | AF56: 4.5
A57: 27 | B57: 08.15689.12 | C57: CARLOS APARECIDO PANTA DA SILVA | D57: M45-49 | E57: ACRB - ASSOC. DE CICLISTAS DE RIO BRILHANTE | F57: MS | G57: =SUM(I57:AH57) -> 24 | U57: 13 | AG57: 11
A58: 27 | B58: 04.542.04 | C58: MAXWELL DA ROCHA | D58: M45-49 | E58: VÉLO48 / CANNONDALE | F58: SP | G58: =SUM(I58:AH58) -> 21 | T58: 21
A59: 28 | B59: 08.16216.12 | C59: LUCIANO PEDROSO MARIANO | D59: M45-49 | E59: ASSOCIAÇÃO MODELO DOURADENSE DE CICLISMO | F59: MS | G59: =SUM(I59:AH59) -> 20 | AG59: 20
A60: 28 | B60: 16.1133.04 | C60: JOSÉ ANTONIO S. DE OLIVEIRA | D60: M45-49 | E60: CLUBE ESPORTIVO AMIGOS DA PLANETE AVENTURE | F60: PB | G60: =SUM(I60:AH60) -> 20 | W60: 20
A61: 28 | B61: 12.28005.16 | C61: ALESSANDRO EDUARDO DE ALMEIDA SOUSA | D61: M45-49 | E61: AVULSO | F61: BA | G61: =SUM(I61:AH61) -> 20 | R61: 20
A62: 28 | B62: 20.25966.15 | C62: DEMIAN BORGES DIAZ NERY DE SOUZA | D62: M45-49 | E62: SLZ CYCLING | F62: MA | G62: =SUM(I62:AH62) -> 20 | Q62: 20
A63: 28 | B63: 19.24001.15 | C63: ALEXANDRE DE CASTRO RAMALHO | D63: M45-49 | E63: PEDAL BIKERS CLUB - PBC | F63: PI | G63: =SUM(I63:AH63) -> 20 | N63: 20
A64: 28 | B64: 06.9010.10 | C64: LUCIANO EUCLIDES DOS SANTOS | D64: M45-49 | E64: UNIAO CICLISTICA DO RIO DE JANEIRO | F64: RJ | G64: =SUM(I64:AH64) -> 20 | L64: 20
A65: 29 | B65: 04.29713.16 | C65: SERGIO XAVIER DOS SANTOS | D65: M45-49 | E65: MARANGA TEAM / MARCONDES CESAR | F65: SP | G65: =SUM(I65:AH65) -> 18 | T65: 18
A66: 30 | B66: 16.30625.17 | C66: MARTO GERALDO SOARES DE LUCENA | D66: M45-49 | E66: ASEAC-ASSOCIAÇÃO SOLEDADENSE DE ESPORTES E APOIO AO CICLISTA | F66: PB | G66: =SUM(I66:AH66) -> 17.5 | W66: 17.5
A67: 31 | B67: 08.24479.15 | C67: JÚLIO CESAR MARQUES ROCHA | D67: M45-49 | E67: CLUBE MAR DEL PLATA DE CICLISMO | F67: MS | G67: =SUM(I67:AH67) -> 17 | AG67: 17
A68: 31 | B68: 06.20691.13 | C68: LUCIANO DE AZEVEDO DOMINGUEZ | D68: M45-49 | E68: AVULSO | F68: RJ | G68: =SUM(I68:AH68) -> 17 | X68: 17
A69: 31 | B69: 08.14641.11 | C69: LOURIVAL ORSO | D69: M45-49 | E69: ASSOCIAÇÃO DESPORTIVA DE CICLISMO E ATLETISMO DE NOVA ANDRAD | F69: MS | G69: =SUM(I69:AH69) -> 17 | U69: 17
A70: 31 | B70: 12.10388.09 | C70: JOSE NELSON PASCOAL | D70: M45-49 | E70: AVULSO | F70: BA | G70: =SUM(I70:AH70) -> 17 | R70: 17
A71: 31 | B71: 19.23371.14 | C71: FRANCISCO DURVAL DO NASCIMENTO | D71: M45-49 | E71: MR TEAM | F71: PI | G71: =SUM(I71:AH71) -> 17 | N71: 17
A72: 32 | B72: 11.21.04 | C72: ERIVELTON APARECIDO DE SOUZA | D72: M45-49 | E72: ER CIDADE VERDE/MATO GROSSO | F72: MS | G72: =SUM(I72:AH72) -> 15 | AG72: 15
A73: 32 | B73: 18.31514.17 | C73: MARCO TULIO MEDEIROS LEITE | D73: M45-49 | E73: AVULSO | F73: CE | G73: =SUM(I73:AH73) -> 15 | AF73: 15
A74: 32 | B74: 13.10387.09 | C74: LUIS EDUARDO SOUSA | D74: M45-49 | E74: AVULSO | F74: SE | G74: =SUM(I74:AH74) -> 15 | AD74: 15
A75: 32 | B75: 12.20200.13 | C75: UBALDO DA ANUNCIACAO | D75: M45-49 | E75: AVULSO | F75: BA | G75: =SUM(I75:AH75) -> 15 | R75: 15
A76: 32 | B76: 04.9029.08 | C76: MARCOS ROBERTO BISPO | D76: M45-49 | E76: MR CICLISMO MOGI MIRIM | F76: SP | G76: =SUM(I76:AH76) -> 15 | T76: 15
A77: 33 | B77: 12.3794.05 | C77: FERNANDO AGUIAR DOS SANTOS JÚNIOR | D77: M45-49 | E77: AVULSO | F77: BA | G77: =SUM(I77:AH77) -> 13 | R77: 13
A78: 33 | B78: 04.22325.14 | C78: EVANDRO MARIANETTI FIOCO | D78: M45-49 | E78: ASSOCIAÇÃO BATATAENSE DE CICLISMO | F78: SP | G78: =SUM(I78:AH78) -> 13 | T78: 13
A79: 33 | B79: 07.22372.14 | C79: MURILO TARDIN ALVES | D79: M45-49 | E79: AVULSO | F79: ES | G79: =SUM(I79:AH79) -> 13 | L79: 13
A80: 34 | B80: 04.28418.16 | C80: JOEL MANOEL DE SA | D80: M45-49 | E80: LCS / VOTORANTIM | F80: SP | G80: =SUM(I80:AH80) -> 11 | T80: 11
A81: 34 | B81: 07.32737.17 | C81: WILSON BORTOLOTTI JUNIOR | D81: M45-49 | E81: BRASIL COSTELO TEAM - BRC | F81: ES | G81: =SUM(I81:AH81) -> 11 | L81: 11
A82: 35 | B82: 18.28509.16 | C82: JEAN CLAUDIO DE QUEIROZ | D82: M45-49 | E82: AVULSO | F82: CE | G82: =SUM(I82:AH82) -> 10 | AF82: 10
A83: 36 | B83: 02.14407.11 | C83: NILTON CESAR TAMANINI | D83: M45-49 | E83: PORTAL TIMBÓ NET/SICOOB CREDIPÉROLA/FME TIMBÓ | F83: SC | G83: =SUM(I83:AH83) -> 7 | AH83: 7
A84: 36 | B84: 03.1844.04 | C84: JOSÉ RICARDO FRIZON | D84: M45-49 | E84: CLUBE DATARO DE CICLISMO | F84: PR | G84: =SUM(I84:AH84) -> 7 | T84: 7
A85: 36 | B85: 07.25227.15 | C85: LUCIANO GUEDES VICENTINI | D85: M45-49 | E85: AVULSO | F85: ES | G85: =SUM(I85:AH85) -> 7 | L85: 7
A86: 37 | B86: 26.756.04 | C86: WALDEMIR PINHEIRO DA COSTA | D86: M45-49 | E86: ORATORIO RECREATIVO CLUBE | F86: AP | G86: =SUM(I86:AH86) -> 5 | M86: 5
A87: 37 | B87: 07.9307.08 | C87: LUCIANO SABBAGH ALOCHIO | D87: M45-49 | E87: AVULSO | F87: ES | G87: =SUM(I87:AH87) -> 5 | L87: 5
A88: 38 | B88: 26.755.04 | C88: MARCELO SOUZA DA COSTA | D88: M45-49 | E88: ASSISTEC CICLO TEAM | F88: AP | G88: =SUM(I88:AH88) -> 4 | M88: 4
A89: 38 | B89: 07.25617.15 | C89: ROBERTO GOUVEA DE MELO | D89: M45-49 | E89: AVULSO | F89: ES | G89: =SUM(I89:AH89) -> 4 | L89: 4
A90: 39 | B90: 03.14438.11 | C90: RAQUELE CAMILO TOMIELO AMPESSAN | D90: M45-49 | E90: AVULSO | F90: PR | G90: =SUM(I90:AH90) -> 2 | AA90: 2
G91: =SUM(I91:AH91) -> 0
G92: =SUM(I92:AH92) -> 0
G93: =SUM(I93:AH93) -> 0
G94: =SUM(I94:AH94) -> 0
D95: M45-49 | G95: =SUM(I95:AH95) -> 0
D96: M45-49 | G96: =SUM(I96:AH96) -> 0
D97: M45-49 | G97: =SUM(I97:AH97) -> 0
D98: M45-49 | G98: =SUM(I98:AH98) -> 0
D99: M45-49 | G99: =SUM(I99:AH99) -> 0
D100: M45-49 | G100: =SUM(I100:AH100) -> 0
...

Sheet M50-54
A1: CONFEDERAÇÃO BRASILEIRA DE CICLISMO | I1: Campeonatos Estaduais 2017 | L1: VIII Volta Ciclistica do Pará - Belém - PA - 10 e 11/06/2017 | M1: Desafio de Ciclismo São Jose de Anchieta - Vitória - ES - 11/06/2017 | N1: Troféu Oswaldo Marques - Altos - PI - 28/05/2017 | O1: Speed Racer Bike - Cariacica - ESP - 21/05/2017 | P1: 1ª Copa Belém de Ciclismo - Belém - PA - 14/05/2017 | Q1: SLZ Ilha Race - São Luis - MA - 14/05/2017 | R1: Volta de Ciclismo de Passo Fundo - Passo Fundo - RS - 07/05/2017 | S1: GP Bahia de Ciclismo - Feira de Santana - BA - 07/05/2017 | T1: 9º Desafio Internacional Serra do Tepequem - Amajari - RR - 06 e 07/05/2017 | U1: 29º GP de Nova Andradina - Nova Andradina - MS - 01/05/2017 | V1: 65ª Prova Ciclistica 1º de Maio - Indaiatuba - SP - 01/05/2017 | W1: Copa Hans Fischer - Pomerode - SC - 29 e 30/04/2017 | X1: 4º Circuito Ducks Bike de Ciclismo - Patos - PB - 23/04/2017 | Y1: Prova Ciclistica da Inconfidencia Mineira - Senador Firmino - MG - 21/04/2017 | Z1: IX Copa SEEL de Ciclismo - Belém - PA - 16/04/2017 | AA1: 1ª Volta Master do Espirito Santo - Cariacica - ES - 15 e 16/04/2017 | AB1: GP Cidade de Curitiba - Curitiba - PR - 02/04/2017 | AC1: Subida do Morro da Cruz - Florianópolis - SC - 26/03/2017 | AD1: 9º Circuito Ciclístico Cidade de Aracaju - Aracaju - SE - 19/03/2017 | AE1: Volta do Ceará - Eusébio - CE - 17 a 19/03/2017 | AF1: 50º Circuito do Boa Vista - Joinvile - SC - 11 e 12/03/2017 | AG1: 8ª GP Mega 94 de Ciclismo - Campo Grande - MS - 05/03/2017 | AH1: Bike Fest Gaspar - Gaspar-SC - 19/02/2017
A2: RANKING ESTRADA MASTER 50-54 | E2: ='Data de Atualização'!$A$1 -> 42941
A3: POS | B3: LICENÇA | C3: CORREDOR | D3: CATEG | E3: EQUIPE | F3: FED | G3: PTOS | I3: CE | L3: 2B | M3: 4 | N3: 4 | O3: 4 | P3: 4 | Q3: 4 | R3: 5 | S3: 4 | T3: 3 | U3: 4 | V3: ELITE PRÓ/3 | W3: 2B | X3: 4 | Y3: 4 | Z3: 4 | AA3: 2B | AB3: 4 | AC3: 3 | AD3: 4 | AE3: 2B | AF3: 4 | AG3: 4 | AH3: 5
A4: 1 | B4: 06.1397.04 | C4: AFONSO CELSO PACHECO DA SILVA | D4: M50-54 | E4: EQUIPE CALIL SPORT BIKE | F4: RJ | G4: =SUM(I4:AH4) -> 202.5 | M4: 25 | N4: 17.5 | O4: 30 | P4: 40 | AA4: 50 | AD4: 40
A5: 2 | B5: 02.94.04 | C5: VILMAR DE SOUZA | D5: M50-54 | E5: ASSOCIAÇÃO JOINVILLENSE DE CICLISMO - AJOCICLO | F5: SC | G5: =SUM(I5:AH5) -> 181 | W5: 37 | AB5: 30 | AC5: 80 | AF5: 25 | AH5: 9
A6: 3 | B6: 02.674.04 | C6: EDSON TIEMANN | D6: M50-54 | E6: BRUCICLE - ASSOCIAÇÃO BRUSQUENSE DE CICLISMO | F6: SC | G6: =SUM(I6:AH6) -> 135 | W6: 50 | AC6: 55 | AF6: 20 | AH6: 10
A7: 4 | B7: 07.6896.07 | C7: CIDAMAR PARMA | D7: M50-54 | E7: ACSES | BIANCOGRES | F7: ES | G7: =SUM(I7:AH7) -> 130 | M7: 35 | O7: 40 | AA7: 55
A8: 5 | B8: 20.1442.04 | C8: GILSON BUNA MARTINS | D8: M50-54 | E8: SAMPAIO CORREA F CLUBE | F8: MA | G8: =SUM(I8:AH8) -> 115 | L8: 60 | N8: 15 | Q8: 40
A9: 6 | B9: 22.9372.08 | C9: JOSÉ VAGNER LIMA | D9: M50-54 | E9: A.U.C.P. - ASSOCIAÇÃO UNIÃO CICLÍSTICA DE PARAGOMINAS | F9: PA | G9: =SUM(I9:AH9) -> 110 | L9: 50 | P9: 25 | Z9: 35
A10: 7 | B10: 06.13600.11 | C10: PAULO FERNANDO DE MENEZES AGUIAR | D10: M50-54 | E10: AVULSO | F10: RJ | G10: =SUM(I10:AH10) -> 100 | M10: 40 | AA10: 60
A11: 8 | B11: 02.7630.07 | C11: ALMIR ANTONIO KREIN | D11: M50-54 | E11: ASSOCIAÇÃO JOINVILLENSE DE CICLISMO - AJOCICLO | F11: SC | G11: =SUM(I11:AH11) -> 93 | W11: 35 | AC11: 50 | AH11: 8
A12: 9 | B12: 02.4584.06 | C12: ENIO ANTONIO DOS SANTOS | D12: M50-54 | E12: AVULSO | F12: SC | G12: =SUM(I12:AH12) -> 91 | W12: 45 | AC12: 35 | AF12: 11
A13: 10 | B13: 22.7522.07 | C13: ANTONIO DOMINGOS DA PASCOA | D13: M50-54 | E13: ASALP/PA | F13: PA | G13: =SUM(I13:AH13) -> 90 | L13: 55 | P13: 35
A14: 11 | B14: 07.10303.08 | C14: JOSE ALVES LINHARES | D14: M50-54 | E14: ACC | F14: ES | G14: =SUM(I14:AH14) -> 82 | M14: 17 | O14: 20 | AA14: 45
A15: 12 | B15: 08.17890.12 | C15: RÔMULO CONFORTI DE OLIVEIRA | D15: M50-54 | E15: ASSOCIACAO ESPORTIVA GILMAR BICICLETAS | F15: MS | G15: =SUM(I15:AH15) -> 80 | U15: 40 | AG15: 40
A16: 12 | B16: 04.6803.07 | C16: ANTONIO GARCIA | D16: M50-54 | E16: ADI / INDAIATUBA SECRETARIA DE ESPORTES | F16: SP | G16: =SUM(I16:AH16) -> 80 | V16: 80
A17: 13 | B17: 22.20636.13 | C17: JOSE AUGUSTO OLIVEIRA PINHEIRO | D17: M50-54 | E17: CLUBE AMAZÔNIA DE CICLISMO | F17: PA | G17: =SUM(I17:AH17) -> 77 | L17: 37 | P17: 20 | Z17: 20
A18: 14 | B18: 22.19047.13 | C18: JOSE FRANCISCO GONÇALVES | D18: M50-54 | E18: ANANINDEUA E.C./TRIGOLINO | F18: PA | G18: =SUM(I18:AH18) -> 75 | L18: 45 | P18: 30
A19: 15 | B19: 07.18325.13 | C19: ROGERIO FARIA PIMENTEL | D19: M50-54 | E19: ACC | F19: ES | G19: =SUM(I19:AH19) -> 71 | M19: 11 | O19: 25 | AA19: 35
A20: 15 | B20: 01.3417.05 | C20: JOACIR JOSE CATTUZZO | D20: M50-54 | E20: APUANA TEAM (ACIL ASSOCIAÇÃO CICLISMO LOMBA GRANDE ) | F20: RS | G20: =SUM(I20:AH20) -> 65 | R20: 10 | W20: 55
A21: 16 | B21: 20.1442.04 | C21: GILSON BRUNA MARTINS | D21: M50-54 | E21: SAMPAIO CORREA F CLUBE | F21: MA | G21: =SUM(I21:AH21) -> 60 | AE21: 60
A22: 16 | B22: 04.11955.10 | C22: SERGIO GIBIM | D22: M50-54 | E22: SEME / SANTA BÁRBARA D'OESTE | F22: SP | G22: =SUM(I22:AH22) -> 60 | W22: 60
A23: 17 | B23: 07.19967.13 | C23: LUIZ ANTONIO DE PAULA | D23: M50-54 | E23: AVULSO | F23: ES | G23: =SUM(I23:AH23) -> 57 | O23: 17 | AA23: 40
A24: 18 | B24: 08.19156.13 | C24: MARCOS CORRÊA ROSA | D24: M50-54 | E24: CLUBE MAR DEL PLATA DE CICLISMO | F24: MS | G24: =SUM(I24:AH24) -> 55 | U24: 20 | AG24: 35
A25: 18 | B25: 08.6483.07 | C25: JORGE LUIZ ALVES FRANÇA | D25: M50-54 | E25: ASSOCIAÇÃO MODELO DOURADENSE DE CICLISMO | F25: MS | G25: =SUM(I25:AH25) -> 55 | U25: 30 | AG25: 25
A26: 18 | B26: 08.11755.09 | C26: LUIZ AUGUSTI LOUSI FAUSTINO | D26: M50-54 | E26: CONCEPT BIKE TEAM | F26: MS | G26: =SUM(I26:AH26) -> 55 | U26: 35 | AG26: 20
A27: 18 | B27: 04.1770.04 | C27: ELCIO ALEXANDRE | D27: M50-54 | E27: ACICLI / ITAPETININGA | F27: SP | G27: =SUM(I27:AH27) -> 55 | V27: 55
A28: 19 | B28: 18.4432.05 | C28: WAGNER COMODORO | D28: M50-54 | E28: AVULSO | F28: CE | G28: =SUM(I28:AH28) -> 50 | AE28: 50
A29: 19 | B29: 04.3515.05 | C29: ENEAS CIANDRINI | D29: M50-54 | E29: LCS / VOTORANTIM | F29: SP | G29: =SUM(I29:AH29) -> 50 | V29: 50
A30: 20 | B30: 02.7630.07 | C30: ALMIR ANTONIO KREIN | D30: M50-54 | E30: ASSOCIAÇÃO JOINVILLENSE DE CICLISMO - AJOCICLO | F30: SC | G30: =SUM(I30:AH30) -> 49 | AB30: 40 | AF30: 9
A31: 21 | B31: 20.9342.08 | C31: CLAUDIO ALBERTO GABRIEL GUIMARÃES | D31: M50-54 | E31: AMEACO - ASSOCIAÇÂO MULTISPORTIVA DO OLHO DAGÚA | F31: MA | G31: =SUM(I31:AH31) -> 45 | AE31: 45
A32: 21 | B32: 04.12119.10 | C32: MAURICIO ALVES LOBO | D32: M50-54 | E32: AVULSO | F32: SP | G32: =SUM(I32:AH32) -> 45 | V32: 45
A33: 21 | B33: 04.28962.16 | C33: DARLI COSSANI | D33: M50-54 | E33: VÉLO48 / CANNONDALE | F33: SP | G33: =SUM(I33:AH33) -> 45 | V33: 45
A34: 22 | B34: 02.3691.05 | C34: EVANIO ZIMMERMANN | D34: M50-54 | E34: ROSSETI/BIKE | F34: SC | G34: =SUM(I34:AH34) -> 40 | AF34: 40
A35: 22 | B35: 05.480.04 | C35: MARCELO FRANCO OLIVEIRA | D35: M50-54 | E35: MASSAS ANDREANI/R MEC/TRIONE | F35: MG | G35: =SUM(I35:AH35) -> 40 | Y35: 40
A36: 22 | B36: 28.7763.08 | C36: VALDIR APARECIDO DE OLIVEIRA | D36: M50-54 | E36: MATO E MORRO DE BIKE | F36: RR | G36: =SUM(I36:AH36) -> 40 | T36: 40
A37: 22 | B37: 12.5339.06 | C37: JOSÉ LUÍS SÁ TELES ANDRADE | D37: M50-54 | E37: AVULSO | F37: BA | G37: =SUM(I37:AH37) -> 40 | S37: 40
A38: 22 | B38: 04.937.04 | C38: MARCOS ANTONIO MICHELINI | D38: M50-54 | E38: ADI / INDAIATUBA SECRETARIA DE ESPORTES | F38: SP | G38: =SUM(I38:AH38) -> 40 | V38: 40
A39: 23 | B39: 08.15687.12 | C39: ILSON BARBOSA DA SILVA | D39: M50-54 | E39: C.R.C. CLUBE RIOBRILHANTENSE DE CICLISMO | F39: MS | G39: =SUM(I39:AH39) -> 38 | U39: 25 | AG39: 13
A40: 24 | B40: 18.4191.05 | C40: MANOEL ANTONIO DA COSTA | D40: M50-54 | E40: AVULSO | F40: CE | G40: =SUM(I40:AH40) -> 37 | AE40: 37
A41: 25 | B41: 01.3385.05 | C41: ROGÉRIO AMÉRICO | D41: M50-54 | E41: AVULSO | F41: RS | G41: =SUM(I41:AH41) -> 35 | AF41: 35
A42: 25 | B42: 13.8342.08 | C42: RICARDO HELIO HSU | D42: M50-54 | E42: AVULSO | F42: SE | G42: =SUM(I42:AH42) -> 35 | AD42: 35
A43: 25 | B43: 03.15722.12 | C43: DALIRIO MAINARDI | D43: M50-54 | E43: AVULSO | F43: PR | G43: =SUM(I43:AH43) -> 35 | U43: 35
A44: 25 | B44: 12.242.04 | C44: ANTONIO CESAR SANTOS DA ROCHA | D44: M50-54 | E44: AVULSO | F44: BA | G44: =SUM(I44:AH44) -> 35 | S44: 35
A45: 25 | B45: 20.9342.08 | C45: CLAUDIO ALBERTO GABRIEL GUIMARAES | D45: M50-54 | E45: AMEACO ( ASSOCIAÇÂO MULTISPORTIVA DO OLHO DAGÚA ) | F45: MA | G45: =SUM(I45:AH45) -> 35 | Q45: 35
A46: 25 | B46: 07.11811.09 | C46: FABIANO TADDEI CICILIOTTI | D46: M50-54 | E46: ACC | F46: ES | G46: =SUM(I46:AH46) -> 35 | O46: 35
A47: 25 | B47: 04.26047.15 | C47: DARCI CEZAR ANADÃO | D47: M50-54 | E47: ADI / INDAIATUBA SECRETARIA DE ESPORTES | F47: SP | G47: =SUM(I47:AH47) -> 35 | V47: 35
A48: 26 | B48: 18.31577.17 | C48: FRANCISCO JOSÉ FEIJÓ DO NASCIMENTO | D48: M50-54 | E48: JOAO CICLO | F48: CE | G48: =SUM(I48:AH48) -> 33 | AE48: 33
A49: 26 | B49: 03.5786.06 | C49: ARIOSVALDO GOUVEIA JUNIOR | D49: M50-54 | E49: ACP - ASSOCIAÇÃO DOS CICLISTAS DE PARANAGUÁ | F49: PR | G49: =SUM(I49:AH49) -> 33 | AB49: 20 | AF49: 13
A50: 26 | B50: 03.31851.17 | C50: ADRIANO RENATO ZORZE | D50: M50-54 | E50: CLUBE DE CICLISMO SO PEDAL | F50: PR | G50: =SUM(I50:AH50) -> 33 | W50: 33
A51: 27 | B51: 28.31984.17 | C51: CARLOS ALEXANDRE PRADO HORTA | D51: M50-54 | E51: TEPUY BIKE TEAM | F51: RR | G51: =SUM(I51:AH51) -> 32.5 | T51: 32.5
A52: 27 | B52: 16.29029.16 | C52: EDMILSON FURTADO LACERDA | D52: M50-54 | E52: AVULSO | F52: PB | G52: =SUM(I52:AH52) -> 31 | AE52: 31
A53: 28 | B53: 08.24477.15 | C53: ADALBERTO MEREY VILHALBA | D53: M50-54 | E53: CLUBE MAR DEL PLATA DE CICLISMO | F53: MS | G53: =SUM(I53:AH53) -> 30 | AG53: 30
A54: 28 | B54: 22.4445.05 | C54: JEOVANI SILVA SOARES | D54: M50-54 | E54: CLUBE AMAZÔNIA DE CICLISMO | F54: PA | G54: =SUM(I54:AH54) -> 30 | Z54: 30
A55: 28 | B55: 12.21338.14 | C55: HENRIQUE CARLOS TEIXEIRA NUNES | D55: M50-54 | E55: AVULSO | F55: BA | G55: =SUM(I55:AH55) -> 30 | S55: 30
A56: 28 | B56: 04.3812.05 | C56: MARCELO CLARIM PEREIRA | D56: M50-54 | E56: AVULSO | F56: SP | G56: =SUM(I56:AH56) -> 30 | V56: 30
A57: 28 | B57: 07.5719.06 | C57: ROBERTO GARCIA MERÇON | D57: M50-54 | E57: AVULSO | F57: ES | G57: =SUM(I57:AH57) -> 30 | M57: 30
A58: 29 | B58: 28.21322.14 | C58: IVAN BENTES BULCÃO CROMWELL | D58: M50-54 | E58: MATO E MORRO DE BIKE | F58: RR | G58: =SUM(I58:AH58) -> 27.5 | T58: 27.5
A59: 30 | B59: 08.15641.12 | C59: ADIR ALVES BATALHA | D59: M50-54 | E59: ACRB - ASSOC. DE CICLISTAS DE RIO BRILHANTE | F59: MS | G59: =SUM(I59:AH59) -> 26 | U59: 17 | AG59: 9
A60: 31 | B60: 13.14394.11 | C60: JONATAN LIMA DE SOUZA | D60: M50-54 | E60: AVULSO | F60: SE | G60: =SUM(I60:AH60) -> 25 | AD60: 25
A61: 31 | B61: 12.8518.08 | C61: ANTONIO ROQUE PORTO DE SOUZA | D61: M50-54 | E61: AVULSO | F61: BA | G61: =SUM(I61:AH61) -> 25 | S61: 25
A62: 31 | B62: 04.11161.09 | C62: HUMBERTO FERRARI | D62: M50-54 | E62: S.E.T. MOGI GUAÇU | F62: SP | G62: =SUM(I62:AH62) -> 25 | V62: 25
A63: 32 | B63: 05.480.04 | C63: MARCELO FRANCO OLIVEIRA | D63: M50-54 | E63: MASSAS ANDREANI/R MEC/TRIONE | F63: MG | G63: =SUM(I63:AH63) -> 21 | V63: 21
A64: 33 | B64: 16.25799.15 | C64: ERASMO ARAUJO | D64: M50-54 | E64: AVULSO | F64: PB | G64: =SUM(I64:AH64) -> 20 | X64: 20
A65: 33 | B65: 12.13630.11 | C65: RAIMUNDO LEUDO DE PONTES | D65: M50-54 | E65: AVULSO | F65: BA | G65: =SUM(I65:AH65) -> 20 | S65: 20
A66: 33 | B66: 19.24100.15 | C66: CASSIO ALVES DE ALMEIDA | D66: M50-54 | E66: FLORIANO BIKERS CLUBE - FBC | F66: PI | G66: =SUM(I66:AH66) -> 20 | N66: 20
A67: 33 | B67: 06.6519.07 | C67: CARLOS HENRIQUE ALVES DE OLIVEIRA | D67: M50-54 | E67: UNIAO CICLISTICA DO RIO DE JANEIRO | F67: RJ | G67: =SUM(I67:AH67) -> 20 | M67: 20
A68: 34 | B68: 04.9054.08 | C68: MARCELO PIRES DO NASCIMENTO | D68: M50-54 | E68: ACICLI / ITAPETININGA | F68: SP | G68: =SUM(I68:AH68) -> 18 | V68: 18
A69: 35 | B69: 16.7537.07 | C69: EDVALDO FERREIRA DA SILVA | D69: M50-54 | E69: CLUBE TRISPORT DE CICLISMO | F69: PB | G69: =SUM(I69:AH69) -> 17.5 | X69: 17.5
A70: 36 | B70: 08.6565.07 | C70: NELSON FRANÇA ALVES JUNIOR | D70: M50-54 | E70: ASSOCIAÇÃO MODELO DOURADENSE DE CICLISMO | F70: MS | G70: =SUM(I70:AH70) -> 17 | AG70: 17
A71: 36 | B71: 06.28697.16 | C71: MAURICIO LEONEL LOPES | D71: M50-54 | E71: AVULSO | F71: RJ | G71: =SUM(I71:AH71) -> 17 | Y71: 17
A72: 36 | B72: 12.31841.17 | C72: ALBERTO PINTO DA COSTA FILHO | D72: M50-54 | E72: AVULSO | F72: BA | G72: =SUM(I72:AH72) -> 17 | S72: 17
A73: 37 | B73: 08.13425.11 | C73: JOSEMAR REZENDE | D73: M50-54 | E73: CLUBE MAR DEL PLATA DE CICLISMO | F73: MS | G73: =SUM(I73:AH73) -> 15 | AG73: 15
A74: 37 | B74: 20.29398.16 | C74: MOACIR RIBEIRO JUNIOR | D74: M50-54 | E74: AMEACO ( ASSOCIAÇÂO MULTISPORTIVA DO OLHO DAGÚA ) | F74: MA | G74: =SUM(I74:AH74) -> 15 | Q74: 15
A75: 37 | B75: 04.1241.04 | C75: ANTONIO MARTINS FILHO | D75: M50-54 | E75: S.E.T. MOGI GUAÇU | F75: SP | G75: =SUM(I75:AH75) -> 15 | V75: 15
A76: 37 | B76: 06.1394.04 | C76: RICARDO GROSSO GIBSON | D76: M50-54 | E76: AVULSO | F76: RJ | G76: =SUM(I76:AH76) -> 15 | M76: 15
A77: 38 | B77: 03.11166.09 | C77: LUIZ ROBERTO CASTILHO | D77: M50-54 | E77: AVULSO | F77: PR | G77: =SUM(I77:AH77) -> 13 | AB77: 13
A78: 38 | B78: 04.20733.13 | C78: EDVALDO JOSE AFONSO | D78: M50-54 | E78: AVULSO | F78: SP | G78: =SUM(I78:AH78) -> 13 | V78: 13
A79: 39 | B79: 19.17702.12 | C79: ANDRÊ BORGES GONÇALVES | D79: M50-54 | E79: BIKER PIAUI | F79: PI | G79: =SUM(I79:AH79) -> 12.5 | N79: 12.5
A80: 40 | B80: 04.6164.06 | C80: GERALDO MARINS DOS REIS JUNIOR | D80: M50-54 | E80: AVULSO | F80: SP | G80: =SUM(I80:AH80) -> 11 | V80: 11
A81: 41 | B81: 18.16947.12 | C81: GERALDO MARCIO MAIA MALVEIRA | D81: M50-54 | E81: SANTOS ATAIDE | F81: CE | G81: =SUM(I81:AH81) -> 10 | AE81: 10
A82: 42 | B82: 04.31517.17 | C82: VANDERLEI JOSE DA SILVA | D82: M50-54 | E82: ECT/TAUBATÉ/TARUMÃ | F82: SP | G82: =SUM(I82:AH82) -> 9 | V82: 9
A83: 42 | B83: 07.29604.16 | C83: PAULO DE TARSO SANTANA CAMURUGI | D83: M50-54 | E83: GR TEAM | F83: ES | G83: =SUM(I83:AH83) -> 9 | M83: 9
A84: 43 | B84: 18.27699.16 | C84: RODRIGO DE OLIVEIRA SALES | D84: M50-54 | E84: ENDURANCE | F84: CE | G84: =SUM(I84:AH84) -> 8 | AE84: 8
A85: 43 | B85: 09.15151.11 | C85: ELIAS DO NASCIMENTO SILVA | D85: M50-54 | E85: ASSOCIAÇÃO ATLETICA BICICLETELIAS | F85: GO | G85: =SUM(I85:AH85) -> 8 | V85: 8
A86: 43 | B86: 04.28945.16 | C86: ROBERTO CLEMENTINO | D86: M50-54 | E86: AVULSO | F86: SP | G86: =SUM(I86:AH86) -> 8 | V86: 8
A87: 44 | B87: 04.8175.08 | C87: ANTONIO CARLOS DE MATTOS GUERRA | D87: M50-54 | E87: MOGI TEAM CYCLING / MOGI DAS CRUZES | F87: SP | G87: =SUM(I87:AH87) -> 7 | V87: 7
A88: 44 | B88: 07.15505.12 | C88: JOEL ZUQUI | D88: M50-54 | E88: AVULSO | F88: ES | G88: =SUM(I88:AH88) -> 7 | M88: 7
A89: 45 | B89: 04.32198.17 | C89: OSNI APARECIDO FERREIRA | D89: M50-54 | E89: VÉLO48 / CANNONDALE | F89: SP | G89: =SUM(I89:AH89) -> 6 | V89: 6
A90: 46 | B90: 04.8206.08 | C90: FRANCISCO DOMINGOS RAMOS | D90: M50-54 | E90: LCS / VOTORANTIM | F90: SP | G90: =SUM(I90:AH90) -> 5 | V90: 5
A91: 46 | B91: 07.24303.15 | C91: JOAO JOSE SALLES RAMOS | D91: M50-54 | E91: AVULSO | F91: ES | G91: =SUM(I91:AH91) -> 5 | M91: 5
A92: 47 | B92: 04.17142.12 | C92: ISRAEL NOGUEIRA DE ALMEIDA | D92: M50-54 | E92: ECT/TAUBATÉ/TARUMÃ | F92: SP | G92: =SUM(I92:AH92) -> 2 | V92: 2
G93: =SUM(I93:AH93) -> 0
G94: =SUM(I94:AH94) -> 0
G95: =SUM(I95:AH95) -> 0
G96: =SUM(I96:AH96) -> 0
G97: =SUM(I97:AH97) -> 0
D98: M50-54 | G98: =SUM(I98:AH98) -> 0
D99: M50-54 | G99: =SUM(I99:AH99) -> 0

Sheet M55-59
A1: CONFEDERAÇÃO BRASILEIRA DE CICLISMO | I1: Campeonatos Estaduais 2017 | L1: VIII Volta Ciclistica do Pará - Belém - PA - 10 e 11/06/2017 | M1: Desafio de Ciclismo São Jose de Anchieta - Vitoria - ES - 11.06.17 | N1: SLZ Ilha Race - São Luis - MA - 14/05/2017 | O1: GP Bahia de Ciclismo - Feira de Santana - BA - 07/05/2017 | P1: 65ª Prova Ciclistica 1º de Maio - Indaiatuba - SP - 01/05/2017 | Q1: 29º GP de Nova Andradina - Nova Andradina - MS - 01/05/2017 | R1: Copa Hans Fischer - Pomerode - SC - 29 e 30/04/2017 | S1: 4º Circuito Ducks Bike de Ciclismo - Patos - PB - 23/04/2017 | T1: Prova Ciclistica da Inconfidencia Mineira - Senador Firmino - MG - 21/04/2017 | U1: 1ª Copa Belém de Ciclismo - Belém - PA - 14/05/2017 | V1: IX Copa SEEL de Ciclismo - Belém - PA - 16/04/2017 | W1: 1ª Volta Master do Espirito Santo - Cariacica - ES - 15 e 16/04/2017 | X1: GP Cidade de Curitiba - Curitiba - PR - 02/04/2017 | Y1: Subida do Morro da Cruz - Florianópolis - SC - 26/03/2017 | Z1: Volta do Ceará - Eusébio - CE - 17 a 19/03/2017 | AA1: 50º Circuito do Boa Vista - Joinvile - SC - 11 e 12/03/2017 | AB1: 8ª GP Mega 94 de Ciclismo - Campo Grande - MS - 05/03/2017 | AC1: Bike Fest Gaspar - Gaspar-SC - 19/02/2017
A2: RANKING ESTRADA MASTER 55-59 | E2: ='Data de Atualização'!$A$1 -> 42941
A3: POS | B3: LICENÇA | C3: CORREDOR | D3: CATEG | E3: EQUIPE | F3: FED | G3: PTOS | I3: CE | L3: 2B | M3: 4 | N3: 4 | O3: 4 | P3: ELITE PRÓ/3 | Q3: 4 | R3: 2B | S3: 4 | T3: 4 | U3: 4 | V3: 4 | W3: 2B | X3: 4 | Y3: 3 | Z3: 2B | AA3: 4 | AB3: 4 | AC3: 5
A4: 1 | B4: 02.7468.07 | C4: GERALDO BANDOCH | D4: M55-59 | E4: ASSOCIAÇÃO JOINVILLENSE DE CICLISMO - AJOCICLO | F4: SC | G4: =SUM(I4:AC4) -> 167.5 | R4: 27.5 | X4: 20 | Y4: 80 | AA4: 40
A5: 2 | B5: 02.3534.05 | C5: JOSÉ WILMAR CARVALHO | D5: M55-59 | E5: AVULSO | F5: PR | G5: =SUM(I5:AC5) -> 95.5 | X5: 17.5 | Y5: 50 | AA5: 20 | AC5: 8
A6: 3 | B6: 04.1214.04 | C6: MILTON JUN TAKAHARA | D6: M55-59 | E6: ADI / INDAIATUBA SECRETARIA DE ESPORTES | F6: SP | G6: =SUM(I6:AC6) -> 80 | P6: 80
A7: 4 | B7: 02.2438.04 | C7: CARLOS ROBERTO BREDOW | D7: M55-59 | E7: EBA ALARMES MONITORADOS | F7: SC | G7: =SUM(I7:AC7) -> 75 | R7: 30 | AA7: 35 | AC7: 10
A8: 5 | B8: 03.23611.14 | C8: OSWALDO MONTANINO NETO | D8: M55-59 | E8: CLUBE DE CICLISMO SO PEDAL | F8: PR | G8: =SUM(I8:AC8) -> 72.5 | X8: 12.5 | Y8: 45 | AA8: 15
A9: 6 | B9: 06.2475.04 | C9: ALEXANDRE DOS SANTOS | D9: M55-59 | E9: CLUBE DE CICLISMO DE VALENÇA | F9: RJ | G9: =SUM(I9:AC9) -> 65 | P9: 65
A10: 6 | B10: 22.290.04 | C10: EVANDRO OLIVEIRA DE MEDEIROS | D10: M55-59 | E10: CLUBE AMAZÔNIA DE CICLISMO | F10: PA | G10: =SUM(I10:AC10) -> 65 | L10: 30 | U10: 15 | V10: 20
A11: 7 | B11: 22.2371.04 | C11: RUBENS JOSÉ ARAÚJO FERREIRA | D11: M55-59 | E11: ASALP/PA | F11: PA | G11: =SUM(I11:AC11) -> 62.5 | L11: 25 | U11: 20 | V11: 17.5
A12: 8 | B12: 04.2343.04 | C12: NICOLA AMORESANO NETO | D12: M55-59 | E12: ADI / INDAIATUBA SECRETARIA DE ESPORTES | F12: SP | G12: =SUM(I12:AC12) -> 55 | P12: 55
A13: 9 | B13: 04.1239.04 | C13: NEWTON DE SOUZA LEITE | D13: M55-59 | E13: S.E.T. MOGI GUAÇU | F13: SP | G13: =SUM(I13:AC13) -> 50 | P13: 50
A14: 10 | B14: 08.3224.05 | C14: GILMAR ELIAS BATISTA | D14: M55-59 | E14: ASSOCIACAO ESPORTIVA GILMAR BICICLETAS | F14: MS | G14: =SUM(I14:AC14) -> 45 | Q14: 25 | AB14: 20
A15: 10 | B15: 04.24893.15 | C15: NELSON SOLIANI JUNIOR | D15: M55-59 | E15: ADI / INDAIATUBA SECRETARIA DE ESPORTES | F15: SP | G15: =SUM(I15:AC15) -> 45 | P15: 45
A16: 11 | B16: 07.31786.17 | C16: ORLANDO GONÇALVES DE PAULA | D16: M55-59 | E16: AVULSO | F16: ES | G16: =SUM(I16:AC16) -> 42.5 | M16: 20 | W16: 22.5
A17: 12 | B17: 04.961.04 | C17: LUIZ GUILHERME STANGIER PIRES BARBOSA | D17: M55-59 | E17: AVULSO | F17: SP | G17: =SUM(I17:AC17) -> 40 | P17: 40
A18: 12 | B18: 06.18566.13 | C18: EDUARDO JOSE BERARDO ZAEYEN | D18: M55-59 | E18: EQUIPE RED | F18: RJ | G18: =SUM(I18:AC18) -> 40 | M18: 40
A19: 13 | B19: 09.15151.11 | C19: ELIAS DO NASCIMENTO SILVA | D19: M55-59 | E19: ASSOCIAÇÃO ATLETICA BICICLETELIAS | F19: GO | G19: =SUM(I19:AC19) -> 35 | P19: 35
A20: 13 | B20: 07.27734.16 | C20: NEOLUCIO BRAGATTO FRANCO NUNES | D20: M55-59 | E20: ONE BIKE RACING TEAM | F20: ES | G20: =SUM(I20:AC20) -> 35 | M20: 35
A21: 14 | B21: 08.25123.15 | C21: NORBERTO VIEIRA QUINTILIANO | D21: M55-59 | E21: CONCEPT BIKE TEAM | F21: MS | G21: =SUM(I21:AC21) -> 30 | AB21: 30
A22: 14 | B22: 18.14381.11 | C22: DEMETRIO SANTOS CHRISOSTOMO | D22: M55-59 | E22: ENDURANCE | F22: CE | G22: =SUM(I22:AC22) -> 30 | Z22: 30
A23: 14 | B23: 08.24724.15 | C23: ELIAS RAFAEL CAMARGO | D23: M55-59 | E23: ASSOCIAÇÃO ANASTACIANA DE CICLISMO - AAC | F23: MS | G23: =SUM(I23:AC23) -> 30 | Q23: 13 | AB23: 17
A24: 14 | B24: 04.630.04 | C24: CLYTHIO RAYMOND SPERANZA BACKX VAN BUGGENHOUT | D24: M55-59 | E24: AVULSO | F24: SP | G24: =SUM(I24:AC24) -> 30 | P24: 30
A25: 15 | B25: 03.28085.16 | C25: ALEXANDRE JORGE ILKIU | D25: M55-59 | E25: AVULSO | F25: SC | G25: =SUM(I25:AC25) -> 26 | AA25: 17 | AC25: 9
A26: 16 | B26: 05.533.04 | C26: JURACI JOSÉ DE ALMEIDA | D26: M55-59 | E26: RDMEC/MASSAS ANDREANI/TRIONE/BRITAÇO | F26: MG | G26: =SUM(I26:AC26) -> 25.5 | P26: 13 | T26: 12.5
A27: 17 | B27: 04.6026.06 | C27: ANTONIO CEZAR BENEDITO | D27: M55-59 | E27: ACC / SEL - CORDEIRÓPOLIS | F27: SP | G27: =SUM(I27:AC27) -> 25 | P27: 25
A28: 17 | B28: 07.20576.13 | C28: LUIZ TADEU NUNES GONZAGA | D28: M55-59 | E28: AVULSO | F28: ES | G28: =SUM(I28:AC28) -> 25 | M28: 25
A29: 18 | B29: 04.3822.05 | C29: MARCOS VAZ DE MORAES | D29: M55-59 | E29: ACICLI / ITAPETININGA | F29: SP | G29: =SUM(I29:AC29) -> 21 | P29: 21
A30: 19 | B30: 05.3228.05 | C30: JOSE MAURO CAPUTO | D30: M55-59 | E30: AVULSO | F30: MG | G30: =SUM(I30:AC30) -> 20 | T30: 20
A31: 19 | B31: 08.15646.12 | C31: VALDINEIS VARGAS BENITES | D31: M55-59 | E31: ASSOCIACAO ESPORTIVA PRO-PEDAL (AEPP) | F31: MS | G31: =SUM(I31:AC31) -> 20 | Q31: 20
A32: 19 | B32: 12.233.04 | C32: EDINEI BISPO DOS SANTOS | D32: M55-59 | E32: AVULSO | F32: BA | G32: =SUM(I32:AC32) -> 20 | O32: 20
A33: 20 | B33: 04.17142.12 | C33: ISRAEL NOGUEIRA DE ALMEIDA | D33: M55-59 | E33: ECT/TAUBATÉ/TARUMÃ | F33: SP | G33: =SUM(I33:AC33) -> 18 | P33: 18
A34: 21 | B34: 06.19040.13 | C34: MAURO GUINAEL PIMENTEL | D34: M55-59 | E34: AVULSO | F34: RJ | G34: =SUM(I34:AC34) -> 17.5 | T34: 17.5
A35: 21 | B35: 16.225.04 | C35: ERNANDO DA COSTA BORGES | D35: M55-59 | E35: CLUBE ESPORTIVO AMIGOS DA PLANETE AVENTURE | F35: PB | G35: =SUM(I35:AC35) -> 17.5 | S35: 17.5
A36: 21 | B36: 20.16919.12 | C36: JOSE LUIS GONZAGA ROCHA SANCHES | D36: M55-59 | E36: MOTO CLUBE DE SÃO LUIS | F36: MA | G36: =SUM(I36:AC36) -> 17.5 | N36: 17.5
A37: 21 | B37: 22.9751.10 | C37: ROOSEVELT LUIZ ARAUJO FERREIRA | D37: M55-59 | E37: ASALP/PA | F37: PA | G37: =SUM(I37:AC37) -> 17.5 | U37: 17.5
A38: 22 | B38: 07.31441.17 | C38: LUIZ ENRIQUE STURIAO | D38: M55-59 | E38: GR TEAM | F38: ES | G38: =SUM(I38:AC38) -> 17 | M38: 17
A39: 23 | B39: 05.26734.15 | C39: VITOR LUIZ DA SILVA | D39: M55-59 | E39: AVULSO | F39: MG | G39: =SUM(I39:AC39) -> 15 | T39: 15
A40: 23 | B40: 16.11015.09 | C40: OZINALDO MACEDO DE OLIVEIRA | D40: M55-59 | E40: REAL CICLO CLUBE DE CICLISMO | F40: PB | G40: =SUM(I40:AC40) -> 15 | S40: 15
A41: 23 | B41: 03.1234.04 | C41: YURI KRUCHOWSKI DE SIQUEIRA | D41: M55-59 | E41: CLUBE DE CICLISMO SO PEDAL | F41: PR | G41: =SUM(I41:AC41) -> 15 | R41: 15
A42: 23 | B42: 12.3120.05 | C42: VALMIRO DA PAIXAO FERREIRA | D42: M55-59 | E42: AVULSO | F42: BA | G42: =SUM(I42:AC42) -> 15 | O42: 15
A43: 23 | B43: 20.30859.17 | C43: NILTON ROMAO DA SILVA | D43: M55-59 | E43: SAMPAIO CORREA F CLUBE | F43: MA | G43: =SUM(I43:AC43) -> 15 | N43: 15
A44: 23 | B44: 04.6591.07 | C44: JOAO CARLOS DE FREITAS MOTTA | D44: M55-59 | E44: ECT/TAUBATÉ/TARUMÃ | F44: SP | G44: =SUM(I44:AC44) -> 15 | P44: 15
A45: 23 | B45: 07.10169.08 | C45: JOEL DOS SANTOS ALMEIDA | D45: M55-59 | E45: AVULSO | F45: ES | G45: =SUM(I45:AC45) -> 15 | M45: 15
A46: 24 | B46: 04.10195.08 | C46: JOSE ANTONIO DOMINGOS | D46: M55-59 | E46: SEME / SANTA BÁRBARA D'OESTE | F46: SP | G46: =SUM(I46:AC46) -> 11 | P46: 11
A47: 25 | B47: 04.9220.08 | C47: JOÃO BATISTA DE TOLEDO | D47: M55-59 | E47: A.C.C./SEL/CORDEIRÓPOLIS | F47: SP | G47: =SUM(I47:AC47) -> 9 | P47: 9
A48: 26 | B48: 04.15324.11 | C48: VANDERLEI BARBOSA SILVA | D48: M55-59 | E48: ECT/TAUBATÉ/TARUMÃ | F48: SP | G48: =SUM(I48:AC48) -> 8 | P48: 8
A49: 27 | B49: 04.12019.10 | C49: MARCELO DE CAMARGO ARIANI | D49: M55-59 | E49: AVULSO | F49: SP | G49: =SUM(I49:AC49) -> 7 | P49: 7
G50: =SUM(I50:AC50) -> 0
G51: =SUM(I51:AC51) -> 0
G52: =SUM(I52:AC52) -> 0
G53: =SUM(I53:AC53) -> 0
G54: =SUM(I54:AC54) -> 0
D55: M55-59 | G55: =SUM(I55:AC55) -> 0
D56: M55-59 | G56: =SUM(I56:AC56) -> 0

Sheet VET
A1: CONFEDERAÇÃO BRASILEIRA DE CICLISMO | I1: Campeonatos Estaduais 2017 | L1: VIII Volta Ciclistica do Pará - Belém - PA - 10 e 11/06/2017 | M1: Desafio de Ciclismo São Jose de Anchieta - Vitoria - ES - 11.06.17 | N1: V Copa Amapa de Ciclismo - Amapa - AP - 04.06.17 | O1: Troféu Oswaldo Marques - Altos - PI - 28/05/2017 | P1: 1ª Copa Belém de Ciclismo - Belém - PA - 14/05/2017 | Q1: SLZ Ilha Race - São Luis - MA - 14/05/2017 | R1: Volta de Ciclismo de Passo Fundo - Passo Fundo - RS - 07/05/2017 | S1: GP Bahia de Ciclismo - Feira de Santana - BA - 07/05/2017 | T1: 65ª Prova Ciclistica 1º de Maio - Indaiatuba - SP - 01/05/2017 | U1: 29º GP de Nova Andradina - Nova Andradina - MS - 01/05/2017 | V1: Copa Hans Fischer - Pomerode - SC - 29 e 30/04/2017 | W1: 4º Circuito Ducks Bike de Ciclismo - Patos - PB - 23/04/2017 | X1: Prova Ciclistica da Inconfidencia Mineira - Senador Firmino - MG - 21/04/2017 | Y1: IX Copa SEEL de Ciclismo - Belém - PA - 16/04/2017 | Z1: Subida do Morro da Cruz - Florianópolis - SC - 26/03/2017 | AA1: Volta do Ceará - Eusébio - CE - 17 a 19/03/2017 | AB1: 50º Circuito do Boa Vista - Joinvile - SC - 11 e 12/03/2017 | AC1: Copa Velho Chico - Januária - MG - 26/03/2017 | AD1: 8ª GP Mega 94 de Ciclismo - Campo Grande - MS - 05/03/2017 | AE1: Bike Fest Gaspar - Gaspar-SC - 19/02/2017
A2: RANKING ESTRADA VETERANO | E2: ='Data de Atualização'!$A$1 -> 42941
A3: POS | B3: LICENÇA | C3: CORREDOR | D3: CATEG | E3: EQUIPE | F3: FED | G3: PTOS | I3: CE | L3: 2B | M3: 4 | N3: 5 | O3: 4 | P3: 4 | Q3: 4 | R3: 5 | S3: 4 | U3: 4 | V3: 2B | W3: 4 | X3: 4 | Y3: 4 | Z3: 3 | AA3: 2B | AB3: 4 | AC3: 5 | AD3: 4 | AE3: 5
A4: 1 | B4: 22.10177.08 | C4: ELISEO ANTONIO ZANON | D4: VET | E4: CLUBE AMAZÔNIA DE CICLISMO | F4: PA | G4: =SUM(I4:AE4) -> 170 | L4: 60 | P4: 40 | V4: 50 | Y4: 20
A5: 2 | B5: 02.7705.07 | C5: JOÃO CARLOS LUIZ | D5: VET | E5: PORTAL TIMBÓ NET/SICOOB CREDIPÉROLA/FME TIMBÓ | F5: SC | G5: =SUM(I5:AE5) -> 144 | V5: 55 | Z5: 80 | AE5: 9
A6: 3 | B6: 02.18827.13 | C6: IRIO GOEDE | D6: VET | E6: AVULSO | F6: SC | G6: =SUM(I6:AE6) -> 142 | V6: 45 | Z6: 65 | AB6: 25 | AE6: 7
A7: 4 | B7: 02.31412.17 | C7: ROBERTO HIENDLMAYER | D7: VET | E7: AVULSO | F7: SC | G7: =SUM(I7:AE7) -> 132 | V7: 37 | Z7: 50 | AB7: 35 | AE7: 10
A8: 5 | B8: 22.4444.05 | C8: JOAO LUIZ DE OLIVEIRA SOUZA MELO | D8: VET | E8: ALTERNATIVA - SOURE | F8: PA | G8: =SUM(I8:AE8) -> 102.5 | L8: 55 | P8: 30 | Y8: 17.5
A9: 6 | B9: 01.1011.04 | C9: DARMES VENCATO LABATUT | D9: VET | E9: STILO BIKE LABATUT | F9: RS | G9: =SUM(I9:AE9) -> 100 | V9: 60 | AB9: 40
A10: 7 | B10: 04.979.04 | C10: RICARDO VENTURELLI GONÇALVES | D10: VET | E10: AVULSO | F10: SP | G10: =SUM(I10:AE10) -> 80 | T10: 80
A11: 7 | B11: 22.4443.05 | C11: RUI BISPO DO VALE | D11: VET | E11: ANANINDEUA E.C./TRIGOLINO | F11: PA | G11: =SUM(I11:AE11) -> 80 | L11: 45 | P11: 35
A12: 8 | B12: 20.2277.04 | C12: EDSON COELHO PEREIRA FILHO | D12: VET | E12: MOTO CLUBE DE SÃO LUIS | F12: MA | G12: =SUM(I12:AE12) -> 70 | L12: 50 | Q12: 20
A13: 9 | B13: 04.9413.08 | C13: ARMANDO REIS DA COSTA CAMARGO | D13: VET | E13: ADI / INDAIATUBA SECRETARIA DE ESPORTES | F13: SP | G13: =SUM(I13:AE13) -> 65 | T13: 65
A14: 10 | B14: 04.19768.13 | C14: SEBASTIÃO VICENTE RODRIGUES FILHO | D14: VET | E14: SEME / SANTA BÁRBARA D'OESTE | F14: SP | G14: =SUM(I14:AE14) -> 55 | T14: 55
A15: 11 | B15: 04.1051.04 | C15: LOURIVAL DE SOUZA | D15: VET | E15: MEDICI ASSESSORIA | F15: SP | G15: =SUM(I15:AE15) -> 50 | T15: 50
A16: 12 | B16: 04.25170.15 | C16: JOSE CARLOS FONSECA | D16: VET | E16: AVULSO | F16: SP | G16: =SUM(I16:AE16) -> 45 | T16: 45
A17: 13 | B17: 03.32072.17 | C17: LUIS CARLOS RODRIGUES | D17: VET | E17: AVULSO | F17: PR | G17: =SUM(I17:AE17) -> 40 | V17: 40
A18: 13 | B18: 08.7184.07 | C18: CARLOS DONIZETE MASSULO | D18: VET | E18: CLUBE MAR DEL PLATA DE CICLISMO | F18: MS | G18: =SUM(I18:AE18) -> 40 | U18: 20 | AD18: 20
A19: 13 | B19: 04.25143.15 | C19: CAROLINO DE ANCHIETA PESSOA | D19: VET | E19: AVULSO | F19: SP | G19: =SUM(I19:AE19) -> 40 | T19: 40
A20: 14 | B20: 04.3809.05 | C20: NEIDER CARAM | D20: VET | E20: AVULSO | F20: SP | G20: =SUM(I20:AE20) -> 35 | T20: 35
A21: 15 | B21: 19.17075.12 | C21: JOSE ARLINDO NEVOA | D21: VET | E21: PEDAL BIKERS CLUB - PBC | F21: PI | G21: =SUM(I21:AE21) -> 30 | AA21: 30
A22: 15 | B22: 04.22665.14 | C22: INDALECIO LOPES CORAL | D22: VET | E22: ADI / INDAIATUBA SECRETARIA DE ESPORTES | F22: SP | G22: =SUM(I22:AE22) -> 30 | T22: 30
A23: 16 | B23: 18.8155.08 | C23: ANTONIO FERREIRA DA SILVA VILELA | D23: VET | E23: AVULSO | F23: CE | G23: =SUM(I23:AE23) -> 27.5 | AA23: 27.5
A24: 17 | B24: 05.17414.12 | C24: HERMES SANTANA | D24: VET | E24: PAPALEGUAS | F24: MG | G24: =SUM(I24:AE24) -> 20 | X24: 20
A25: 17 | B25: 12.12008.10 | C25: JOAO CONFESSOR CANDIDO | D25: VET | E25: AVULSO | F25: BA | G25: =SUM(I25:AE25) -> 20 | S25: 20
A26: 17 | B26: 19.23464.14 | C26: JOÃO DE DEUS SOARES FILHO | D26: VET | E26: PEDAL BIKERS CLUB - PBC | F26: PI | G26: =SUM(I26:AE26) -> 20 | O26: 20
A27: 17 | B27: 07.27696.16 | C27: ANANIAS BATISTA D'AVILA | D27: VET | E27: AVULSO | F27: ES | G27: =SUM(I27:AE27) -> 20 | M27: 20
A28: 18 | B28: 13.2241.04 | C28: JOSE ADALBERTO SANTOS | D28: VET | E28: AVULSO | F28: SE | G28: =SUM(I28:AE28) -> 17.5 | AB28: 17.5
