Workbook

Sheet MEL
A1: CONFEDERAÇÃO BRASILEIRA DE CICLISMO | J1: Desafio Paraiso das Aguas de Ciclismo - Maceio-AL - 28/04/2019 | K1: Copa Seel - Belem-PA - 14/04/2019 | L1: 11º Desafio Internacional Serra do Tepequém - Amajari-RR - 14/04/2019 | M1: 52º Circuito do Boa Vista - Joinville-SC - 14/04/2019 | N1: Gran Cup Brasil de Ciclismo - Ubatuba-SP - 14/04/2019 | O1: 7º Desafio Estrada Real de Ciclismo - Simão Pereira-MG - 07/04/2019 | P1: 17ª Corrida de São José - Quixadá-CE - 24/03/2019 | Q1: 31º Prova Ciclística Subida do Morro da Cruz - Florianópolis-SC - 24/03/2019 | R1: 31º Grande Premio Cidade de Curitiba - Curitiba-PR - 24/03/2019 | S1: Copa Patesko de Ciclismo - Campos dos Goytacazes-RJ - 23 e 24/03/2019 | T1: Volta Ciclística de Passo Fundo - Passo Fundo-RS - 23 e 24/03/2019 | U1: Circuito Cidade de Aracaju - Aracaju-SE - 16 e 17/03/2019 | V1: XLI Corrida Ciclística Antonio Assmar/3 Amores - Macapá-AP - 10/03/2019 | W1: 2º Desafio BR230 - Campina Grande-PB - 24/02/2019 | X1: 4º Desafio Sesc Verão de Ciclismo - Sorocaba-SP - 24/02/2019 | Y1: XXXIII GP Israel de Freitas - Macapá-AP - 17/02/2019 | Z1: Speed Racer - Cariacica-ES - 10/02/2019 | AA1: Prova Ciclística do Farol - Campos-RJ - 26 e 27/01/2019
A2: RANKING ESTRADA ELITE MASCULINO | E2: ='Data de Atualização'!$A$1 -> 43595
A3: POS | B3: LICENÇA | C3: CORREDOR | D3: CATEG | E3: EQUIPE | F3: FED | G3: PTOS | J3: 5 | K3: 5 | L3: 5 | M3: 3 | N3: 4 | O3: 4 | P3: 5 | Q3: 3 | R3: 4 | S3: 5 | T3: 5 | U3: 5 | V3: 3 | W3: 5 | X3: 3 | Y3: 5 | Z3: 5 | AA3: 5
A4: 1 | B4: 04.3650.05 | C4: ALAN VALENCIO MANIEZZO | D4: MEL | E4: SÃO FRANCISCO SAÚDE/KLABIN/SME RIBEIRÃO PRETO | F4: SP | G4: =SUM(I4:AA4) -> 145 | M4: 65 | Q4: 55 | X4: 25
A5: 2 | B5: 04.8191.08 | C5: FELIPE CRISTIANO DA PAIXAO MARQUES | D5: MEL | E5: TAUBATÉ CYCLING TEAM / TARUMÃ | F5: SP | G5: =SUM(I5:AA5) -> 98 | O5: 40 | Q5: 40 | X5: 18
A6: 3 | B6: 04.16227.12 | C6: MARCIO LOPES VICENTE | D6: MEL | E6: TROPIX-GUARATINGUETÁ | F6: SP | G6: =SUM(I6:AA6) -> 95 | N6: 40 | X6: 55
A7: 4 | B7: 26.6725.07 | C7: DANIEL SOUZA DOS SANTOS | D7: MEL | E7: TOPAZZA TEAM | F7: AP | G7: =SUM(I7:AA7) -> 90 | V7: 80 | Y7: 10
A8: 4 | B8: 04.930.04 | C8: RODRIGO ARAUJO DE MELO | D8: MEL | E8: FUNVIC PINDAMONHANGABA | F8: SP | G8: =SUM(I8:AA8) -> 90 | P8: 10 | X8: 80
A9: 5 | B9: 04.7991.09 | C9: ANDRÉ EDUARDO GOHR | D9: MEL | E9: FUNVIC PINDAMONHANGABA | F9: SP | G9: =SUM(I9:AA9) -> 80 | Q9: 80
A10: 5 | B10: 04.8783.08 | C10: ENDRIGO DA ROSA PEREIRA | D10: MEL | E10: INDAIATUBA CYCLE TEAM | F10: SP | G10: =SUM(I10:AA10) -> 80 | M10: 80
A11: 6 | B11: 04.16027.12 | C11: FABIO DE ALMEIDA | D11: MEL | E11: TROPIX-GUARATINGUETÁ | F11: SP | G11: =SUM(I11:AA11) -> 76 | N11: 11 | X11: 65
A12: 7 | B12: 04.14276.11 | C12: VITOR GUSTAVO SILVESTRE TEIXEIRA | D12: MEL | E12: SÃO FRANCISCO SAÚDE/KLABIN/SME RIBEIRÃO PRETO | F12: SP | G12: =SUM(I12:AA12) -> 65 | Q12: 65
A13: 8 | B13: 26.9828.10 | C13: KAIK FELLIPH DA SILVA GONÇALVES | D13: MEL | E13: TOPAZZA TEAM | F13: AP | G13: =SUM(I13:AA13) -> 62 | V13: 55 | Y13: 7
A14: 9 | B14: 26.11530.09 | C14: LUCAS GABRIEL MAIA TAVARES | D14: MEL | E14: TOPAZZA TEAM | F14: AP | G14: =SUM(I14:AA14) -> 59 | V14: 50 | Y14: 9
A15: 10 | B15: 06.1503.04 | C15: FABIELE DOS SANTOS MOTA | D15: MEL | E15: UNIÃO CICLÍSTICA DO RIO DE JANEIRO | F15: RJ | G15: =SUM(I15:AA15) -> 53 | P15: 9 | X15: 35 | AA15: 9
A16: 10 | B16: 26.790.04 | C16: ALEX FÁBIO COSTA CORREIA | D16: MEL | E16: TOPAZZA TEAM | F16: AP | G16: =SUM(I16:AA16) -> 53 | V16: 45 | Y16: 8
A17: 11 | B17: 04.4412.05 | C17: FLAVIO CARDOSO SANTOS | D17: MEL | E17: FUNVIC PINDAMONHANGABA | F17: SP | G17: =SUM(I17:AA17) -> 50 | X17: 50
A18: 12 | B18: 26.16568.12 | C18: ARNOM DOUGLAS DA COSTA LOBATO | D18: MEL | E18: TOPAZZA TEAM | F18: AP | G18: =SUM(I18:AA18) -> 46 | V18: 40 | Y18: 6
A19: 13 | B19: 04.559.04 | C19: ARMANDO REIS DA COSTA CAMARGO FILHO | D19: MEL | E19: INDAIATUBA CYCLE TEAM | F19: SP | G19: =SUM(I19:AA19) -> 45 | M19: 45
A20: 14 | B20: 04.7198.07 | C20: CRISTIAN EGIDIO DA ROSA | D20: MEL | E20: SÃO FRANCISCO SAÚDE/KLABIN/SME RIBEIRÃO PRETO | F20: SP | G20: =SUM(I20:AA20) -> 40 | R20: 40
A21: 15 | B21: 02.2911.05 | C21: EDSON LUIZ DE REZENDE | D21: MEL | E21: AVAI/FME FLORIANÓPOLIS/APGF | F21: SC | G21: =SUM(I21:AA21) -> 39 | M21: 35 | Q21: 4
A22: 16 | B22: 03.7651.07 | C22: FERNANDO SIKORA JUNIOR | D22: MEL | E22: CLUBE MARINGAENSE DE CICLISMO | F22: PR | G22: =SUM(I22:AA22) -> 35 | R22: 35
A23: 16 | B23: 02.534.04 | C23: DANIEL CARNEIRO BRUM RIBEIRO ZÓIA | D23: MEL | E23: CORINTHIANS AUDAX BIKE TEAM | F23: SC | G23: =SUM(I23:AA23) -> 35 | O23: 35
A24: 17 | B24: 04.133.04 | C24: RAFAEL DE MATTOS ANDRIATO | D24: MEL | E24: SÃO FRANCISCO SAÚDE/KLABIN/SME RIBEIRÃO PRETO | F24: SP | G24: =SUM(I24:AA24) -> 30 | R24: 30
A25: 17 | B25: 04.4104.05 | C25: MAURICIO BIELINSKI KNAPP | D25: MEL | E25: SÃO FRANCISCO SAÚDE/KLABIN/SME RIBEIRÃO PRETO | F25: SP | G25: =SUM(I25:AA25) -> 30 | Q25: 30
A26: 17 | B26: 02.1861.04 | C26: JAIR FERNANDO DOS SANTOS | D26: MEL | E26: FMD RIO DO SUL | F26: SC | G26: =SUM(I26:AA26) -> 30 | M26: 5 | Q26: 25
A27: 17 | B27: 02.18015.13 | C27: FERNANDO AUGUSTO FINKLER | D27: MEL | E27: AVAI/FME FLORIANÓPOLIS/APGF | F27: SC | G27: =SUM(I27:AA27) -> 30 | M27: 15 | Q27: 15
A28: 18 | B28: 04.2833.05 | C28: MARCIO FERREIRA BIGAI | D28: MEL | E28: TAUBATÉ CYCLING TEAM / TARUMÃ | F28: SP | G28: =SUM(I28:AA28) -> 27 | M28: 21 | Q28: 6
A29: 19 | B29: 16.4137.05 | C29: PEDRO PAULO ALVES DA SILVA | D29: MEL | E29: AVULSO | F29: PB | G29: =SUM(I29:AA29) -> 26 | J29: 10 | P29: 6 | W29: 10
A30: 20 | B30: 26.36571.18 | C30: THOMAS JHORDAN ALVES | D30: MEL | E30: ASSISTEC CICLO TEAM | F30: AP | G30: =SUM(I30:AA30) -> 25 | V30: 25
A31: 21 | B31: 04.10699.10 | C31: ALESSANDRO FERREIRA SANTOS GUIMARÃES | D31: MEL | E31: SÃO FRANCISCO SAÚDE/KLABIN/SME RIBEIRÃO PRETO | F31: SP | G31: =SUM(I31:AA31) -> 20 | R31: 20
A32: 21 | B32: 05.32906.17 | C32: GUILHERME SVIZZERO RIBEIRO | D32: MEL | E32: ELETRIC VOICE TELECOM | F32: MG | G32: =SUM(I32:AA32) -> 20 | O32: 20
A33: 22 | B33: 02.28563.16 | C33: LAÉRCIO JOSÉ SILVEIRA | D33: MEL | E33: BRUCICLE - ASSOCIAÇÃO BRUSQUENSE DE CICLISMO | F33: SC | G33: =SUM(I33:AA33) -> 19 | M33: 8 | Q33: 11
A34: 23 | B34: 03.8062.09 | C34: FERNANDO ZANATTA | D34: MEL | E34: CLUBE MARINGAENSE DE CICLISMO | F34: PR | G34: =SUM(I34:AA34) -> 17 | R34: 17
A35: 23 | B35: 06.26130.15 | C35: DIONNAS ALEXANDRE SOARES | D35: MEL | E35: FÊNIX CICLISMO | F35: RJ | G35: =SUM(I35:AA35) -> 17 | O35: 17
A36: 23 | B36: 04.16160.12 | C36: LEANDRO MENDES DA SILVA GUIMANELI | D36: MEL | E36: TROPIX-GUARATINGUETÁ | F36: SP | G36: =SUM(I36:AA36) -> 17 | N36: 17
A37: 24 | B37: 09.3573.05 | C37: MARCOS AURELIO PEREIRA SILVA | D37: MEL | E37: AVULSO | F37: GO | G37: =SUM(I37:AA37) -> 15 | O37: 15
A38: 24 | B38: 04.1688.04 | C38: LEONARDO VIEIRA LIMA | D38: MEL | E38: AC SRT PROCYCLING | F38: SP | G38: =SUM(I38:AA38) -> 15 | N38: 15
A39: 25 | B39: 04.612.04 | C39: LUIS CARLOS AMORIN FERRÃO TAVARES | D39: MEL | E39: MEMORIAL / SANTOS / FUPES | F39: SP | G39: =SUM(I39:AA39) -> 13 | N39: 5 | X39: 8
A40: 25 | B40: 26.35773.18 | C40: FERNANDO DE LIMA DIAS | D40: MEL | E40: EQUIPE FÊNIX DE CICLISMO AMAPAENSE | F40: AP | G40: =SUM(I40:AA40) -> 13 | V40: 13
...

Sheet M23
A1: CONFEDERAÇÃO BRASILEIRA DE CICLISMO | J1: Desafio Paraiso das Aguas de Ciclismo - Maceio-AL - 28/04/2019 | K1: Copa Seel - Belem-PA - 14/04/2019 | L1: 52º Circuito do Boa Vista - Joinville-SC - 14/04/2019 | M1: Gran Cup Brasil de Ciclismo - Ubatuba-SP - 14/04/2019 | N1: 7º Desafio Estrada Real de Ciclismo - Simão Pereira-MG - 07/04/2019 | O1: 31º Prova Ciclística Subida do Morro da Cruz - Florianópolis-SC - 24/03/2019 | P1: 31º Grande Premio Cidade de Curitiba - Curitiba-PR - 24/03/2019 | Q1: Copa Patesko de Ciclismo - Campos dos Goytacazes-RJ - 23 e 24/03/2019 | R1: Circuito Cidade de Aracaju - Aracaju-SE - 16 e 17/03/2019 | S1: XLI Corrida Ciclística Antonio Assmar/3 Amores - Macapá-AP - 10/03/2019 | T1: 4º Desafio Sesc Verão de Ciclismo - Sorocaba-SP - 24/02/2019 | U1: XXXIII GP Israel de Freitas - Macapá-AP - 17/02/2019 | V1: Speed Racer - Cariacica-ES - 10/02/2019 | W1: Prova Ciclística do Farol - Campos-RJ - 26 e 27/01/2019
A2: RANKING ESTRADA SUB 23 MASCULINO | E2: ='Data de Atualização'!$A$1 -> 43595
A3: POS | B3: LICENÇA | C3: CORREDOR | D3: CATEG | E3: EQUIPE | F3: FED | G3: PTOS | J3: 5 | K3: 5 | L3: 3 | M3: 4 | N3: 4 | O3: 3 | P3: 4 | Q3: 5 | R3: 5 | S3: 3 | T3: 3 | U3: 5 | V3: 5 | W3: 5
A4: 1 | B4: 04.14613.11 | C4: FABIO PEREIRA DALAMARIA | D4: M23 | E4: TAUBATÉ CYCLING TEAM / TARUMÃ | F4: SP | G4: =SUM(I4:W4) -> 106 | L4: 50 | O4: 35 | T4: 21
A5: 2 | B5: 04.14614.11 | C5: RICARDO PEREIRA DALAMARIA | D5: M23 | E5: TAUBATÉ CYCLING TEAM / TARUMÃ | F5: SP | G5: =SUM(I5:W5) -> 85 | L5: 40 | T5: 45
A6: 2 | B6: 04.16241.12 | C6: ALISON FERREIRA DE SOUZA | D6: M23 | E6: AC SRT PRO CYCLING | F6: SP | G6: =SUM(I6:W6) -> 85 | M6: 25 | N6: 30 | T6: 30
A7: 3 | B7: 26.28057.16 | C7: MARCUS VENICIUS PANTOJA DOS SANTOS | D7: M23 | E7: TOPAZZA TEAM | F7: AP | G7: =SUM(I7:W7) -> 65 | S7: 65
A8: 4 | B8: 03.14204.11 | C8: LINCOLN DO VALE SILVA | D8: M23 | E8: CLUBE MARINGAENSE DE CICLISMO | F8: PR | G8: =SUM(I8:W8) -> 50 | L8: 25 | P8: 25
A9: 5 | B9: 04.16256.12 | C9: IGOR TEODORO MOLINA | D9: M23 | E9: FUNVIC PINDAMONHANGABA | F9: SP | G9: =SUM(I9:W9) -> 40 | T9: 40
A10: 6 | B10: 04.35719.18 | C10: GUILHERME HENRIQUE BARCELOS SOARES | D10: M23 | E10: INSTITUTO ATHLON / SÃO JOSÉ DOS CAMPOS | F10: SP | G10: =SUM(I10:W10) -> 35 | M10: 35
A11: 7 | B11: 26.35769.18 | C11: FÁBIO FRANÇA COSTA | D11: M23 | E11: MAGNA - SOCIEDADE ESPORTIVA RONILDO NOBRE | F11: AP | G11: =SUM(I11:W11) -> 30 | S11: 30
A12: 8 | B12: 26.36572.18 | C12: RWHANDEMBERG SOUSA E SILVA | D12: M23 | E12: ASSISTEC CICLO TEAM | F12: AP | G12: =SUM(I12:W12) -> 21 | S12: 21
A13: 9 | B13: 03.18931.13 | C13: VICTOR CESAR RANGHETTI | D13: M23 | E13: CLUBE DATARO DE CICLISMO | F13: SP | G13: =SUM(I13:W13) -> 19 | L13: 3 | P13: 15 | T13: 1
A14: 10 | B14: 26.38046.19 | C14: FERNANDO MARTINS PINHEIRO | D14: M23 | E14: ASSISTEC CICLO TEAM | F14: AP | G14: =SUM(I14:W14) -> 18 | S14: 18
A15: 10 | B15: 04.31484.17 | C15: FELIPE APARECIDO BRITO RONZANI | D15: M23 | E15: SÃO FRANCISCO SAÚDE/KLABIN/SME RIBEIRÃO PRETO | F15: SP | G15: =SUM(I15:W15) -> 18 | O15: 18
A16: 11 | B16: 26.36525.18 | C16: LUCAS GABRIEL ATAÍDE DE ALENCAR | D16: M23 | E16: PAPA LÉGUAS CYCLING TEAM | F16: AP | G16: =SUM(I16:W16) -> 16 | S16: 15 | U16: 1
A17: 12 | B17: 06.27577.15 | C17: LUIS FERNANDO FORTUNATO DE FREITAS | D17: M23 | E17: XTREME SPIRIT MTB | F17: RJ | G17: =SUM(I17:W17) -> 14 | Q17: 9 | W17: 5
A18: 13 | B18: 04.21914.14 | C18: ARTHUR BRANDINO DOS SANTOS | D18: M23 | E18: ABEC RIO CLARO | F18: SP | G18: =SUM(I18:W18) -> 13 | T18: 13
A19: 14 | B19: 06.28070.16 | C19: DANIEL BRENNER AREIA DE BARROS | D19: M23 | E19: UNIÃO CICLÍSTICA DO RIO DE JANEIRO | F19: RJ | G19: =SUM(I19:W19) -> 9 | Q19: 5 | W19: 4
A20: 15 | B20: 26.27406.15 | C20: EMERSON MATEUS DE SOUZA | D20: M23 | E20: PAPA LÉGUAS CYCLING TEAM | F20: AP | G20: =SUM(I20:W20) -> 8 | K20: 3 | U20: 5
A21: 16 | B21: 04.16209.12 | C21: MATHEUS ANTONIO DA SILVA BRAZ | D21: M23 | E21: ABEC RIO CLARO | F21: SP | G21: =SUM(I21:W21) -> 7 | T21: 7
A22: 16 | B22: 13.28822.16 | C22: ALYSSON RODRIGO COSTA MOURA | D22: M23 | E22: AVULSO | F22: SE | G22: =SUM(I22:W22) -> 7 | R22: 7
A23: 16 | B23: 22.31377.17 | C23: MATEUS VINICIUS DA CUNHA MARQUES | D23: M23 | E23: ZÊNITE HARD BIKE | F23: PA | G23: =SUM(I23:W23) -> 7 | K23: 7
A24: 17 | B24: 07.31491.17 | C24: LUCAS LIMA RAMOS | D24: M23 | E24: BRASIL COSTELO TEAM - BRC | F24: ES | G24: =SUM(I24:W24) -> 6 | V24: 6
A25: 18 | B25: 06.33840.17 | C25: LUCAS FELIX RIBEIRO DA SILVA | D25: M23 | E25: XTREME SPIRIT MTB | F25: RJ | G25: =SUM(I25:W25) -> 5 | Q25: 3 | W25: 2
A26: 19 | B26: 04.32648.17 | C26: EULLER MAGNO RABELO | D26: M23 | E26: FUNVIC PINDAMONHANGABA | F26: SP | G26: =SUM(I26:W26) -> 4 | T26: 4
A27: 19 | B27: 03.26125.15 | C27: IVAN GUILHERME MORSCH DE ANDRADE | D27: M23 | E27: SMELJ CURITIBA | F27: PR | G27: =SUM(I27:W27) -> 4 | P27: 4
A28: 19 | B28: 14.29054.16 | C28: MARCOS ROBERTO DE LIMA FILHO | D28: M23 | E28: AVULSO | F28: AL | G28: =SUM(I28:W28) -> 4 | J28: 4
A29: 20 | B29: 03.22564.14 | C29: VINÍCIUS DO NASCIMENTO GUSSOLLI | D29: M23 | E29: SMEL FOZ DO IGUAÇU | F29: PR | G29: =SUM(I29:W29) -> 3 | P29: 3
A30: 20 | B30: 04.39153.19 | C30: LUIZ AUGUSTO MOTA DOS SANTOS FILHO | D30: M23 | E30: AVULSO | F30: SP | G30: =SUM(I30:W30) -> 3 | M30: 3
A31: 20 | B31: 14.23639.14 | C31: MATEUS RENAN TORRES | D31: M23 | E31: AVULSO | F31: AL | G31: =SUM(I31:W31) -> 3 | J31: 3
A32: 21 | B32: 26.37635.19 | C32: GLEYDESON CHISTHIAN DE SOUZA CASTRO | D32: M23 | E32: PAPA LÉGUAS CYCLING TEAM | F32: AP | G32: =SUM(I32:W32) -> 2 | U32: 2
A33: 21 | B33: 03.25065.15 | C33: PEDRO GUILHERME VOLPATO ROSSI | D33: M23 | E33: CLUBE MARINGAENSE DE CICLISMO | F33: PR | G33: =SUM(I33:W33) -> 2 | P33: 2
A34: 21 | B34: 04.23188.14 | C34: BRUNO MARTINS ROBERTO | D34: M23 | E34: TROPIX-GUARATINGUETÁ | F34: SP | G34: =SUM(I34:W34) -> 2 | M34: 2
A35: 21 | B35: 14.22235.14 | C35: JOHN WELLEY DA SILVA | D35: M23 | E35: AVULSO | F35: AL | G35: =SUM(I35:W35) -> 2 | J35: 2
A36: 22 | B36: 06.389191.19 | C36: GERALDO PEREIRA CHAVES NETO | D36: M23 | E36: AVULSO | F36: RJ | G36: =SUM(I36:W36) -> 1 | W36: 1
D37: M23 | G37: =SUM(I37:W37) -> 0
D38: M23 | G38: =SUM(I38:W38) -> 0

Sheet MJR
A1: CONFEDERAÇÃO BRASILEIRA DE CICLISMO | J1: Desafio Paraiso das Aguas de Ciclismo - Maceio-AL - 28/04/2019 | K1: Copa Seel - Belem-PA - 14/04/2019 | L1: 11º Desafio Internacional Serra do Tepequém - Amajari-RR - 14/04/2019 | M1: 52º Circuito do Boa Vista - Joinville-SC - 14/04/2019 | N1: Gran Cup Brasil de Ciclismo - Ubatuba-SP - 14/04/2019 | O1: 17ª Corrida de São José - Quixadá-CE - 24/03/2019 | P1: 31º Grande Premio Cidade de Curitiba - Curitiba-PR - 24/03/2019 | Q1: Volta Ciclística de Passo Fundo - Passo Fundo-RS - 23 e 24/03/2019 | R1: Circuito Cidade de Aracaju - Aracaju-SE - 16 e 17/03/2019 | S1: XLI Corrida Ciclística Antonio Assmar/3 Amores - Macapá-AP - 10/03/2019 | T1: 4º Desafio Sesc Verão de Ciclismo - Sorocaba-SP - 24/02/2019 | U1: XXXIII GP Israel de Freitas - Macapá-AP - 17/02/2019 | V1: Speed Racer - Cariacica-ES - 10/02/2019 | W1: Prova Ciclística do Farol - Campos-RJ - 26 e 27/01/2019
A2: RANKING ESTRADA JUNIOR MASCULINO | E2: ='Data de Atualização'!$A$1 -> 43595
A3: POS | B3: LICENÇA | C3: CORREDOR | D3: CATEG | E3: EQUIPE | F3: FED | G3: PTOS | J3: 5 | K3: 5 | L3: 5 | M3: 3 | N3: 4 | O3: 5 | P3: 4 | Q3: 5 | R3: 5 | S3: 3 | T3: 3 | U3: 5 | V3: 5 | W3: 5 | X3: 5
A4: 1 | B4: 02.32061.17 | C4: PEDRO FIGUEIREDO LEME | D4: MJR | E4: AVULSO | F4: SC | G4: =SUM(I4:W4) -> 97.5 | N4: 17.5 | T4: 80
A5: 2 | B5: 03.33333.17 | C5: HARAN MAXWEL RODRIGUES | D5: MJR | E5: ASSOCIAÇÃO CICLÍSTICA DESPORTIVA | F5: PR | G5: =SUM(I5:W5) -> 95 | M5: 55 | P5: 40
A6: 3 | B6: 02.18042.13 | C6: ALAN FAGHERAZZI LABATUT | D6: MJR | E6: ASSOCIAÇÃO JOINVILLENSE DE CICLISMO - AJOCICLO | F6: SC | G6: =SUM(I6:W6) -> 89 | M6: 80 | Q6: 9
A7: 4 | B7: 22.36873.18 | C7: HYGOR IGLESIAS GOMES DA LUZ | D7: MJR | E7: ZÊNITE HARD BIKE | F7: PA | G7: =SUM(I7:W7) -> 88 | K7: 8 | S7: 80
A8: 5 | B8: 03.33435.17 | C8: OTAVIO AUGUSTO GONZELI | D8: MJR | E8: SMELJ CURITIBA | F8: PR | G8: =SUM(I8:W8) -> 82 | M8: 65 | P8: 17
A9: 6 | B9: 04.23095.14 | C9: VINICIUS SILVA GOMES LEITE | D9: MJR | E9: AVULSO | F9: SP | G9: =SUM(I9:W9) -> 70 | N9: 15 | T9: 55
A10: 6 | B10: 03.28815.16 | C10: VINICIUS GUIMARAES DA CRUZ | D10: MJR | E10: ASSOCIAÇÃO CICLÍSTICA DESPORTIVA | F10: PR | G10: =SUM(I10:W10) -> 70 | M10: 35 | P10: 35
A11: 7 | B11: 26.38232.19 | C11: GUSTAVO AVIZ DA SILVA | D11: MJR | E11: EXPEDIÇÃO FRONTEIRAS | F11: AP | G11: =SUM(I11:W11) -> 65 | S11: 65
A12: 7 | B12: 03.28763.16 | C12: MIKAEL LOVRIN | D12: MJR | E12: ASSOCIAÇÃO CICLÍSTICA DESPORTIVA | F12: PR | G12: =SUM(I12:W12) -> 65 | M12: 40 | P12: 25
A13: 8 | B13: 26.29149.16 | C13: PEDRO HENRIQUE PESSOA GOMES | D13: MJR | E13: AVULSO | F13: AP | G13: =SUM(I13:W13) -> 59 | S13: 50 | U13: 9
A14: 9 | B14: 26.35646.18 | C14: DALMO JONATHAN PANTOJA ROCHA | D14: MJR | E14: PAPA LÉGUAS CYCLING TEAM | F14: AP | G14: =SUM(I14:W14) -> 55 | S14: 55
A15: 10 | B15: 04.35163.18 | C15: SERGIO DA NAVE NETO | D15: MJR | E15: AC SRT PRO CYCLING | F15: SP | G15: =SUM(I15:W15) -> 50 | T15: 50
A16: 10 | B16: 02.32084.17 | C16: RENAN LADEWIG QUADRI | D16: MJR | E16: FMD RIO DO SUL | F16: SC | G16: =SUM(I16:W16) -> 50 | M16: 50
A17: 11 | B17: 22.31485.17 | C17: RENATO VINICIUS DA SILVA XAVIER | D17: MJR | E17: ZÊNITE HARD BIKE | F17: PA | G17: =SUM(I17:W17) -> 49 | K17: 9 | S17: 40
A18: 12 | B18: 02.36648.18 | C18: EDUARDO THIESEN | D18: MJR | E18: AVAI/FME FLORIANÓPOLIS/APGF | F18: SC | G18: =SUM(I18:W18) -> 45 | M18: 45
A19: 13 | B19: 26.34400.18 | C19: TAYLLER WENDELL BOTELHO ESTEVES | D19: MJR | E19: EQUIPE FÊNIX DE CICLISMO AMAPAENSE | F19: AP | G19: =SUM(I19:W19) -> 40 | S19: 30 | U19: 10
A20: 14 | B20: 26.36915.18 | C20: IAN GABRIEL PALHETA NERY | D20: MJR | E20: PAPA LÉGUAS CYCLING TEAM | F20: AP | G20: =SUM(I20:W20) -> 36 | K20: 5 | S20: 25 | U20: 6
A21: 15 | B21: 22.33118.17 | C21: DANILO MENDES DE OLIVEIRA | D21: MJR | E21: ZÊNITE HARD BIKE | F21: PA | G21: =SUM(I21:W21) -> 35 | S21: 35
A22: 16 | B22: 03.29681.16 | C22: FELIPE KRIZONOSKI | D22: MJR | E22: CLUBE MARINGAENSE DE CICLISMO | F22: PR | G22: =SUM(I22:W22) -> 30 | P22: 30
A23: 16 | B23: 02.28041.16 | C23: ANDRÉ DOS SANTOS | D23: MJR | E23: PORTAL TIMBÓ NET | F23: SC | G23: =SUM(I23:W23) -> 30 | M23: 30
A24: 17 | B24: 02.37649.19 | C24: MATHEUS GARCIA | D24: MJR | E24: ACIBLU/BLUMENAU | F24: SC | G24: =SUM(I24:W24) -> 25 | M24: 25
A25: 18 | B25: 26.35775.18 | C25: DAVI GABRIEL DO NASCIEMNTO SENA | D25: MJR | E25: EQUIPE FÊNIX DE CICLISMO AMAPAENSE | F25: AP | G25: =SUM(I25:W25) -> 21 | S25: 21
A26: 19 | B26: 26.38463.19 | C26: MARLO TAVARES DUARTE | D26: MJR | E26: EXPEDIÇÃO FRONTEIRAS | F26: AP | G26: =SUM(I26:W26) -> 18 | S26: 18
A27: 19 | B27: 02.37933.19 | C27: NATHAN ZAGO HAITHER | D27: MJR | E27: ASSOCIAÇÃO JOINVILLENSE DE CICLISMO - AJOCICLO | F27: SC | G27: =SUM(I27:W27) -> 18 | M27: 18
A28: 20 | B28: 02.32474.17 | C28: HUMBERTO MOLON SERAFIM | D28: MJR | E28: APGF/SÃO JOSÉ/AVAÍ F.C. | F28: SC | G28: =SUM(I28:W28) -> 15 | M28: 15
A29: 21 | B29: 03.22420.14 | C29: THIAGO HENRIQUE MAGRO DE MEDEIROS | D29: MJR | E29: ASSOCIAÇÃO LONDRINENSE DE CICLISMO | F29: PR | G29: =SUM(I29:W29) -> 13 | P29: 13
A30: 22 | B30: 13.36584.18 | C30: GONÇALO NERES DE MELO JUNIOR | D30: MJR | E30: AVULSO | F30: SE | G30: =SUM(I30:W30) -> 12.5 | J30: 4.5 | R30: 8
A31: 23 | B31: 03.29822.16 | C31: GUSTAVO HENRIQUE DOS SANTOS DOMINGOS | D31: MJR | E31: AVULSO | F31: PR | G31: =SUM(I31:W31) -> 11 | P31: 11
A32: 23 | B32: 02.11112.10 | C32: VINICIUS SCHMIDT | D32: MJR | E32: BLACK BULL | F32: SC | G32: =SUM(I32:W32) -> 11 | M32: 11
A33: 24 | B33: 18.29137.16 | C33: GABRIEL CANDIDO DE SOUSA | D33: MJR | E33: JOÃO CICLO CANNONDALE TEAM | F33: CE | G33: =SUM(I33:W33) -> 10 | O33: 10
A34: 24 | B34: 22.30442.16 | C34: LUAN DIEGO ROSARIO DA SILVA | D34: MJR | E34: ACP PIRABAS | F34: PA | G34: =SUM(I34:W34) -> 10 | K34: 10
A35: 25 | B35: 07.27601.15 | C35: ALEXANDRE FIORIO CARDOSO | D35: MJR | E35: BRASIL COSTELO TEAM - BRC | F35: ES | G35: =SUM(I35:W35) -> 9 | V35: 5 | W35: 4
A36: 26 | B36: 07.31808.17 | C36: PEDRO HENRIQUE FIORIO CARDOSO | D36: MJR | E36: BRASIL COSTELO TEAM - BRC | F36: ES | G36: =SUM(I36:W36) -> 8.5 | V36: 4 | W36: 4.5
A37: 27 | B37: 26.34627.18 | C37: JOÃO PEDRO COSTA RAMOS | D37: MJR | E37: EXPEDIÇÃO FRONTEIRAS | F37: AP | G37: =SUM(I37:W37) -> 7 | U37: 7
A38: 28 | B38: 13.34879.18 | C38: FELIPE LEONARDO BOMFIM SOARES | D38: MJR | E38: AVULSO | F38: SE | G38: =SUM(I38:W38) -> 6 | R38: 6
A39: 28 | B39: 01.24350.15 | C39: DAVI GABRIEL BALUS DOS SANTOS | D39: MJR | E39: EQUIPE ACIVAS TAURA | F39: RS | G39: =SUM(I39:W39) -> 6 | Q39: 6
A40: 28 | B40: 18.34354.18 | C40: JOSENILDO DE ALMEIDA DO NASCIMENTO FILHO | D40: MJR | E40: AVULSO | F40: CE | G40: =SUM(I40:W40) -> 6 | O40: 6
...

Sheet MJUV
A1: CONFEDERAÇÃO BRASILEIRA DE CICLISMO | J1: Desafio Paraiso das Aguas de Ciclismo - Maceio-AL - 28/04/2019 | K1: Copa Seel - Belem-PA - 14/04/2019 | L1: 52º Circuito do Boa Vista - Joinville-SC - 14/04/2019 | M1: Gran Cup Brasil de Ciclismo - Ubatuba-SP - 14/04/2019 | N1: 17ª Corrida de São José - Quixadá-CE - 24/03/2019 | O1: 31º Prova Ciclística Subida do Morro da Cruz - Florianópolis-SC - 24/03/2019 | P1: 31º Grande Premio Cidade de Curitiba - Curitiba-PR - 24/03/2019 | Q1: Volta Ciclística de Passo Fundo - Passo Fundo-RS - 23 e 24/03/2019 | R1: Circuito Cidade de Aracaju - Aracaju-SE - 16 e 17/03/2019 | S1: XLI Corrida Ciclística Antonio Assmar/3 Amores - Macapá-AP - 10/03/2019 | T1: 2º Desafio BR230 - Campina Grande-PB - 24/02/2019 | U1: 4º Desafio Sesc Verão de Ciclismo - Sorocaba-SP - 24/02/2019 | V1: XXXIII GP Israel de Freitas - Macapá-AP - 17/02/2019
A2: RANKING ESTRADA JUVENIL MASCULINO | E2: ='Data de Atualização'!$A$1 -> 43595
A3: POS | B3: LICENÇA | C3: CORREDOR | D3: CATEG | E3: EQUIPE | F3: FED | G3: PTOS | J3: 5 | K3: 5 | L3: 3 | M3: 4 | N3: 5 | O3: 3 | P3: 4 | Q3: 5 | R3: 5 | S3: 3 | T3: 5 | U3: 3 | V3: 5
A4: 1 | B4: 02.38288.19 | C4: VINICIUS MEMLAK | D4: MJUV | E4: AVAI/FME FLORIANÓPOLIS/APGF | F4: SC | G4: =SUM(I4:V4) -> 145 | L4: 65 | O4: 80
A5: 2 | B5: 03.30102.16 | C5: LUAN CARLOS RODRIGUES SILVA | D5: MJUV | E5: SMELJ CURITIBA | F5: PR | G5: =SUM(I5:V5) -> 115 | L5: 80 | P5: 35
A6: 3 | B6: 04.32096.17 | C6: GUSTAVO TONIATTI OLIVEIRA | D6: MJUV | E6: MEMORIAL / SANTOS / FUPES | F6: SP | G6: =SUM(I6:V6) -> 100 | M6: 20 | U6: 80
A7: 4 | B7: 04.35944.18 | C7: JULIO MATEUS ANTUNES SILVA | D7: MJUV | E7: MEMORIAL / SANTOS / FUPES | F7: SP | G7: =SUM(I7:V7) -> 80 | P7: 15 | U7: 65
A8: 5 | B8: 03.24998.15 | C8: THIAGO LUIS CRUZ DA SILVA | D8: MJUV | E8: SMEL FOZ DO IGUAÇU | F8: PR | G8: =SUM(I8:V8) -> 75 | L8: 55 | P8: 20
A9: 6 | B9: 02.38014.19 | C9: LUIS FELIPPE FERREIRA | D9: MJUV | E9: ASSOCIAÇÃO JOINVILLENSE DE CICLISMO - AJOCICLO | F9: SC | G9: =SUM(I9:V9) -> 70 | L9: 25 | O9: 45
A10: 7 | B10: 03.28844.16 | C10: RAFAEL LOVRIN | D10: MJUV | E10: ASSOCIAÇÃO CICLÍSTICA DESPORTIVA | F10: PR | G10: =SUM(I10:V10) -> 67 | L10: 50 | P10: 17
A11: 8 | B11: 02.27749.16 | C11: ERIC FAGHERAZZI LABATUT | D11: MJUV | E11: ASSOCIAÇÃO JOINVILLENSE DE CICLISMO - AJOCICLO | F11: SC | G11: =SUM(I11:V11) -> 53 | L11: 45 | Q11: 8
A12: 9 | B12: 02.37709.19 | C12: NATAN STEUCK | D12: MJUV | E12: FME TIMBÓ | F12: SC | G12: =SUM(I12:V12) -> 50 | O12: 50
A13: 10 | B13: 26.35768.18 | C13: RUAN GUILHERME FURTADO PICANÇO | D13: MJUV | E13: TOPAZZA TEAM | F13: AP | G13: =SUM(I13:V13) -> 45 | S13: 40 | V13: 5
A14: 11 | B14: 03.30186.16 | C14: KAWAN GABRIEL DA SILVA SOUZA | D14: MJUV | E14: SMEL FOZ DO IGUAÇU | F14: PR | G14: =SUM(I14:V14) -> 40 | P14: 40
A15: 11 | B15: 02.34533.18 | C15: MATHEUS COAN | D15: MJUV | E15: EQMAX/FMD SÃO BENTO DO SUL/ASBCICLO | F15: SC | G15: =SUM(I15:V15) -> 40 | L15: 40
A16: 12 | B16: 26.34398.18 | C16: FELIPE DE PAULA COUTINHO | D16: MJUV | E16: PAPA LÉGUAS CYCLING TEAM | F16: AP | G16: =SUM(I16:V16) -> 37 | S16: 32.5 | V16: 4.5
A17: 13 | B17: 02.37725.19 | C17: GEUFER PROTSKA | D17: MJUV | E17: AVULSO | F17: SC | G17: =SUM(I17:V17) -> 35 | L17: 35
A18: 14 | B18: 03.29745.16 | C18: GUSTAVO DE JESUS SALIN | D18: MJUV | E18: PREFEITURA MUNICIPAL DE ROLÂNDIA | F18: PR | G18: =SUM(I18:V18) -> 30 | P18: 30
A19: 15 | B19: 03.34614.18 | C19: GABRIEL DE SÁ SENHORELI | D19: MJUV | E19: PREFEITURA MUNICIPAL DE ROLÂNDIA | F19: PR | G19: =SUM(I19:V19) -> 25 | P19: 25
A20: 16 | B20: 03.36477.18 | C20: BRENO MOIZES MATHEUS | D20: MJUV | E20: SMEL FOZ DO IGUAÇU | F20: PR | G20: =SUM(I20:V20) -> 13 | P20: 13
A21: 17 | B21: 03.25238.15 | C21: JOÃO VITOR DE OLIVEIRA VERZA | D21: MJUV | E21: SMEL FOZ DO IGUAÇU | F21: PR | G21: =SUM(I21:V21) -> 11 | P21: 11
A22: 18 | B22: 13.28185.16 | C22: KAIK ALESSANDRO SOUZA FEITOSA | D22: MJUV | E22: AVULSO | F22: SE | G22: =SUM(I22:V22) -> 10 | J22: 5 | R22: 5
A23: 18 | B23: 22.39121.19 | C23: RODRIGO RUAN DA SILVA XAVIER | D23: MJUV | E23: ZÊNITE HARD BIKE | F23: PA | G23: =SUM(I23:V23) -> 10 | K23: 10
A24: 19 | B24: 14.35989.18 | C24: VINICIUS RAFAEL DE LIMA NUNES | D24: MJUV | E24: AVULSO | F24: AL | G24: =SUM(I24:V24) -> 9 | J24: 4.5 | R24: 4.5
A25: 19 | B25: 02.37701.19 | C25: IAN FRANCESCHINI MARAN | D25: MJUV | E25: ACC - ASSOCIAÇÃO CONCORDIENSE CICLISMO | F25: SC | G25: =SUM(I25:V25) -> 9 | Q25: 9
A26: 19 | B26: 03.33559.17 | C26: LINCOLN EMANUEL DA SILVA | D26: MJUV | E26: CLUBE MARINGAENSE DE CICLISMO | F26: PR | G26: =SUM(I26:V26) -> 9 | P26: 9
A27: 20 | B27: 01.35813.18 | C27: LUCAS FRANZOLOZO SIGNORI | D27: MJUV | E27: ABC CONCRESUL | F27: RS | G27: =SUM(I27:V27) -> 7 | Q27: 7
A28: 20 | B28: 03.36270.18 | C28: MATHEUS DA SILVA LUNARDELLI | D28: MJUV | E28: CLUBE MARINGAENSE DE CICLISMO | F28: PR | G28: =SUM(I28:V28) -> 7 | P28: 7
A29: 20 | B29: 22.37002.18 | C29: ALLISON DOS SANTOS PEREIRA | D29: MJUV | E29: ZÊNITE HARD BIKE | F29: PA | G29: =SUM(I29:V29) -> 7 | K29: 7
A30: 21 | B30: 01.35815.18 | C30: GABRIEL SOUSA SILVA | D30: MJUV | E30: ASSOCIAÇÃO SPEED E MOUNTAIN BIKE VACARIA | F30: RS | G30: =SUM(I30:V30) -> 6 | Q30: 6
A31: 21 | B31: 22.37007.18 | C31: YURI PEREIRA MIRANDA | D31: MJUV | E31: ZÊNITE HARD BIKE | F31: PA | G31: =SUM(I31:V31) -> 6 | K31: 6
A32: 22 | B32: 16.38303.19 | C32: JEREMAIS WALYSON DOS SANTOS | D32: MJUV | E32: ASEAC-ASSOCIAÇÃO SOLEDADENSE DE ESPORTES E APOIO AO CICLISTA | F32: PB | G32: =SUM(I32:V32) -> 5 | T32: 5
A33: 22 | B33: 03.32611.17 | C33: LEONARDO MARTINS DA SILVA | D33: MJUV | E33: SMEL FOZ DO IGUAÇU | F33: PR | G33: =SUM(I33:V33) -> 5 | P33: 5
A34: 23 | B34: 04.38408.19 | C34: GABRIEL FREIRE DA SILVA | D34: MJUV | E34: AVULSO | F34: PR | G34: =SUM(I34:V34) -> 4 | P34: 4
A35: 24 | B35: 17.30421.16 | C35: FERNANDO BRENO MACIEL VENÂNCIO | D35: MJUV | E35: PLANETA BIKE | F35: RN | G35: =SUM(I35:V35) -> 3.5 | N35: 3.5
D36: MJUV | G36: =SUM(I36:V36) -> 0
D37: MJUV | G37: =SUM(I37:V37) -> 0
D38: MJUV | G38: =SUM(I38:V38) -> 0

Sheet MINF
A1: CONFEDERAÇÃO BRASILEIRA DE CICLISMO | J1: Copa Seel - Belem-PA - 14/04/2019 | K1: 52º Circuito do Boa Vista - Joinville-SC - 14/04/2019 | L1: 31º Prova Ciclística Subida do Morro da Cruz - Florianópolis-SC - 24/03/2019 | M1: 31º Grande Premio Cidade de Curitiba - Curitiba-PR - 24/03/2019 | N1: Copa Patesko de Ciclismo - Campos dos Goytacazes-RJ - 23 e 24/03/2019 | O1: XLI Corrida Ciclística Antonio Assmar/3 Amores - Macapá-AP - 10/03/2019 | P1: 4º Desafio Sesc Verão de Ciclismo - Sorocaba-SP - 24/02/2019 | Q1: XXXIII GP Israel de Freitas - Macapá-AP - 17/02/2019
A2: RANKING ESTRADA INF.JUV.MASCULINO | E2: ='Data de Atualização'!$A$1 -> 43595
A3: POS | B3: LICENÇA | C3: CORREDOR | D3: CATEG | E3: EQUIPE | F3: FED | G3: PTOS | J3: 5 | K3: 3 | L3: 3 | M3: 4 | N3: 5 | O3: 3 | P3: 3 | Q3: 5
A4: 1 | B4: 02.37931.19 | C4: LUCAS EMANUEL BARBOSA DOS SANTOS | D4: MINF | E4: ASSOCIAÇÃO JOINVILLENSE DE CICLISMO - AJOCICLO | F4: SC | G4: =SUM(I4:Q4) -> 80 | K4: 40 | L4: 40
A5: 2 | B5: 26.34397.18 | C5: WILK GUILHERME DE PAULA MAGALHÃES | D5: MINF | E5: EQUIPE FÊNIX DE CICLISMO AMAPAENSE | F5: AP | G5: =SUM(I5:Q5) -> 45 | O5: 40 | Q5: 5
A6: 3 | B6: 04.32271.17 | C6: ANDREY BRAGUINI ANDRÉ | D6: MINF | E6: INDAIATUBA CYCLE TEAM | F6: SP | G6: =SUM(I6:Q6) -> 40 | P6: 40
A7: 3 | B7: 03.34609.18 | C7: SERGIO HENRIQUE ARMACOLO BATISTA | D7: MINF | E7: PREFEITURA MUNICIPAL DE ROLÂNDIA | F7: PR | G7: =SUM(I7:Q7) -> 40 | M7: 40
A8: 4 | B8: 03.38138.19 | C8: JOÃO VITOR BRAGA LIMA | D8: MINF | E8: PREFEITURA MUNICIPAL DE ROLÂNDIA | F8: PR | G8: =SUM(I8:Q8) -> 35 | M8: 35
A9: 5 | B9: 26.37576.19 | C9: ALEX KAUE PANTOJA SILVA | D9: MINF | E9: PAPA LÉGUAS CYCLING TEAM | F9: AP | G9: =SUM(I9:Q9) -> 32.5 | O9: 32.5
A10: 6 | B10: 03.38865.19 | C10: HECTOR DE SCHIPPER FURQUIM | D10: MINF | E10: ASSOCIAÇÃO GUARAPUAVANA DE CICLISMO | F10: PR | G10: =SUM(I10:Q10) -> 30 | M10: 30
A11: 7 | B11: 03.37254.18 | C11: JOÃO MIGUEL DOS SANTOS BALAN | D11: MINF | E11: PREFEITURA MUNICIPAL DE ROLÂNDIA | F11: PR | G11: =SUM(I11:Q11) -> 25 | M11: 25
A12: 8 | B12: 03.38098.19 | C12: MATHEUS ANTONIO ALVES | D12: MINF | E12: PREFEITURA MUNICIPAL DE ROLÂNDIA | F12: PR | G12: =SUM(I12:Q12) -> 20 | M12: 20
A13: 9 | B13: 04.38406.19 | C13: BRUNO COUTO SUGUINOSHITA | D13: MINF | E13: AVULSO | F13: SP | G13: =SUM(I13:Q13) -> 17 | M13: 17
A14: 10 | B14: 03.38431.19 | C14: GABRIEL VINICIUS PEREIRA NEGOCEK | D14: MINF | E14: AVULSO | F14: PR | G14: =SUM(I14:Q14) -> 11 | M14: 11
A15: 11 | B15: 06.33400.17 | C15: GABRIEL GOMES BARBOSA | D15: MINF | E15: AVULSO | F15: RJ | G15: =SUM(I15:Q15) -> 5 | N15: 5
A16: 11 | B16: 22.37006.18 | C16: ALEXANDRE HENRIQUE HERMES DE SOUZA | D16: MINF | E16: ZÊNITE HARD BIKE | F16: PA | G16: =SUM(I16:Q16) -> 5 | J16: 5
A17: 12 | B17: 26.37919.19 | C17: LEONARDO DE PAULA BITTENCOURT | D17: MINF | E17: EQUIPE FÊNIX DE CICLISMO AMAPAENSE | F17: AP | G17: =SUM(I17:Q17) -> 4.5 | Q17: 4.5
A18: 12 | B18: 22.38952.19 | C18: JOÃO PEDRO MAIA ELIAS | D18: MINF | E18: ACP PIRABAS | F18: PA | G18: =SUM(I18:Q18) -> 4.5 | J18: 4.5
A19: 13 | B19: 22.35555.18 | C19: VICTOR RODRIGUES DE CASTRO | D19: MINF | E19: ZÊNITE HARD BIKE | F19: PA | G19: =SUM(I19:Q19) -> 4 | J19: 4
A20: 14 | B20: 22.39120.19 | C20: VANDERSON GABRIEL NASCIMENTO DA SILVA | D20: MINF | E20: ZÊNITE HARD BIKE | F20: PA | G20: =SUM(I20:Q20) -> 3.5 | J20: 3.5
D21: MINF | G21: =SUM(I21:Q21) -> 0
D22: MINF | G22: =SUM(I22:Q22) -> 0
D23: MINF | G23: =SUM(I23:Q23) -> 0

Sheet FEL
A1: CONFEDERAÇÃO BRASILEIRA DE CICLISMO | J1: Copa Seel - Belem-PA - 14/04/2019 | K1: 11º Desafio Internacional Serra do Tepequém - Amajari-RR - 14/04/2019 | L1: 52º Circuito do Boa Vista - Joinville-SC - 14/04/2019 | M1: Gran Cup Brasil de Ciclismo - Ubatuba-SP - 14/04/2019 | N1: 31º Prova Ciclística Subida do Morro da Cruz - Florianópolis-SC - 24/03/2019 | O1: 31º Grande Premio Cidade de Curitiba - Curitiba-PR - 24/03/2019 | P1: Copa Patesko de Ciclismo - Campos dos Goytacazes-RJ - 23 e 24/03/2019 | Q1: Volta Ciclística de Passo Fundo - Passo Fundo-RS - 23 e 24/03/2019 | R1: XLI Corrida Ciclística Antonio Assmar/3 Amores - Macapá-AP - 10/03/2019 | S1: 4º Desafio Sesc Verão de Ciclismo - Sorocaba-SP - 24/02/2019 | T1: XXXIII GP Israel de Freitas - Macapá-AP - 17/02/2019 | U1: Speed Racer - Cariacica-ES - 10/02/2019
A2: RANKING ESTRADA ELITE FEMININO | E2: ='Data de Atualização'!$A$1 -> 43595
A3: POS | B3: LICENÇA | C3: CORREDOR | D3: CATEG | E3: EQUIPE | F3: FED | G3: PTOS | J3: 5 | K3: 5 | L3: 3 | M3: 4 | N3: 3 | O3: 4 | P3: 5 | Q3: 5 | R3: 3 | S3: 3 | T3: 5 | U3: 5
A4: 1 | B4: 02.21395.14 | C4: TAMIRES FANNY RADATZ | D4: FEL | E4: AVAI/FME FLORIANÓPOLIS/APGF | F4: SC | G4: =SUM(I4:U4) -> 170 | L4: 80 | N4: 55 | S4: 35
A5: 2 | B5: 02.29752.16 | C5: SYLVIA KREUGER | D5: FEL | E5: AVAI/FME FLORIANÓPOLIS/APGF | F5: SC | G5: =SUM(I5:U5) -> 165 | L5: 40 | N5: 80 | S5: 45
A6: 3 | B6: 04.23615.14 | C6: TAISE MAIARA BENATO | D6: FEL | E6: MEMORIAL / SANTOS / FUPES | F6: SP | G6: =SUM(I6:U6) -> 140 | L6: 55 | O6: 30 | S6: 55
A7: 4 | B7: 02.25815.15 | C7: PRISCILA APARECIDA CORSO DE SOUZA | D7: FEL | E7: AVAI/FME FLORIANÓPOLIS/APGF | F7: SC | G7: =SUM(I7:U7) -> 100 | L7: 35 | N7: 65
A8: 5 | B8: 26.35692.18 | C8: AGATHA DE MENEZES LEAL | D8: FEL | E8: MAGNA - SOCIEDADE ESPORTIVA RONILDO NOBRE | F8: AP | G8: =SUM(I8:U8) -> 87 | R8: 80 | T8: 7
A9: 6 | B9: 04.16265.12 | C9: LARISSA CASTELARI DE LIMA | D9: FEL | E9: AVULSO | F9: SP | G9: =SUM(I9:U9) -> 80 | S9: 80
A10: 7 | B10: 26.22449.14 | C10: BRENDA VITORIA LOBATO SIMÕES | D10: FEL | E10: TOPAZZA TEAM | F10: AP | G10: =SUM(I10:U10) -> 75 | R10: 65 | T10: 10
A11: 7 | B11: 04.22886.14 | C11: VICTORIA MARTINS REMAILI | D11: FEL | E11: MEMORIAL / SANTOS / FUPES | F11: SP | G11: =SUM(I11:U11) -> 75 | M11: 35 | S11: 40
A12: 8 | B12: 04.8423.08 | C12: TATIELLE VALADARES DE SOUZA | D12: FEL | E12: FUNVIC PINDAMONHANGABA | F12: SP | G12: =SUM(I12:U12) -> 65 | S12: 65
A13: 9 | B13: 26.7475. | C13: ODILENE RAMOS CHUCRE | D13: FEL | E13: PAPA LÉGUAS CYCLING TEAM | F13: AP | G13: =SUM(I13:U13) -> 64 | R13: 55 | T13: 9
A14: 10 | B14: 02.35837.18 | C14: JÉSSICA RAMOS RIBEIRO | D14: FEL | E14: AVAI/FME FLORIANÓPOLIS/APGF | F14: SC | G14: =SUM(I14:U14) -> 60 | L14: 30 | S14: 30
A15: 11 | B15: 02.37681.19 | C15: CLAUDIA LAUBE | D15: FEL | E15: ASSOCIAÇÃO JOINVILLENSE DE CICLISMO - AJOCICLO | F15: SC | G15: =SUM(I15:U15) -> 53 | L15: 18 | N15: 35
A16: 12 | B16: 26.760.04 | C16: LENEIDE BATISTA VIANA | D16: FEL | E16: AEBM - ASSOCIAÇÃO ESPORTIVA BRUNO MESQUITA | F16: AP | G16: =SUM(I16:U16) -> 51 | R16: 45 | T16: 6
A17: 13 | B17: 04.1660.04 | C17: LUCIENE FERREIRA DA SILVA | D17: FEL | E17: FUNVIC PINDAMONHANGABA | F17: SP | G17: =SUM(I17:U17) -> 50 | S17: 50
A18: 13 | B18: 04.19328.13 | C18: CAROLINA BARBOSA ALVES DO NASCIMENTO | D18: FEL | E18: INDAIATUBA CYCLE TEAM | F18: SP | G18: =SUM(I18:U18) -> 50 | L18: 50
A19: 14 | B19: 02.35440.18 | C19: CLÉIA MARQUES | D19: FEL | E19: FMD RIO DO SUL | F19: SC | G19: =SUM(I19:U19) -> 45 | N19: 45
A20: 14 | B20: 04.17357.12 | C20: ADRIANA AZUMA LOBO | D20: FEL | E20: INDAIATUBA CYCLE TEAM | F20: SP | G20: =SUM(I20:U20) -> 45 | L20: 45
A21: 15 | B21: 04.8306.08 | C21: LAIS MENDES SOARES SAES | D21: FEL | E21: SECRETARIA DE ESPORTES DE INDAIATUBA | F21: SP | G21: =SUM(I21:U21) -> 30 | M21: 30
A22: 16 | B22: 04.30323.16 | C22: ROSEMEIRE ALVES DA SILVA | D22: FEL | E22: AVULSO | F22: SP | G22: =SUM(I22:U22) -> 25 | S22: 25
A23: 16 | B23: 04.3729.05 | C23: CAMILA COELHO FERREIRA | D23: FEL | E23: MEMORIAL / SANTOS / FUPES | F23: SP | G23: =SUM(I23:U23) -> 25 | O23: 25
A24: 16 | B24: 04.31828.17 | C24: ERIKA SOARES CORREA | D24: FEL | E24: LULUFIVE TEAM | F24: SP | G24: =SUM(I24:U24) -> 25 | M24: 25
A25: 17 | B25: 04.16000.12 | C25: GISELE SAGGIORO GASPAROTTO | D25: FEL | E25: LULUFIVE TEAM | F25: SP | G25: =SUM(I25:U25) -> 20 | M25: 20
A26: 18 | B26: 03.28411.16 | C26: SHEILA MENDONÇA GOMES | D26: FEL | E26: CLUBE MARINGAENSE DE CICLISMO | F26: PR | G26: =SUM(I26:U26) -> 15 | O26: 15
A27: 19 | B27: 04.39018.19 | C27: GRAZIELE DE ALCANTARA | D27: FEL | E27: INSTITUTO ATHLON / SÃO JOSÉ DOS CAMPOS | F27: SP | G27: =SUM(I27:U27) -> 11 | M27: 11
A28: 20 | B28: 03.25183.15 | C28: ALINE CRISTINA YAMADA | D28: FEL | E28: CLUBE CICLISTICO ARAPONGUENSE | F28: PR | G28: =SUM(I28:U28) -> 9 | O28: 9
A29: 21 | B29: 01.37543.19 | C29: ALINE MACHADO PINTO | D29: FEL | E29: ATIVA BIKE TEAM | F29: RS | G29: =SUM(I29:U29) -> 5 | Q29: 5
A30: 21 | B30: 06.30590.17 | C30: LINE BERG OSTERGAARD | D30: FEL | E30: FÊNIX CICLISMO | F30: RJ | G30: =SUM(I30:U30) -> 5 | P30: 5
A31: 21 | B31: 28.38897.19 | C31: LUCIANA LOPES SILVA | D31: FEL | E31: EPIC BIKE TEAM | F31: RR | G31: =SUM(I31:U31) -> 5 | K31: 5
A32: 21 | B32: 22.37153.18 | C32: MICHELE DE CASSIA SILVA DIAS | D32: FEL | E32: ASALP/PA | F32: PA | G32: =SUM(I32:U32) -> 5 | J32: 5
A33: 22 | B33: 07.37792.19 | C33: AMANDA REZENDE BARRETO | D33: FEL | E33: GUARAPARI RACE TEAM - GRT | F33: ES | G33: =SUM(I33:U33) -> 4.5 | U33: 4.5
A34: 22 | B34: 06.30588.17 | C34: FRANCIELE DAIANE MENDONÇA BATISTA | D34: FEL | E34: AVULSO | F34: RJ | G34: =SUM(I34:U34) -> 4.5 | P34: 4.5
A35: 22 | B35: 28.11046.09 | C35: PAULA NERY FAVELA DEMETRIO | D35: FEL | E35: AVULSO | F35: RR | G35: =SUM(I35:U35) -> 4.5 | K35: 4.5
A36: 22 | B36: 22.33120.17 | C36: ALINE DA FONSECA BATISTA | D36: FEL | E36: ZÊNITE HARD BIKE | F36: PA | G36: =SUM(I36:U36) -> 4.5 | J36: 4.5
A37: 23 | B37: 07.34236.18 | C37: JOYCE AMANDA DOMINGOS OLIVEIRA RODRIGUES | D37: FEL | E37: ULTRA SPORTS | F37: ES | G37: =SUM(I37:U37) -> 4 | U37: 4
A38: 23 | B38: 06.10564.09 | C38: RUTH JERUSA CORREA DE SOUZA | D38: FEL | E38: AVULSO | F38: RJ | G38: =SUM(I38:U38) -> 4 | P38: 4
A39: 24 | B39: 01.37542.19 | C39: GEANE ADALGISA DE MELLO | D39: FEL | E39: EQUIPE VITESSE | F39: RS | G39: =SUM(I39:U39) -> 3 | Q39: 3
A40: 25 | B40: 01.28172.16 | C40: RAQUEL DE VILLA | D40: FEL | E40: ABC CONCRESUL | F40: RS | G40: =SUM(I40:U40) -> 2 | Q40: 2
...

Sheet F23
A1: CONFEDERAÇÃO BRASILEIRA DE CICLISMO | J1: 52º Circuito do Boa Vista - Joinville-SC - 14/04/2019 | K1: Gran Cup Brasil de Ciclismo - Ubatuba-SP - 14/04/2019 | L1: 31º Prova Ciclística Subida do Morro da Cruz - Florianópolis-SC - 24/03/2019 | M1: 31º Grande Premio Cidade de Curitiba - Curitiba-PR - 24/03/2019
A2: RANKING ESTRADA SUB 23 FEMININO | E2: ='Data de Atualização'!$A$1 -> 43595
A3: POS | B3: LICENÇA | C3: CORREDOR | D3: CATEG | E3: EQUIPE | F3: FED | G3: PTOS | J3: 3 | K3: 4 | L3: 3 | M3: 4
A4: 1 | B4: 03.12717.10 | C4: TALITA DA LUZ DE OLIVEIRA | D4: F23 | E4: LIGA DE CICLISMO CAMPOS GERAIS | F4: PR | G4: =SUM(I4:M4) -> 105 | J4: 65 | M4: 40
A5: 2 | B5: 04.10495.10 | C5: THAYNÁ ARAUJO DE LIMA | D5: F23 | E5: MEMORIAL / SANTOS / FUPES | F5: SP | G5: =SUM(I5:M5) -> 35 | M5: 35
A6: 3 | B6: 02.21297.14 | C6: VITÓRIA XAVIER CLAUDINO | D6: F23 | E6: AVULSO | F6: SC | G6: =SUM(I6:M6) -> 30 | L6: 30
A7: 4 | B7: 03.25533.15 | C7: FERNANDA APARECIDA NARDINO | D7: F23 | E7: SMELJ CURITIBA | F7: PR | G7: =SUM(I7:M7) -> 25 | J7: 25
A8: 5 | B8: 03.22637.14 | C8: NICOLLE WENDY BORGES | D8: F23 | E8: SMELJ CURITIBA | F8: PR | G8: =SUM(I8:M8) -> 21 | J8: 21
A9: 6 | B9: 03.18974.13 | C9: ESTHER FERNANDA SANTOS DA SILVA CRUZ | D9: F23 | E9: CLUBE MARINGAENSE DE CICLISMO | F9: PR | G9: =SUM(I9:M9) -> 20 | M9: 20
A10: 7 | B10: 03.16065.12 | C10: KARINA TATCHEVA SILVA | D10: F23 | E10: CLUBE MARINGAENSE DE CICLISMO | F10: PR | G10: =SUM(I10:M10) -> 17 | M10: 17
A11: 8 | B11: 03.30006.16 | C11: REBECCA FANECO PAVANELO | D11: F23 | E11: CLUBE CICLISTICO ARAPONGUENSE | F11: PR | G11: =SUM(I11:M11) -> 13 | M11: 13
A12: 8 | B12: 04.19355.13 | C12: PAULA PACHECO DE OLIVEIRA SILVA | D12: F23 | E12: AE-PATRIMÔNIO / NEXTRANS | F12: SP | G12: =SUM(I12:M12) -> 13 | K12: 13
A13: 9 | B13: 03.25077.15 | C13: BEATRIZ NASCIMENTO BATISTA | D13: F23 | E13: CLUBE MARINGAENSE DE CICLISMO | F13: PR | G13: =SUM(I13:M13) -> 7 | M13: 7
D14: F23 | G14: =SUM(I14:M14) -> 0
D15: F23 | G15: =SUM(I15:M15) -> 0

Sheet FJR
A1: CONFEDERAÇÃO BRASILEIRA DE CICLISMO | J1: 52º Circuito do Boa Vista - Joinville-SC - 14/04/2019 | K1: 31º Grande Premio Cidade de Curitiba - Curitiba-PR - 24/03/2019
A2: RANKING ESTRADA JUNIOR FEMININO | E2: ='Data de Atualização'!$A$1 -> 43595
A3: POS | B3: LICENÇA | C3: CORREDOR | D3: CATEG | E3: EQUIPE | F3: FED | G3: PTOS | J3: 3 | K3: 4
A4: 1 | B4: 03.34447.18 | C4: LUIZA EUZEBIO DE SOUZA | D4: FJR | E4: SMELJ CURITIBA | F4: PR | G4: =SUM(I4:K4) -> 60 | J4: 40 | K4: 20
A5: 2 | B5: 03.26071.15 | C5: AMANDA KUNKEL | D5: FJR | E5: CLUBE MARINGAENSE DE CICLISMO | F5: PR | G5: =SUM(I5:K5) -> 40 | K5: 40
A6: 3 | B6: 03.25185.15 | C6: JULIA MARIA CONSTANTINO | D6: FJR | E6: CLUBE CICLISTICO ARAPONGUENSE | F6: PR | G6: =SUM(I6:K6) -> 35 | K6: 35
A7: 4 | B7: 03.29758.16 | C7: VITORIA RITA DE SA | D7: FJR | E7: PREFEITURA MUNICIPAL DE ROLÂNDIA | F7: PR | G7: =SUM(I7:K7) -> 30 | K7: 30
A8: 5 | B8: 03.36232.18 | C8: MARIA VITORIA MARGONAR DOS PASSOS | D8: FJR | E8: ASSOCIAÇÃO LONDRINENSE DE CICLISMO | F8: PR | G8: =SUM(I8:K8) -> 25 | K8: 25
D9: FJR | G9: =SUM(I9:K9) -> 0
D10: FJR | G10: =SUM(I10:K10) -> 0

Sheet FJUV
A1: CONFEDERAÇÃO BRASILEIRA DE CICLISMO | J1: Copa Seel - Belem-PA - 14/04/2019 | K1: 52º Circuito do Boa Vista - Joinville-SC - 14/04/2019 | L1: 31º Grande Premio Cidade de Curitiba - Curitiba-PR - 24/03/2019 | M1: XLI Corrida Ciclística Antonio Assmar/3 Amores - Macapá-AP - 10/03/2019 | N1: 4º Desafio Sesc Verão de Ciclismo - Sorocaba-SP - 24/02/2019 | O1: XXXIII GP Israel de Freitas - Macapá-AP - 17/02/2019
A2: RANKING ESTRADA JUVENIL FEMININO | E2: ='Data de Atualização'!$A$1 -> 43595
A3: POS | B3: LICENÇA | C3: CORREDOR | D3: CATEG | E3: EQUIPE | F3: FED | G3: PTOS | J3: 5 | K3: 3 | L3: 4 | M3: 3 | N3: 3 | O3: 5
A4: 1 | B4: 03.32017.17 | C4: JENNIFER FRANCO DA ROSA ANTUNES | D4: FJUV | E4: SMELJ CURITIBA | F4: PR | G4: =SUM(I4:O4) -> 57 | K4: 40 | L4: 17
A5: 2 | B5: 26.34399.18 | C5: HELLANA PALHETA MEDEIROS | D5: FJUV | E5: EQUIPE FÊNIX DE CICLISMO AMAPAENSE | F5: AP | G5: =SUM(I5:O5) -> 45 | M5: 40 | O5: 5
A6: 3 | B6: 03.30176.16 | C6: ELOISA DO VALLE FRYDER | D6: FJUV | E6: ASSOCIAÇÃO LONDRINENSE DE CICLISMO | F6: PR | G6: =SUM(I6:O6) -> 40 | L6: 40
A7: 4 | B7: 03.32315.17 | C7: LUANA FERREIRA DA SILVA | D7: FJUV | E7: PREFEITURA MUNICIPAL DE ROLÂNDIA | F7: PR | G7: =SUM(I7:O7) -> 35 | L7: 35
A8: 5 | B8: 04.28505.16 | C8: CAMILA CRISTINA DEFENDI PINHEIRO | D8: FJUV | E8: MEMORIAL / SANTOS / FUPES | F8: SP | G8: =SUM(I8:O8) -> 32.5 | N8: 32.5
A9: 5 | B9: 02.38013.19 | C9: ALICE DA LUZ DOS SANTOS | D9: FJUV | E9: ASSOCIAÇÃO JOINVILLENSE DE CICLISMO - AJOCICLO | F9: SC | G9: =SUM(I9:O9) -> 32.5 | K9: 32.5
A10: 6 | B10: 03.32313.17 | C10: ANA JULIA SANTOS ALVES | D10: FJUV | E10: PREFEITURA MUNICIPAL DE ROLÂNDIA | F10: PR | G10: =SUM(I10:O10) -> 30 | L10: 30
A11: 7 | B11: 03.36715.18 | C11: ISABELA LETICIA SCHUSTER | D11: FJUV | E11: PREFEITURA MUNICIPAL DE ROLÂNDIA | F11: PR | G11: =SUM(I11:O11) -> 25 | L11: 25
A12: 8 | B12: 03.36478.18 | C12: MARIANA CARVALHO UHLMANN | D12: FJUV | E12: SMEL FOZ DO IGUAÇU | F12: PR | G12: =SUM(I12:O12) -> 20 | L12: 20
A13: 9 | B13: 22.35130.18 | C13: VANESSA LIMA SILVA | D13: FJUV | E13: ZÊNITE HARD BIKE | F13: PA | G13: =SUM(I13:O13) -> 5 | J13: 5
A14: 10 | B14: 22.36874.18 | C14: ESTHEFANY DO CARMO BARRADAS DAMASCENO | D14: FJUV | E14: ACP PIRABAS | F14: PA | G14: =SUM(I14:O14) -> 4.5 | J14: 4.5
D15: FJUV | G15: =SUM(I15:O15) -> 0
D16: FJUV | G16: =SUM(I16:O16) -> 0
D17: FJUV | G17: =SUM(I17:O17) -> 0

Sheet FINF
A1: CONFEDERAÇÃO BRASILEIRA DE CICLISMO | J1: Copa Seel - Belem-PA - 14/04/2019 | K1: 31º Grande Premio Cidade de Curitiba - Curitiba-PR - 24/03/2019 | L1: XLI Corrida Ciclística Antonio Assmar/3 Amores - Macapá-AP - 10/03/2019 | M1: 4º Desafio Sesc Verão de Ciclismo - Sorocaba-SP - 24/02/2019 | N1: XXXIII GP Israel de Freitas - Macapá-AP - 17/02/2019
A2: RANKING ESTRADA INF.JUV.FEMININO | E2: ='Data de Atualização'!$A$1 -> 43595
A3: POS | B3: LICENÇA | C3: CORREDOR | D3: CATEG | E3: EQUIPE | F3: FED | G3: PTOS | J3: 5 | K3: 4 | L3: 3 | M3: 3 | N3: 5
A4: 1 | B4: 26.34410.18 | C4: DEBORA PEREIRA DE SOUZA | D4: FINF | E4: PAPA LÉGUAS CYCLING TEAM | F4: AP | G4: =SUM(I4:N4) -> 49.5 | J4: 4.5 | L4: 40 | N4: 5
A5: 2 | B5: 04.31477.17 | C5: MAYRA DA COSTA E SILVA | D5: FINF | E5: MEMORIAL / SANTOS / FUPES | F5: SP | G5: =SUM(I5:N5) -> 40 | M5: 40
A6: 3 | B6: 03.36465.18 | C6: GEOVANA SANTOS DE SOUZA | D6: FINF | E6: SMEL FOZ DO IGUAÇU | F6: PR | G6: =SUM(I6:N6) -> 20 | K6: 20
A7: 4 | B7: 03.38732.19 | C7: LAVINIA GIVEGIER | D7: FINF | E7: PREFEITURA MUNICIPAL DE ROLÂNDIA | F7: PR | G7: =SUM(I7:N7) -> 17.5 | K7: 17.5
A8: 5 | B8: 03.38733.19 | C8: KAREN BEATRIZ DE MELO MARCELO | D8: FINF | E8: PREFEITURA MUNICIPAL DE ROLÂNDIA | F8: PR | G8: =SUM(I8:N8) -> 15 | K8: 15
D9: FINF | G9: =SUM(I9:N9) -> 0
D10: FINF | G10: =SUM(I10:N10) -> 0

Sheet Data de Atualização
A1: 43595
